Workbook

Sheet ŠTAFETY 10x1
A3: SPORT | B3: ŠTAFEFETOVÝ ZÁVOD 10x1 KOLO
A4: VÝSLEDKY
A6: POŘADÍ | B6: ŠKOLA | C6: VÝSLEDNÝ ČAS
A7: 1. | B7: ZŠ Komenského Čelákovice | C7: 0.0074247685 | F7: 20
A8: 2. | B8: Gymnázium Čelákovice | C8: 0.0075023148 | F8: 10
A9: 3. | B9: ZŠ a MŠ Nehvizdy | C9: 0.0075972222 | F9: 5
A10: 4. | B10: ZŠ Semice | C10: 0.0076354167 | F10: 0
A11: 5. | B11: ZŠ Kamenka Čelákovice | C11: 0.0078784722 | F11: 0
A12: 6. | B12: Gymnázium Brandýs nad Labem | C12: 0.0078900463 | F12: 0
A13: 7. | B13: ZŠ Zeleneč | C13: 0.00815625 | F13: 0
A14: 8. | B14: MILLS Čelákovice | C14: 0.008306713 | F14: 0
A15: 9. | B15: ZŠ Jirny | C15: 0.0095 | F15: 0
A16: 10. | B16: ZáŠkola Brandýs nad Labem | F16: 0
A17: 11. | B17: ZŠ Lázně Toušeň | F17: 0
A19: SEZNAM PŘIHLÁŠENÝCH
A20: ='SEZNAM ŠKOL'!B3 -> ZŠ Komenského Čelákovice | C20: ANO
A21: ='SEZNAM ŠKOL'!B4 -> ZŠ Kamenka Čelákovice | C21: NE
A22: ='SEZNAM ŠKOL'!B5 -> ZŠ a MŠ Nehvizdy | C22: ANO
A23: ='SEZNAM ŠKOL'!B6 -> ZŠ Semice | C23: ANO
A24: ='SEZNAM ŠKOL'!B7 -> ZŠ Zeleneč | C24: ANO
A25: ='SEZNAM ŠKOL'!B8 -> Gymnázium Čelákovice | C25: ANO
A26: ='SEZNAM ŠKOL'!B9 -> ZŠ Lázně Toušeň | C26: NE
A27: ='SEZNAM ŠKOL'!B10 -> MILLS Čelákovice | C27: ANO
A28: ='SEZNAM ŠKOL'!B11 -> ZŠ Jirny | C28: ANO
A29: ='SEZNAM ŠKOL'!B12 -> Gymnázium Brandýs nad Labem | C29: ANO
A30: ='SEZNAM ŠKOL'!B13 -> ZáŠkola Brandýs nad Labem | C30: ANO

Sheet MINIFOTBAL 1-3
A3: SPORT | B3: MINIFOTBAL 1. - 3. TŘÍDA
A4: VÝSLEDKY
A6: POŘADÍ | B6: ŠKOLA | C6: POČET BODŮ
A7: 1. | B7: ZŠ Komenského Čelákovice | F7: 20
A8: 2. | B8: ZŠ a MŠ Nehvizdy | F8: 10
A9: 3. | B9: ZŠ Lázně Toušeň | F9: 5
A10: 4. | B10: ZŠ Semice | F10: 0
A11: 5. | B11: ZŠ Jirny | F11: 0
A12: 6. | B12: ZŠ Kamenka Čelákovice | F12: 0
A13: 7. | B13: ZáŠkola Brandýs nad Labem | F13: 0
A14: 8. | B14: Gymnázium Brandýs nad Labem | F14: 0
A15: 9. | B15: Gymnázium Čelákovice | F15: 0
A16: 10. | B16: MILLS Čelákovice | F16: 0
A17: 11. | B17: ZŠ Zeleneč | F17: 0
A19: SEZNAM PŘIHLÁŠENÝCH
A20: ='SEZNAM ŠKOL'!B3 -> ZŠ Komenského Čelákovice | C20: NE
A21: ='SEZNAM ŠKOL'!B4 -> ZŠ Kamenka Čelákovice | C21: ANO
A22: ='SEZNAM ŠKOL'!B5 -> ZŠ a MŠ Nehvizdy | C22: NE
A23: ='SEZNAM ŠKOL'!B6 -> ZŠ Semice | C23: ANO
A24: ='SEZNAM ŠKOL'!B7 -> ZŠ Zeleneč | C24: NE
A25: ='SEZNAM ŠKOL'!B8 -> Gymnázium Čelákovice | C25: ANO
A26: ='SEZNAM ŠKOL'!B9 -> ZŠ Lázně Toušeň | C26: ANO
A27: ='SEZNAM ŠKOL'!B10 -> MILLS Čelákovice | C27: ANO
A28: ='SEZNAM ŠKOL'!B11 -> ZŠ Jirny | C28: ANO
A29: ='SEZNAM ŠKOL'!B12 -> Gymnázium Brandýs nad Labem | C29: NE
A30: ='SEZNAM ŠKOL'!B13 -> ZáŠkola Brandýs nad Labem | C30: ANO

Sheet MINIFOTBAL 4-5
A3: SPORT | B3: MINIFOTBAL 4. - 5. TŘÍDA
A4: VÝSLEDKY
A6: POŘADÍ | B6: ŠKOLA | C6: POČET BODŮ
A7: 1. | B7: ZŠ Zeleneč | F7: 20
A8: 2. | B8: ZŠ Kamenka Čelákovice | F8: 10
A9: 3. | B9: ZŠ Komenského Čelákovice | F9: 5
A10: 4. | B10: ZŠ a MŠ Nehvizdy | F10: 0
A11: 5. | B11: ZŠ Jirny | F11: 0
A12: 6. | B12: ZáŠkola Brandýs nad Labem | F12: 0
A13: 7. | B13: ZŠ Semice | F13: 0
A14: 8. | B14: ZŠ Lázně Toušeň | F14: 0
A15: 9. | B15: Gymnázium Brandýs nad Labem | F15: 0
A16: 10. | B16: Gymnázium Čelákovice | F16: 0
A17: 11. | B17: MILLS Čelákovice | F17: 0
A19: SEZNAM PŘIHLÁŠENÝCH
A20: ='SEZNAM ŠKOL'!B3 -> ZŠ Komenského Čelákovice | C20: NE
A21: ='SEZNAM ŠKOL'!B4 -> ZŠ Kamenka Čelákovice | C21: ANO
A22: ='SEZNAM ŠKOL'!B5 -> ZŠ a MŠ Nehvizdy | C22: NE
A23: ='SEZNAM ŠKOL'!B6 -> ZŠ Semice | C23: ANO
A24: ='SEZNAM ŠKOL'!B7 -> ZŠ Zeleneč | C24: NE
A25: ='SEZNAM ŠKOL'!B8 -> Gymnázium Čelákovice | C25: ANO
A26: ='SEZNAM ŠKOL'!B9 -> ZŠ Lázně Toušeň | C26: ANO
A27: ='SEZNAM ŠKOL'!B10 -> MILLS Čelákovice | C27: ANO
A28: ='SEZNAM ŠKOL'!B11 -> ZŠ Jirny | C28: ANO
A29: ='SEZNAM ŠKOL'!B12 -> Gymnázium Brandýs nad Labem | C29: ANO
A30: ='SEZNAM ŠKOL'!B13 -> ZáŠkola Brandýs nad Labem | C30: ANO

Sheet MINIFOTBAL 6-7 
A3: SPORT | B3: MINIFOTBAL 6. - 7. TŘÍDA
A4: VÝSLEDKY
A6: POŘADÍ | B6: ŠKOLA | C6: POČET BODŮ
A7: 1. | B7: ZŠ Kamenka Čelákovice | F7: 20
A8: 2. | B8: ZŠ Semice | F8: 10
A9: 3. | B9: ZŠ Zeleneč | F9: 5
A10: 4. | B10: ZŠ Komenského Čelákovice | F10: 0
A11: 5. | B11: ZŠ a MŠ Nehvizdy | F11: 0
A12: 6. | B12: Gymnázium Čelákovice | F12: 0
A13: 7. | B13: ZáŠkola Brandýs nad Labem | F13: 0
A14: 8. | B14: ZŠ Jirny | F14: 0
A15: 9. | B15: Gymnázium Brandýs nad Labem | F15: 0
A16: 10. | B16: MILLS Čelákovice | F16: 0
A17: 11. | B17: ZŠ Lázně Toušeň | F17: 0
A19: SEZNAM PŘIHLÁŠENÝCH
A20: ='SEZNAM ŠKOL'!B3 -> ZŠ Komenského Čelákovice | C20: NE
A21: ='SEZNAM ŠKOL'!B4 -> ZŠ Kamenka Čelákovice | C21: ANO
A22: ='SEZNAM ŠKOL'!B5 -> ZŠ a MŠ Nehvizdy | C22: ANO
A23: ='SEZNAM ŠKOL'!B6 -> ZŠ Semice | C23: ANO
A24: ='SEZNAM ŠKOL'!B7 -> ZŠ Zeleneč | C24: NE
A25: ='SEZNAM ŠKOL'!B8 -> Gymnázium Čelákovice | C25: ANO
A26: ='SEZNAM ŠKOL'!B9 -> ZŠ Lázně Toušeň | C26: NE
A27: ='SEZNAM ŠKOL'!B10 -> MILLS Čelákovice | C27: ANO
A28: ='SEZNAM ŠKOL'!B11 -> ZŠ Jirny | C28: ANO
A29: ='SEZNAM ŠKOL'!B12 -> Gymnázium Brandýs nad Labem | C29: ANO
A30: ='SEZNAM ŠKOL'!B13 -> ZáŠkola Brandýs nad Labem | C30: NE

Sheet MINIFOTBAL 8-9
A3: SPORT | B3: MINIFOTBAL 8. - 9. TŘÍDA
A4: VÝSLEDKY
A6: POŘADÍ | B6: ŠKOLA | C6: POČET BODŮ
A7: 1. | B7: ZŠ Zeleneč | F7: 20
A8: 2. | B8: ZŠ Kamenka Čelákovice | F8: 10
A9: 3. | B9: Gymnázium Čelákovice | F9: 5
A10: 4. | B10: ZŠ a MŠ Nehvizdy | F10: 0
A11: 5. | B11: ZŠ Semice | F11: 0
A12: 6. | B12: ZŠ Komenského Čelákovice | F12: 0
A13: 7. | B13: ZŠ Jirny | F13: 0
A14: 8. | B14: Gymnázium Brandýs nad Labem | F14: 0
A15: 9. | B15: ZáŠkola Brandýs nad Labem | F15: 0
A16: 10. | B16: MILLS Čelákovice | F16: 0
A17: 11. | B17: ZŠ Lázně Toušeň | F17: 0
A19: SEZNAM PŘIHLÁŠENÝCH
A20: ='SEZNAM ŠKOL'!B3 -> ZŠ Komenského Čelákovice | C20: ANO
A21: ='SEZNAM ŠKOL'!B4 -> ZŠ Kamenka Čelákovice | C21: NE
A22: ='SEZNAM ŠKOL'!B5 -> ZŠ a MŠ Nehvizdy | C22: ANO
A23: ='SEZNAM ŠKOL'!B6 -> ZŠ Semice | C23: ANO
A24: ='SEZNAM ŠKOL'!B7 -> ZŠ Zeleneč | C24: NE
A25: ='SEZNAM ŠKOL'!B8 -> Gymnázium Čelákovice | C25: ANO
A26: ='SEZNAM ŠKOL'!B9 -> ZŠ Lázně Toušeň | C26: NE
A27: ='SEZNAM ŠKOL'!B10 -> MILLS Čelákovice | C27: ANO
A28: ='SEZNAM ŠKOL'!B11 -> ZŠ Jirny | C28: ANO
A29: ='SEZNAM ŠKOL'!B12 -> Gymnázium Brandýs nad Labem | C29: ANO
A30: ='SEZNAM ŠKOL'!B13 -> ZáŠkola Brandýs nad Labem | C30: ANO

Sheet STOLNÍ TENIS - DÍVKY 4-5
A3: SPORT | B3: STOLNÍ TENIS - DVOUHRA DÍVKY - 4. - 5. TŘÍDA
A4: VÝSLEDKY
A6: POŘADÍ | B6: ŠKOLA | C6: PŘÍJMENÍ A JMÉNO | D6: POČET BODŮ
A7: 1. | B7: =VLOOKUP(C7,C$32:E$52,3,0) -> ZŠ Kamenka Čelákovice | C7: Dušková Viktorie | F7: 4
A8: 2. | B8: =VLOOKUP(C8,C$32:E$52,3,0) -> ZŠ Jirny | C8: Gažíková Magdalena | F8: 2
A9: 3. | B9: =VLOOKUP(C9,C$32:E$52,3,0) -> ZŠ Kamenka Čelákovice | C9: Kuklová Lucie | F9: 1
A10: 4. | B10: =VLOOKUP(C10,C$32:E$52,3,0) -> #N/A | F10: 0
A11: 5. | B11: =VLOOKUP(C11,C$32:E$52,3,0) -> #N/A | F11: 0
A12: 6. | B12: =VLOOKUP(C12,C$32:E$52,3,0) -> #N/A | F12: 0
A13: 7. | B13: =VLOOKUP(C13,C$32:E$52,3,0) -> #N/A | F13: 0
A14: 8. | B14: =VLOOKUP(C14,C$32:E$52,3,0) -> #N/A | F14: 0
A15: 9. | B15: =VLOOKUP(C15,C$32:E$52,3,0) -> #N/A | F15: 0
A16: 10. | B16: =VLOOKUP(C16,C$32:E$52,3,0) -> #N/A | F16: 0
A17: 11. | B17: =VLOOKUP(C17,C$32:E$52,3,0) -> #N/A | F17: 0
A18: 12. | B18: =VLOOKUP(C18,C$32:E$52,3,0) -> #N/A | F18: 0
A19: 13. | B19: =VLOOKUP(C19,C$32:E$52,3,0) -> #N/A | F19: 0
A20: 14. | B20: =VLOOKUP(C20,C$32:E$52,3,0) -> #N/A | F20: 0
A21: 15. | B21: =VLOOKUP(C21,C$32:E$52,3,0) -> #N/A | F21: 0
... A27: 21. | B27: =VLOOKUP(C27,C$32:E$52,3,0) -> #N/A | F27: 0
A31: SEZNAM PŘIHLÁŠENÝCH | C31: Přijmení a jméno | D31: ROK NAROZENÍ | E31: ŠKOLA
C32: Bruknerová Eliška | D32: 2012 | E32: ZáŠkola Brandýs nad Labem
C33: Jansová Valentýna | D33: 2012 | E33: ZáŠkola Brandýs nad Labem
C34: Karásková Laura | D34: 2013 | E34: ZŠ Zeleneč
C35: Holanová Sofie | E35: ZŠ Semice
C36: Jílková Alžběta | E36: ZŠ Semice
C37: Jílková Michala | E37: ZŠ Semice
C38: Suchá Viktorie | E38: ZŠ Semice
C39: Lysická Ema | D39: 2013 | E39: ZŠ Lázně Toušeň
C40: Shrbená Renata | D40: 2015 | E40: ZŠ Lázně Toušeň
C41: Choděrová Sofie | D41: 2013 | E41: ZŠ Lázně Toušeň
C42: Vojtíšková Adéla | D42: 2014 | E42: ZŠ Lázně Toušeň
C43: Kuklová Lucie | D43: 2013 | E43: ZŠ Kamenka Čelákovice
C44: Zybailová Žeňa | D44: 2013 | E44: ZŠ Kamenka Čelákovice
C45: Dušková Viktorie | D45: 2012 | E45: ZŠ Kamenka Čelákovice
C46: Gažíková Magdalena | E46: ZŠ Jirny

Sheet STOLNÍ TENIS - DÍVKY 6-7
A3: SPORT | B3: STOLNÍ TENIS - DVOUHRA DÍVKY - 6. - 7. TŘÍDA
A4: VÝSLEDKY
A6: POŘADÍ | B6: ŠKOLA | C6: PŘÍJMENÍ A JMÉNO | D6: POČET BODŮ
A7: 1. | B7: =VLOOKUP(C7,C$32:E$52,3,0) -> ZŠ Komenského Čelákovice | C7: Flekačová Justina | F7: 4
A8: 2. | B8: =VLOOKUP(C8,C$32:E$52,3,0) -> ZŠ Kamenka Čelákovice | C8: Počárovská M. | F8: 2
A9: 3. | B9: =VLOOKUP(C9,C$32:E$52,3,0) -> ZŠ Semice | C9: Houšková Veronika | F9: 1
A10: 4. | B10: =VLOOKUP(C10,C$32:E$52,3,0) -> #N/A
A11: 5. | B11: =VLOOKUP(C11,C$32:E$52,3,0) -> #N/A
A12: 6. | B12: =VLOOKUP(C12,C$32:E$52,3,0) -> #N/A
A13: 7. | B13: =VLOOKUP(C13,C$32:E$52,3,0) -> #N/A
A14: 8. | B14: =VLOOKUP(C14,C$32:E$52,3,0) -> #N/A
A15: 9. | B15: =VLOOKUP(C15,C$32:E$52,3,0) -> #N/A
A16: 10. | B16: =VLOOKUP(C16,C$32:E$52,3,0) -> #N/A
A17: 11. | B17: =VLOOKUP(C17,C$32:E$52,3,0) -> #N/A
A18: 12. | B18: =VLOOKUP(C18,C$32:E$52,3,0) -> #N/A
A19: 13. | B19: =VLOOKUP(C19,C$32:E$52,3,0) -> #N/A
A20: 14. | B20: =VLOOKUP(C20,C$32:E$52,3,0) -> #N/A
A21: 15. | B21: =VLOOKUP(C21,C$32:E$52,3,0) -> #N/A
... A27: 21. | B27: =VLOOKUP(C27,C$32:E$52,3,0) -> #N/A
A31: SEZNAM PŘIHLÁŠENÝCH | C31: Přijmení a jméno | D31: ROK NAROZENÍ | E31: ŠKOLA
C32: Ptáková Karolína | D32: 2012 | E32: ZáŠkola Brandýs nad Labem
C33: Kořínková Joelle | D33: 2012 | E33: ZáŠkola Brandýs nad Labem
C34: Fabiánová Sára | D34: 2012 | E34: ZŠ Zeleneč
C35: Houšková Veronika | D35: 2011 | E35: ZŠ Semice
C36: Procházková Karolína | D36: 2011 | E36: ZŠ Semice
C37: Semecká Martina | D37: 2012 | E37: ZŠ Semice
C38: Keltnerová Nikola | D38: 2011 | E38: ZŠ Semice
C39: Durdynetsová Diana | D39: 2009 | E39: MILLS Čelákovice
C40: Počárovská M. | D40: 2012 | E40: ZŠ Kamenka Čelákovice
C41: Kallerová Diana | D41: 2012 | E41: ZŠ Kamenka Čelákovice
C42: Kilingerová Berenika/Vaněčková Lara 6.B/7.C | D42: 2011/2010 | E42: ZŠ Kamenka Čelákovice
C43: Hašková Tereza 7.A | D43: 2011 | E43: ZŠ Kamenka Čelákovice
C44: Flekačová Justina | E44: ZŠ Komenského Čelákovice

Sheet STOLNÍ TENIS - DÍVKY 8-9
A3: SPORT | B3: STOLNÍ TENIS - DVOUHRA DÍVKY - 8. - 9. TŘÍDA
A4: VÝSLEDKY
A6: POŘADÍ | B6: ŠKOLA | C6: PŘÍJMENÍ A JMÉNO | D6: POČET BODŮ
A7: 1. | B7: =VLOOKUP(C7,C$32:E$52,3,0) -> ZŠ Komenského Čelákovice | C7: Gruľová Marie | F7: 4
A8: 2. | B8: =VLOOKUP(C8,C$32:E$52,3,0) -> ZŠ Semice | C8: Jandová Klára | F8: 2
A9: 3. | B9: =VLOOKUP(C9,C$32:E$52,3,0) -> ZŠ Komenského Čelákovice | C9: Bidzilia Sofie | F9: 1
A10: 4. | B10: =VLOOKUP(C10,C$32:E$52,3,0) -> #N/A
A11: 5. | B11: =VLOOKUP(C11,C$32:E$52,3,0) -> #N/A
A12: 6. | B12: =VLOOKUP(C12,C$32:E$52,3,0) -> #N/A
A13: 7. | B13: =VLOOKUP(C13,C$32:E$52,3,0) -> #N/A
A14: 8. | B14: =VLOOKUP(C14,C$32:E$52,3,0) -> #N/A
A15: 9. | B15: =VLOOKUP(C15,C$32:E$52,3,0) -> #N/A
A16: 10. | B16: =VLOOKUP(C16,C$32:E$52,3,0) -> #N/A
A17: 11. | B17: =VLOOKUP(C17,C$32:E$52,3,0) -> #N/A
A18: 12. | B18: =VLOOKUP(C18,C$32:E$52,3,0) -> #N/A
A19: 13. | B19: =VLOOKUP(C19,C$32:E$52,3,0) -> #N/A
A20: 14. | B20: =VLOOKUP(C20,C$32:E$52,3,0) -> #N/A
A21: 15. | B21: =VLOOKUP(C21,C$32:E$52,3,0) -> #N/A
... A27: 21. | B27: =VLOOKUP(C27,C$32:E$52,3,0) -> #N/A
A31: SEZNAM PŘIHLÁŠENÝCH | C31: Přijmení a jméno | D31: ROK NAROZENÍ | E31: ŠKOLA
C32: Václavíková Daniela | D32: 2010 | E32: ZŠ Zeleneč
C33: Jandová Klára | D33: 2008 | E33: ZŠ Semice
C34: Šimonová Sofie | D34: 2009 | E34: ZŠ Semice
C35: Jelínková Adriana | D35: 2010 | E35: ZŠ Semice
C36: Jílková Zuzana | D36: 2010 | E36: ZŠ Semice
C37: Kleinová Sylva | D37: 2010 | E37: ZŠ Kamenka Čelákovice
C38: Bernášková Nat. | D38: 2010 | E38: ZŠ Kamenka Čelákovice
C39: Chramostová Tereza | D39: 2009 | E39: ZŠ Kamenka Čelákovice
C40: Bidzilia Barbora | D40: 2009 | E40: ZŠ Kamenka Čelákovice
C41: Jeřábková Elikša | D41: 2009 | E41: Gymnázium Čelákovice
C42: Miškovská Marie Anna | D42: 2008 | E42: Gymnázium Čelákovice
C43: Dospíšilová Kamila | D43: 2009 | E43: Gymnázium Čelákovice
... C46: Hanžlíková Viktorie | D46: 2009 | E46: ZŠ Komenského Čelákovice

Sheet STOLNÍ TENIS - CHLAPCI 4-5
A3: SPORT | B3: STOLNÍ TENIS - DVOUHRA CHLAPCI - 4. - 5. TŘÍDA
A4: VÝSLEDKY
A6: POŘADÍ | B6: ŠKOLA | C6: PŘÍJMENÍ A JMÉNO | D6: POČET BODŮ
A7: 1. | B7: =VLOOKUP(C7,C$32:E$52,3,0) -> ZŠ Komenského Čelákovice | C7: Janoušek Jiří | F7: 4
A8: 2. | B8: =VLOOKUP(C8,C$32:E$52,3,0) -> ZŠ Lázně Toušeň | C8: Dušák Adam | F8: 2
A9: 3. | B9: =VLOOKUP(C9,C$32:E$52,3,0) -> ZŠ Kamenka Čelákovice | C9: Kukla Tomáš | F9: 1
A10: 4. | B10: =VLOOKUP(C10,C$32:E$52,3,0) -> #N/A
A11: 5. | B11: =VLOOKUP(C11,C$32:E$52,3,0) -> #N/A
A12: 6. | B12: =VLOOKUP(C12,C$32:E$52,3,0) -> #N/A
A13: 7. | B13: =VLOOKUP(C13,C$32:E$52,3,0) -> #N/A
A14: 8. | B14: =VLOOKUP(C14,C$32:E$52,3,0) -> #N/A
A15: 9. | B15: =VLOOKUP(C15,C$32:E$52,3,0) -> #N/A
A16: 10. | B16: =VLOOKUP(C16,C$32:E$52,3,0) -> #N/A
A17: 11. | B17: =VLOOKUP(C17,C$32:E$52,3,0) -> #N/A
A18: 12. | B18: =VLOOKUP(C18,C$32:E$52,3,0) -> #N/A
A19: 13. | B19: =VLOOKUP(C19,C$32:E$52,3,0) -> #N/A
A20: 14. | B20: =VLOOKUP(C20,C$32:E$52,3,0) -> #N/A
A21: 15. | B21: =VLOOKUP(C21,C$32:E$52,3,0) -> #N/A
... A27: 21. | B27: =VLOOKUP(C27,C$32:E$52,3,0) -> #N/A
A31: SEZNAM PŘIHLÁŠENÝCH | C31: Přijmení a jméno | D31: ROK NAROZENÍ | E31: ŠKOLA
C32: Janoušek Jiří | D32: 2014 | E32: ZŠ Komenského Čelákovice
C33: Raptoš David | D33: 2013 | E33: ZŠ Komenského Čelákovice
C34: Vaněk Boris | D34: 2013 | E34: ZŠ Komenského Čelákovice
C35: Maksymiuk Denys | D35: 2013 | E35: ZŠ Komenského Čelákovice
C36: Vlasák Vladimír | D36: 2013 | E36: ZŠ Zeleneč
C37: Pelant Marek | E37: ZŠ Semice
C38: Vacula Karel | E38: ZŠ Semice
C39: Suchý Radek | E39: ZŠ Semice
C40: Policar Matouš | E40: ZŠ Semice
C41: Dušák Adam | D41: 2013 | E41: ZŠ Lázně Toušeň
C42: Kain Maxmilián | D42: 2013 | E42: ZŠ Lázně Toušeň
C43: Agres Filip | D43: 2013 | E43: ZŠ Lázně Toušeň
C44: Nožíř Adam | D44: 2015 | E44: ZŠ Lázně Toušeň
C45: Švehla Vojtěch | D45: 2015 | E45: ZŠ Kamenka Čelákovice
C46: Kukla Tomáš | D46: 2014 | E46: ZŠ Kamenka Čelákovice
C47: Klíma Vladimír | D47: 2012 | E47: ZŠ Kamenka Čelákovice
C48: Janoušek Jiří | D48: 2014 | E48: ZŠ Komenského Čelákovice
C49: Raptoš David | D49: 2013 | E49: ZŠ Komenského Čelákovice
C50: Vaněk Boris | D50: 2013 | E50: ZŠ Komenského Čelákovice
C51: Maksymiuk Denys | D51: 2013 | E51: ZŠ Komenského Čelákovice
...

Sheet STOLNÍ TENIS - CHLAPCI 6-7
A3: SPORT | B3: STOLNÍ TENIS - DVOUHRA CHLAPCI - 6. -7. TŘÍDA
A4: VÝSLEDKY
A6: POŘADÍ | B6: ŠKOLA | C6: PŘÍJMENÍ A JMÉNO | D6: POČET BODŮ
A7: 1. | B7: =VLOOKUP(C7,C$32:E$52,3,0) -> ZŠ Zeleneč | C7: Červený Lukáš | F7: 4
A8: 2. | B8: =VLOOKUP(C8,C$32:E$52,3,0) -> ZáŠkola Brandýs nad Labem | C8: Jansa Antonín | F8: 2
A9: 3. | B9: =VLOOKUP(C9,C$32:E$52,3,0) -> ZŠ Komenského Čelákovice | C9: Mrozek Tobiáš | F9: 1
A10: 4. | B10: =VLOOKUP(C10,C$32:E$52,3,0) -> #N/A
A11: 5. | B11: =VLOOKUP(C11,C$32:E$52,3,0) -> #N/A
A12: 6. | B12: =VLOOKUP(C12,C$32:E$52,3,0) -> #N/A
A13: 7. | B13: =VLOOKUP(C13,C$32:E$52,3,0) -> #N/A
A14: 8. | B14: =VLOOKUP(C14,C$32:E$52,3,0) -> #N/A
A15: 9. | B15: =VLOOKUP(C15,C$32:E$52,3,0) -> #N/A
A16: 10. | B16: =VLOOKUP(C16,C$32:E$52,3,0) -> #N/A
A17: 11. | B17: =VLOOKUP(C17,C$32:E$52,3,0) -> #N/A
A18: 12. | B18: =VLOOKUP(C18,C$32:E$52,3,0) -> #N/A
A19: 13. | B19: =VLOOKUP(C19,C$32:E$52,3,0) -> #N/A
A20: 14. | B20: =VLOOKUP(C20,C$32:E$52,3,0) -> #N/A
A21: 15. | B21: =VLOOKUP(C21,C$32:E$52,3,0) -> #N/A
... A27: 21. | B27: =VLOOKUP(C27,C$32:E$52,3,0) -> #N/A
A31: SEZNAM PŘIHLÁŠENÝCH | C31: Přijmení a jméno | D31: ROK NAROZENÍ | E31: ŠKOLA
C32: Jansa Antonín | D32: 2011 | E32: ZáŠkola Brandýs nad Labem
C33: Mandys Matyáš | D33: 2011 | E33: ZáŠkola Brandýs nad Labem
C34: Čekan René | D34: 2011 | E34: ZŠ Zeleneč
C35: Červený Lukáš | D35: 2012 | E35: ZŠ Zeleneč
C36: Eggerth Kryštof | D36: 2012 | E36: ZŠ Zeleneč
C37: Brůček Jakub | D37: 2010 | E37: ZŠ Semice
C38: Málek Jiří | D38: 2011 | E38: ZŠ Semice
C39: Čermk Tomáš | D39: 2011 | E39: ZŠ Semice
C40: Serbus Matouš | D40: 2010 | E40: ZŠ Semice
C41: Kočvara Denis | D41: 2011 | E41: ZŠ Kamenka Čelákovice
C42: Libánský Šimon | D42: 2010 | E42: ZŠ Kamenka Čelákovice
C43: Holý Lukáš | D43: 2010 | E43: ZŠ Kamenka Čelákovice
... C52: Jecha Jakub | D52: 2012 | E52: ZŠ Komenského Čelákovice
C53: Navrátil Jakub | E53: ZŠ Jirny
C54: Škulavík Martin | E54: ZŠ Jirny
C55: Děkanovský Patrik | E55: ZŠ Jirny
C56: Opálka Robert | E56: ZŠ Jirny

Sheet STOLNÍ TENIS - CHLAPCI 8-9
A3: SPORT | B3: STOLNÍ TENIS - DVOUHRA CHLAPCI - 8. -9. TŘÍDA
A4: VÝSLEDKY
A6: POŘADÍ | B6: ŠKOLA | C6: PŘÍJMENÍ A JMÉNO | D6: POČET BODŮ
A7: 1. | B7: =VLOOKUP(C7,C$32:E$52,3,0) -> ZŠ Komenského Čelákovice | C7: Ulman Nikolas | F7: 4
A8: 2. | B8: =VLOOKUP(C8,C$32:E$52,3,0) -> ZŠ Zeleneč | C8: Fučík Vojtěch | F8: 2
A9: 3. | B9: =VLOOKUP(C9,C$32:E$52,3,0) -> ZŠ Zeleneč | C9: Červený David | F9: 1
A10: 4. | B10: =VLOOKUP(C10,C$32:E$52,3,0) -> #N/A
A11: 5. | B11: =VLOOKUP(C11,C$32:E$52,3,0) -> #N/A
A12: 6. | B12: =VLOOKUP(C12,C$32:E$52,3,0) -> #N/A
A13: 7. | B13: =VLOOKUP(C13,C$32:E$52,3,0) -> #N/A
A14: 8. | B14: =VLOOKUP(C14,C$32:E$52,3,0) -> #N/A
A15: 9. | B15: =VLOOKUP(C15,C$32:E$52,3,0) -> #N/A
A16: 10. | B16: =VLOOKUP(C16,C$32:E$52,3,0) -> #N/A
A17: 11. | B17: =VLOOKUP(C17,C$32:E$52,3,0) -> #N/A
A18: 12. | B18: =VLOOKUP(C18,C$32:E$52,3,0) -> #N/A
A19: 13. | B19: =VLOOKUP(C19,C$32:E$52,3,0) -> #N/A
A20: 14. | B20: =VLOOKUP(C20,C$32:E$52,3,0) -> #N/A
A21: 15. | B21: =VLOOKUP(C21,C$32:E$52,3,0) -> #N/A
... A27: 21. | B27: =VLOOKUP(C27,C$32:E$52,3,0) -> #N/A
A31: SEZNAM PŘIHLÁŠENÝCH | C31: Přijmení a jméno | D31: ROK NAROZENÍ | E31: ŠKOLA
C32: Červený David | D32: 2008 | E32: ZŠ Zeleneč
C33: Hiblbauer David | D33: 2009 | E33: ZŠ Zeleneč
C34: Fučík Vojtěch | D34: 2009 | E34: ZŠ Zeleneč
C35: Král Šimon | D35: 2008 | E35: ZŠ Zeleneč
C36: Kubela Kamil | D36: 2009 | E36: ZŠ Semice
C37: Aujeský Matyáš | D37: 2009 | E37: ZŠ Semice
C38: Pavliš Michal | D38: 2010 | E38: ZŠ Semice
C39: Čermák Jakub | D39: 2008 | E39: ZŠ Semice
C40: Hendrych Alex | D40: 2010 | E40: MILLS Čelákovice
C41: Hála Tomáš | D41: 2009 | E41: MILLS Čelákovice
C42: Šuráň Vítek/Boura Adam 8.B/9.B | D42: 2009 | E42: ZŠ Kamenka Čelákovice
C43: Cveček Filip 8.C | D43: 2010 | E43: ZŠ Kamenka Čelákovice
... C48: Kubík Ondřej | D48: 2009 | E48: ZŠ Komenského Čelákovice
C49: Gažík Václav | E49: ZŠ Jirny
C50: Veselý Jan | E50: ZŠ Jirny

Sheet STOLNÍ TENIS - ČTYŘHRA DÍVKY
A3: SPORT | B3: STOLNÍ TENIS - ČTYŘHRA DÍVKY - 8. - 9. TŘÍDA
A4: VÝSLEDKY
A6: POŘADÍ | B6: ŠKOLA | C6: PŘÍJMENÍ A JMÉNO | D6: POČET BODŮ
A7: 1. | B7: =VLOOKUP(C7,C$32:E$52,3,0) -> ZŠ Komenského Čelákovice | C7: Gruľová Marie a Bidzilia Sofie | F7: 4
A8: 2. | B8: =VLOOKUP(C8,C$32:E$52,3,0) -> ZŠ Semice | C8: Jandová Klára a Šimonová Sofie | F8: 2
A9: 3. | B9: =VLOOKUP(C9,C$32:E$52,3,0) -> ZŠ Kamenka Čelákovice | C9: Kallerová a Bidzilia Barbora | F9: 1
A10: 4. | B10: =VLOOKUP(C10,C$32:E$52,3,0) -> #N/A
A11: 5. | B11: =VLOOKUP(C11,C$32:E$52,3,0) -> #N/A
A12: 6. | B12: =VLOOKUP(C12,C$32:E$52,3,0) -> #N/A
A13: 7. | B13: =VLOOKUP(C13,C$32:E$52,3,0) -> #N/A
A14: 8. | B14: =VLOOKUP(C14,C$32:E$52,3,0) -> #N/A
A15: 9. | B15: =VLOOKUP(C15,C$32:E$52,3,0) -> #N/A
A16: 10. | B16: =VLOOKUP(C16,C$32:E$52,3,0) -> #N/A
A17: 11. | B17: =VLOOKUP(C17,C$32:E$52,3,0) -> #N/A
A18: 12. | B18: =VLOOKUP(C18,C$32:E$52,3,0) -> #N/A
A19: 13. | B19: =VLOOKUP(C19,C$32:E$52,3,0) -> #N/A
A20: 14. | B20: =VLOOKUP(C20,C$32:E$52,3,0) -> #N/A
A21: 15. | B21: =VLOOKUP(C21,C$32:E$52,3,0) -> #N/A
... A27: 21. | B27: =VLOOKUP(C27,C$32:E$52,3,0) -> #N/A
A31: SEZNAM PŘIHLÁŠENÝCH | C31: Přijmení a jméno | D31: ROK NAROZENÍ | E31: ŠKOLA
C32: Jandová Klára a Šimonová Sofie | E32: ZŠ Semice
C33: Semecká Martina a Jelínková Adriana | E33: ZŠ Semice
C34: Kleinová Sylva a Bernášková Nat. | E34: ZŠ Kamenka Čelákovice
C35: Kallerová a Bidzilia Barbora | E35: ZŠ Kamenka Čelákovice
C36: Gruľová Marie a Bidzilia Sofie | E36: ZŠ Komenského Čelákovice

Sheet STOLNÍ TENIS - ČTYŘHRA CHLAPCI
A3: SPORT | B3: STOLNÍ TENIS - ČTYŘHRA CHLAPCI - 8. - 9. TŘÍDA
A4: VÝSLEDKY
A6: POŘADÍ | B6: ŠKOLA | C6: PŘÍJMENÍ A JMÉNO | D6: POČET BODŮ
A7: 1. | B7: =VLOOKUP(C7,C$32:E$52,3,0) -> ZŠ Komenského Čelákovice | C7: Ulman Nikolas a Mrozek Tobiáš | F7: 4
A8: 2. | B8: =VLOOKUP(C8,C$32:E$52,3,0) -> ZŠ Semice | C8: Pavlíš Michal a Serbus Matouš | F8: 2
A9: 3. | B9: =VLOOKUP(C9,C$32:E$52,3,0) -> ZŠ Kamenka Čelákovice | C9: Cveček Filip a Hnízdil David | F9: 1
A10: 4. | B10: =VLOOKUP(C10,C$32:E$52,3,0) -> #N/A
A11: 5. | B11: =VLOOKUP(C11,C$32:E$52,3,0) -> #N/A
A12: 6. | B12: =VLOOKUP(C12,C$32:E$52,3,0) -> #N/A
A13: 7. | B13: =VLOOKUP(C13,C$32:E$52,3,0) -> #N/A
A14: 8. | B14: =VLOOKUP(C14,C$32:E$52,3,0) -> #N/A
A15: 9. | B15: =VLOOKUP(C15,C$32:E$52,3,0) -> #N/A
A16: 10. | B16: =VLOOKUP(C16,C$32:E$52,3,0) -> #N/A
A17: 11. | B17: =VLOOKUP(C17,C$32:E$52,3,0) -> #N/A
A18: 12. | B18: =VLOOKUP(C18,C$32:E$52,3,0) -> #N/A
A19: 13. | B19: =VLOOKUP(C19,C$32:E$52,3,0) -> #N/A
A20: 14. | B20: =VLOOKUP(C20,C$32:E$52,3,0) -> #N/A
A21: 15. | B21: =VLOOKUP(C21,C$32:E$52,3,0) -> #N/A
... A27: 21. | B27: =VLOOKUP(C27,C$32:E$52,3,0) -> #N/A
A31: SEZNAM PŘIHLÁŠENÝCH | C31: Přijmení a jméno | D31: ROK NAROZENÍ | E31: ŠKOLA
C32: Král Šimon a Červený David | E32: ZŠ Zeleneč
C33: Pavlíš Michal a Serbus Matouš | E33: ZŠ Semice
C34: Málek Jiří a Brůček Jakub | E34: ZŠ Semice
C35: Šuráň Vítek a Kodera Matyáš | E35: ZŠ Kamenka Čelákovice
C36: Cveček Filip a Hnízdil David | E36: ZŠ Kamenka Čelákovice
C37: Kosek Tomáš a Voldán Jakub | E37: Gymnázium Čelákovice
C38: Hurych Tomáš a Pavlas Matěj | E38: Gymnázium Čelákovice
C39: Ulman Nikolas a Mrozek Tobiáš | E39: ZŠ Komenského Čelákovice

Sheet VOLEJBAL ŽÁCI
A3: SPORT | B3: VOLEJBAL - STARŠÍ ŽÁCI 8. – 9. TŘ.
A4: VÝSLEDKY
A6: POŘADÍ | B6: ŠKOLA | C6: POČET BODŮ
A7: 1. | B7: ZŠ Komenského Čelákovice | F7: 40
A8: 2. | B8: ZŠ Kamenka Čelákovice | F8: 20
A9: 3. | B9: Gymnázium Čelákovice | F9: 10
A10: 4. | B10: MILLS Čelákovice
A11: 5. | B11: ZŠ Semice
A12: 6.
A13: 7.
A14: 8.
A15: 9.
A16: 10.
A17: 11.
A19: SEZNAM PŘIHLÁŠENÝCH
A20: ='SEZNAM ŠKOL'!B3 -> ZŠ Komenského Čelákovice | C20: NE
A21: ='SEZNAM ŠKOL'!B4 -> ZŠ Kamenka Čelákovice | C21: NE
A22: ='SEZNAM ŠKOL'!B5 -> ZŠ a MŠ Nehvizdy | C22: ANO
A23: ='SEZNAM ŠKOL'!B6 -> ZŠ Semice | C23: ANO
A24: ='SEZNAM ŠKOL'!B7 -> ZŠ Zeleneč | C24: ANO
A25: ='SEZNAM ŠKOL'!B8 -> Gymnázium Čelákovice | C25: NE
A26: ='SEZNAM ŠKOL'!B9 -> ZŠ Lázně Toušeň | C26: NE
A27: ='SEZNAM ŠKOL'!B10 -> MILLS Čelákovice | C27: NE
A28: ='SEZNAM ŠKOL'!B11 -> ZŠ Jirny | C28: ANO
A29: ='SEZNAM ŠKOL'!B12 -> Gymnázium Brandýs nad Labem | C29: NE
A30: ='SEZNAM ŠKOL'!B13 -> ZáŠkola Brandýs nad Labem | C30: ANO

Sheet VOLEJBAL ŽÁKYNĚ
A3: SPORT | B3: VOLEJBAL - STARŠÍ ŽÁKYNĚ 8. – 9. TŘ.
A4: VÝSLEDKY
A6: POŘADÍ | B6: ŠKOLA | C6: POČET BODŮ
A7: 1. | B7: ZŠ Komenského Čelákovice | F7: 40
A8: 2. | B8: Gymnázium Brandýs nad Labem | F8: 20
A9: 3. | B9: ZŠ Kamenka Čelákovice | F9: 10
A10: 4. | B10: ZŠ Semice
A11: 5. | B11: ZŠ Zeleneč
A12: 6.
A13: 7.
A14: 8.
A15: 9.
A16: 10.
A17: 11.
A19: SEZNAM PŘIHLÁŠENÝCH
A20: ='SEZNAM ŠKOL'!B3 -> ZŠ Komenského Čelákovice | C20: ANO
A21: ='SEZNAM ŠKOL'!B4 -> ZŠ Kamenka Čelákovice | C21: NE
A22: ='SEZNAM ŠKOL'!B5 -> ZŠ a MŠ Nehvizdy | C22: NE
A23: ='SEZNAM ŠKOL'!B6 -> ZŠ Semice | C23: ANO
A24: ='SEZNAM ŠKOL'!B7 -> ZŠ Zeleneč | C24: NE
A25: ='SEZNAM ŠKOL'!B8 -> Gymnázium Čelákovice | C25: NE
A26: ='SEZNAM ŠKOL'!B9 -> ZŠ Lázně Toušeň | C26: NE
A27: ='SEZNAM ŠKOL'!B10 -> MILLS Čelákovice | C27: NE
A28: ='SEZNAM ŠKOL'!B11 -> ZŠ Jirny | C28: ANO
A29: ='SEZNAM ŠKOL'!B12 -> Gymnázium Brandýs nad Labem | C29: ANO
A30: ='SEZNAM ŠKOL'!B13 -> ZáŠkola Brandýs nad Labem | C30: ANO

Sheet PŘEHAZOVANÁ
A3: SPORT | B3: PŘEHAZOVANÁ SMÍŠENÁ
A4: VÝSLEDKY
A6: POŘADÍ | B6: ŠKOLA | C6: POČET BODŮ
A7: 1. | B7: ZŠ Semice | F7: 40
A8: 2. | B8: ZŠ Lázně Toušeň | F8: 20
A9: 3. | B9: ZŠ Kamenka Čelákovice | F9: 10
A10: 4. | B10: ZŠ Komenského Čelákovice
A11: 5. | B11: MILLS Čelákovice
A12: 6.
A13: 7.
A14: 8.
A15: 9.
A16: 10.
A17: 11.
A19: SEZNAM PŘIHLÁŠENÝCH
A20: ='SEZNAM ŠKOL'!B3 -> ZŠ Komenského Čelákovice | C20: NE
A21: ='SEZNAM ŠKOL'!B4 -> ZŠ Kamenka Čelákovice | C21: NE
A22: ='SEZNAM ŠKOL'!B5 -> ZŠ a MŠ Nehvizdy | C22: NE
A23: ='SEZNAM ŠKOL'!B6 -> ZŠ Semice | C23: ANO
A24: ='SEZNAM ŠKOL'!B7 -> ZŠ Zeleneč | C24: ANO
A25: ='SEZNAM ŠKOL'!B8 -> Gymnázium Čelákovice | C25: NE
A26: ='SEZNAM ŠKOL'!B9 -> ZŠ Lázně Toušeň | C26: ANO
A27: ='SEZNAM ŠKOL'!B10 -> MILLS Čelákovice | C27: NE
A28: ='SEZNAM ŠKOL'!B11 -> ZŠ Jirny | C28: ANO
A29: ='SEZNAM ŠKOL'!B12 -> Gymnázium Brandýs nad Labem | C29: NE
A30: ='SEZNAM ŠKOL'!B13 -> ZáŠkola Brandýs nad Labem | C30: ANO

Sheet VYBÍJENÁ ŽÁCI
A3: SPORT | B3: VYBÍJENÁ - ŽÁCI 4. – 5. TŘ.
A4: VÝSLEDKY
A6: POŘADÍ | B6: ŠKOLA | C6: POČET BODŮ
A7: 1. | B7: ZŠ a MŠ Nehvizdy | F7: 20
A8: 2. | B8: ZŠ Lázně Toušeň | F8: 10
A9: 3. | B9: ZŠ Kamenka Čelákovice | F9: 5
A10: 4. | B10: ZŠ Zeleneč
A11: 5. | B11: ZŠ Semice
A12: 6. | B12: ZŠ Komenského Čelákovice
A13: 7. | B13: ZáŠkola Brandýs nad Labem
A14: 8. | B14: MILLS Čelákovice
A15: 9. | B15: ZŠ Jirny
A16: 10.
A17: 11.
A19: SEZNAM PŘIHLÁŠENÝCH
A20: ='SEZNAM ŠKOL'!B3 -> ZŠ Komenského Čelákovice | C20: NE
A21: ='SEZNAM ŠKOL'!B4 -> ZŠ Kamenka Čelákovice | C21: ANO
A22: ='SEZNAM ŠKOL'!B5 -> ZŠ a MŠ Nehvizdy | C22: NE
A23: ='SEZNAM ŠKOL'!B6 -> ZŠ Semice | C23: ANO
A24: ='SEZNAM ŠKOL'!B7 -> ZŠ Zeleneč | C24: ANO
A25: ='SEZNAM ŠKOL'!B8 -> Gymnázium Čelákovice | C25: ANO
A26: ='SEZNAM ŠKOL'!B9 -> ZŠ Lázně Toušeň | C26: ANO
A27: ='SEZNAM ŠKOL'!B10 -> MILLS Čelákovice | C27: ANO
A28: ='SEZNAM ŠKOL'!B11 -> ZŠ Jirny | C28: ANO
A29: ='SEZNAM ŠKOL'!B12 -> Gymnázium Brandýs nad Labem | C29: ANO
A30: ='SEZNAM ŠKOL'!B13 -> ZáŠkola Brandýs nad Labem | C30: ANO

Sheet VYBÍJENÁ ŽÁKYNĚ
A3: SPORT | B3: VYBÍJENÁ - ŽÁKYNĚ 4. – 5. TŘ.
A4: VÝSLEDKY
A6: POŘADÍ | B6: ŠKOLA | C6: POČET BODŮ
A7: 1. | B7: ZŠ Semice | F7: 20
A8: 2. | B8: ZŠ a MŠ Nehvizdy | F8: 10
A9: 3. | B9: ZŠ Kamenka Čelákovice | F9: 5
A10: 4. | B10: ZŠ Komenského Čelákovice
A11: 5. | B11: ZŠ Jirny
A12: 6. | B12: ZŠ Lázně Toušeň
A13: 7. | B13: ZáŠkola Brandýs nad Labem
A14: 8.
A15: 9.
A16: 10.
A17: 11.
A19: SEZNAM PŘIHLÁŠENÝCH
A20: ='SEZNAM ŠKOL'!B3 -> ZŠ Komenského Čelákovice | C20: NE
A21: ='SEZNAM ŠKOL'!B4 -> ZŠ Kamenka Čelákovice | C21: NE
A22: ='SEZNAM ŠKOL'!B5 -> ZŠ a MŠ Nehvizdy | C22: NE
A23: ='SEZNAM ŠKOL'!B6 -> ZŠ Semice | C23: ANO
A24: ='SEZNAM ŠKOL'!B7 -> ZŠ Zeleneč | C24: NE
A25: ='SEZNAM ŠKOL'!B8 -> Gymnázium Čelákovice | C25: ANO
A26: ='SEZNAM ŠKOL'!B9 -> ZŠ Lázně Toušeň | C26: ANO
A27: ='SEZNAM ŠKOL'!B10 -> MILLS Čelákovice | C27: ANO
A28: ='SEZNAM ŠKOL'!B11 -> ZŠ Jirny | C28: ANO
A29: ='SEZNAM ŠKOL'!B12 -> Gymnázium Brandýs nad Labem | C29: NE
A30: ='SEZNAM ŠKOL'!B13 -> ZáŠkola Brandýs nad Labem | C30: ANO

Sheet TENIS - DÍVKY 4-5
A3: SPORT | B3: TENIS - DVOUHRA DÍVKY - 4. - 5. TŘÍDA
A4: VÝSLEDKY
A6: POŘADÍ | B6: ŠKOLA | C6: PŘÍJMENÍ A JMÉNO | D6: POČET BODŮ
A7: 1. | B7: =VLOOKUP(C7,C$32:E$52,3,0) -> ZŠ Komenského Čelákovice | C7: Klaudová Vanda | F7: 4
A8: 2. | B8: =VLOOKUP(C8,C$32:E$52,3,0) -> MILLS Čelákovice | C8: Švarcová Barbora | F8: 2
A9: 3. | B9: =VLOOKUP(C9,C$32:E$52,3,0) -> ZŠ Semice | C9: Holanová Sofie | F9: 1
A10: 4. | B10: =VLOOKUP(C10,C$32:E$52,3,0) -> #N/A
A11: 5. | B11: =VLOOKUP(C11,C$32:E$52,3,0) -> #N/A
A12: 6. | B12: =VLOOKUP(C12,C$32:E$52,3,0) -> #N/A
A13: 7. | B13: =VLOOKUP(C13,C$32:E$52,3,0) -> #N/A
A14: 8. | B14: =VLOOKUP(C14,C$32:E$52,3,0) -> #N/A
A15: 9. | B15: =VLOOKUP(C15,C$32:E$52,3,0) -> #N/A
A16: 10. | B16: =VLOOKUP(C16,C$32:E$52,3,0) -> #N/A
A17: 11. | B17: =VLOOKUP(C17,C$32:E$52,3,0) -> #N/A
A18: 12. | B18: =VLOOKUP(C18,C$32:E$52,3,0) -> #N/A
A19: 13. | B19: =VLOOKUP(C19,C$32:E$52,3,0) -> #N/A
A20: 14. | B20: =VLOOKUP(C20,C$32:E$52,3,0) -> #N/A
A21: 15. | B21: =VLOOKUP(C21,C$32:E$52,3,0) -> #N/A
... A27: 21. | B27: =VLOOKUP(C27,C$32:E$52,3,0) -> #N/A
A31: SEZNAM PŘIHLÁŠENÝCH | C31: Přijmení a jméno | D31: ROK NAROZENÍ | E31: ŠKOLA
C32: Sofie Tomková | D32: 2013 | E32: ZŠ Zeleneč
C33: Laura Karásková | D33: 2013 | E33: ZŠ Zeleneč
C34: Smíšková Ema | D34: 2014 | E34: ZŠ a MŠ Nehvizdy
C35: Nováková Viktorie | D35: 2013 | E35: ZŠ Lázně Toušeň
C36: Brázdová Justýna | D36: 2014 | E36: ZŠ Lázně Toušeň
C37: Geistová Adéla | D37: 2014 | E37: ZŠ Lázně Toušeň
C38: Strachová Eliška | D38: 2013 | E38: MILLS Čelákovice
C39: Švarcová Barbora | D39: 2015 | E39: MILLS Čelákovice
C40: Prokopovičová Karolína | D40: 2013 | E40: ZŠ Komenského Čelákovice
C41: Klaudová Vanda | D41: 2013 | E41: ZŠ Komenského Čelákovice
C42: Chmelenská Lucie | D42: 2013 | E42: ZŠ Komenského Čelákovice
C43: Klučinová Emma | D43: 2013 | E43: ZŠ Komenského Čelákovice
C44: Holanová Sofie | E44: ZŠ Semice
C45: Brandejsová Amálie | E45: ZŠ Semice
C46: Pokorná Zuzana | E46: ZŠ Semice
C47: Břízová Karolína | E47: ZŠ Semice

Sheet TENIS - DÍVKY 6-7
A3: SPORT | B3: TENIS - DVOUHRA DÍVKY - 6. - 7. TŘÍDA
A4: VÝSLEDKY
A6: POŘADÍ | B6: ŠKOLA | C6: PŘÍJMENÍ A JMÉNO | D6: POČET BODŮ
A7: 1. | B7: =VLOOKUP(C7,C$32:E$52,3,0) -> ZŠ a MŠ Nehvizdy | C7: Kolářová Michaela | F7: 4
A8: 2. | B8: =VLOOKUP(C8,C$32:E$52,3,0) -> Gymnázium Čelákovice | C8: Beerová Katarína | F8: 2
A9: 3. | B9: =VLOOKUP(C9,C$32:E$52,3,0) -> ZŠ Kamenka Čelákovice | C9: Počárovská Marie 6.C | F9: 1
A10: 4. | B10: =VLOOKUP(C10,C$32:E$52,3,0) -> #N/A
A11: 5. | B11: =VLOOKUP(C11,C$32:E$52,3,0) -> #N/A
A12: 6. | B12: =VLOOKUP(C12,C$32:E$52,3,0) -> #N/A
A13: 7. | B13: =VLOOKUP(C13,C$32:E$52,3,0) -> #N/A
A14: 8. | B14: =VLOOKUP(C14,C$32:E$52,3,0) -> #N/A
A15: 9. | B15: =VLOOKUP(C15,C$32:E$52,3,0) -> #N/A
A16: 10. | B16: =VLOOKUP(C16,C$32:E$52,3,0) -> #N/A
A17: 11. | B17: =VLOOKUP(C17,C$32:E$52,3,0) -> #N/A
A18: 12. | B18: =VLOOKUP(C18,C$32:E$52,3,0) -> #N/A
A19: 13. | B19: =VLOOKUP(C19,C$32:E$52,3,0) -> #N/A
A20: 14. | B20: =VLOOKUP(C20,C$32:E$52,3,0) -> #N/A
A21: 15. | B21: =VLOOKUP(C21,C$32:E$52,3,0) -> #N/A
... A27: 21. | B27: =VLOOKUP(C27,C$32:E$52,3,0) -> #N/A
A31: SEZNAM PŘIHLÁŠENÝCH | C31: Přijmení a jméno | D31: ROK NAROZENÍ | E31: ŠKOLA
C32: Kolářová Michaela | D32: 2012 | E32: ZŠ a MŠ Nehvizdy
C33: Gočová Petra | D33: 2011 | E33: ZŠ a MŠ Nehvizdy
C34: Počárovská Marie 6.C | D34: 2012 | E34: ZŠ Kamenka Čelákovice
C35: Kallerová Diana 6.C | D35: 2012 | E35: ZŠ Kamenka Čelákovice
C36: Králíková Elena 6.C | D36: 2012 | E36: ZŠ Kamenka Čelákovice
C37: Modráková Kateřina 7.B | D37: 2011 | E37: ZŠ Kamenka Čelákovice
C38: Trbušková Sofie | D38: 2011 | E38: Gymnázium Čelákovice
C39: Beerová Katarína | D39: 2011 | E39: Gymnázium Čelákovice
C40: Hlásná Agáta | D40: 2011 | E40: ZŠ Komenského Čelákovice
C41: Bohuslavová Beata | D41: 2011 | E41: ZŠ Komenského Čelákovice
C42: Maršálková Natali | D42: 2011 | E42: ZŠ Komenského Čelákovice
C43: Houšková Veronika | E43: ZŠ Semice
C44: Keltnerová Nikola | E44: ZŠ Semice
C45: Semecká Martina | E45: ZŠ Semice
C46: Procházková Karolína | E46: ZŠ Semice
C47: Maďarová Agáta | E47: ZŠ Jirny

Sheet TENIS - DÍVKY 8-9
A3: SPORT | B3: TENIS - DVOUHRA DÍVKY - 8. - 9. TŘÍDA
A4: VÝSLEDKY
A6: POŘADÍ | B6: ŠKOLA | C6: PŘÍJMENÍ A JMÉNO | D6: POČET BODŮ
A7: 1. | B7: =VLOOKUP(C7,C$32:E$52,3,0) -> ZŠ Kamenka Čelákovice | C7: Bidzilia Barbora 9.A | F7: 4
A8: 2. | B8: =VLOOKUP(C8,C$32:E$52,3,0) -> ZŠ Komenského Čelákovice | C8: Bidzilia Sofie | F8: 2
A9: 3. | B9: =VLOOKUP(C9,C$32:E$52,3,0) -> ZŠ a MŠ Nehvizdy | C9: Smíšková Iva | F9: 1
A10: 4. | B10: =VLOOKUP(C10,C$32:E$52,3,0) -> #N/A
A11: 5. | B11: =VLOOKUP(C11,C$32:E$52,3,0) -> #N/A
A12: 6. | B12: =VLOOKUP(C12,C$32:E$52,3,0) -> #N/A
A13: 7. | B13: =VLOOKUP(C13,C$32:E$52,3,0) -> #N/A
A14: 8. | B14: =VLOOKUP(C14,C$32:E$52,3,0) -> #N/A
A15: 9. | B15: =VLOOKUP(C15,C$32:E$52,3,0) -> #N/A
A16: 10. | B16: =VLOOKUP(C16,C$32:E$52,3,0) -> #N/A
A17: 11. | B17: =VLOOKUP(C17,C$32:E$52,3,0) -> #N/A
A18: 12. | B18: =VLOOKUP(C18,C$32:E$52,3,0) -> #N/A
A19: 13. | B19: =VLOOKUP(C19,C$32:E$52,3,0) -> #N/A
A20: 14. | B20: =VLOOKUP(C20,C$32:E$52,3,0) -> #N/A
A21: 15. | B21: =VLOOKUP(C21,C$32:E$52,3,0) -> #N/A
... A27: 21. | B27: =VLOOKUP(C27,C$32:E$52,3,0) -> #N/A
A31: SEZNAM PŘIHLÁŠENÝCH | C31: Přijmení a jméno | D31: ROK NAROZENÍ | E31: ŠKOLA
C32: Nela Šikýřová | D32: 2010 | E32: ZŠ Zeleneč
C33: Mariana Gabrielová | D33: 2009 | E33: ZŠ Zeleneč
C34: Kolářová Daniela | D34: 2009 | E34: ZŠ a MŠ Nehvizdy
C35: Smíšková Iva | D35: 2010 | E35: ZŠ a MŠ Nehvizdy
C36: Tydlačková Nikola | D36: 2009 | E36: ZŠ a MŠ Nehvizdy
C37: Sas Karolína | D37: 2010 | E37: ZŠ a MŠ Nehvizdy
C38: Durdynetsová Diana | D38: 2009 | E38: MILLS Čelákovice
C39: Bidzilia Barbora 9.A | D39: 2009 | E39: ZŠ Kamenka Čelákovice
C40: Zumrová Matylda 8.C | D40: 2010 | E40: ZŠ Kamenka Čelákovice
C41: Bernášková Natálie 8.D | D41: 2009 | E41: ZŠ Kamenka Čelákovice
C42: Horáková Šárka 8.C | D42: 2009 | E42: ZŠ Kamenka Čelákovice
C43: Miškovská Marie Anna | D43: 2008 | E43: Gymnázium Čelákovice
... C47: Bohuslavová Aneta | D47: 2009 | E47: ZŠ Komenského Čelákovice
C48: Jandová Klára | E48: ZŠ Semice
C49: Jelínková Adriana | E49: ZŠ Semice
C50: Šimonová Sofie | E50: ZŠ Semice
C51: Novotná Aneta | E51: ZŠ Semice

Sheet TENIS - CHLAPCI 4-5
A3: SPORT | B3: TENIS - DVOUHRA CHLAPCI - 4. - 5. TŘÍDA
A4: VÝSLEDKY
A6: POŘADÍ | B6: ŠKOLA | C6: PŘÍJMENÍ A JMÉNO | D6: POČET BODŮ
A7: 1. | B7: =VLOOKUP(C7,C$32:E$52,3,0) -> ZŠ Jirny | C7: Mutinský Šimon | F7: 4
A8: 2. | B8: =VLOOKUP(C8,C$32:E$52,3,0) -> ZŠ Zeleneč | C8: Nikola Barbalič | F8: 2
A9: 3. | B9: =VLOOKUP(C9,C$32:E$52,3,0) -> ZŠ Zeleneč | C9: Vladimír Vlasák | F9: 1
A10: 4. | B10: =VLOOKUP(C10,C$32:E$52,3,0) -> #N/A
A11: 5. | B11: =VLOOKUP(C11,C$32:E$52,3,0) -> #N/A
A12: 6. | B12: =VLOOKUP(C12,C$32:E$52,3,0) -> #N/A
A13: 7. | B13: =VLOOKUP(C13,C$32:E$52,3,0) -> #N/A
A14: 8. | B14: =VLOOKUP(C14,C$32:E$52,3,0) -> #N/A
A15: 9. | B15: =VLOOKUP(C15,C$32:E$52,3,0) -> #N/A
A16: 10. | B16: =VLOOKUP(C16,C$32:E$52,3,0) -> #N/A
A17: 11. | B17: =VLOOKUP(C17,C$32:E$52,3,0) -> #N/A
A18: 12. | B18: =VLOOKUP(C18,C$32:E$52,3,0) -> #N/A
A19: 13. | B19: =VLOOKUP(C19,C$32:E$52,3,0) -> #N/A
A20: 14. | B20: =VLOOKUP(C20,C$32:E$52,3,0) -> #N/A
A21: 15. | B21: =VLOOKUP(C21,C$32:E$52,3,0) -> #N/A
... A27: 21. | B27: =VLOOKUP(C27,C$32:E$52,3,0) -> #N/A
A31: SEZNAM PŘIHLÁŠENÝCH | C31: Přijmení a jméno | D31: ROK NAROZENÍ | E31: ŠKOLA
C32: Raptoš David | D32: 2013 | E32: ZŠ Komenského Čelákovice
C33: Filip Lukáš | D33: 2014 | E33: ZŠ Komenského Čelákovice
C34: Růžička Tomáš | D34: 2014 | E34: ZŠ Komenského Čelákovice
C35: Pavel Blümel | D35: 2013 | E35: ZŠ Zeleneč
C36: Nikola Barbalič | D36: 2012 | E36: ZŠ Zeleneč
C37: Vladimír Vlasák | D37: 2013 | E37: ZŠ Zeleneč
C38: Beneš Adam | D38: 2014 | E38: ZŠ a MŠ Nehvizdy
C39: Řehák Sebastian | D39: 2013 | E39: ZŠ Lázně Toušeň
C40: Raptoš David | D40: 2013 | E40: ZŠ Komenského Čelákovice
C41: Filip Lukáš | D41: 2014 | E41: ZŠ Komenského Čelákovice
C42: Růžička Tomáš | D42: 2014 | E42: ZŠ Komenského Čelákovice
C43: Jelínek Filip | E43: ZŠ Semice
C44: Brůček Lukáš | E44: ZŠ Semice
C45: Němec Richard | E45: ZŠ Semice
C46: Pelant Marek | E46: ZŠ Semice
C47: Mutinský Šimon | E47: ZŠ Jirny

Sheet TENIS - CHLAPCI 6-7
A3: SPORT | B3: TENIS - DVOUHRA CHLAPCI - 6. - 7. TŘÍDA
A4: VÝSLEDKY
A6: POŘADÍ | B6: ŠKOLA | C6: PŘÍJMENÍ A JMÉNO | D6: POČET BODŮ
A7: 1. | B7: =VLOOKUP(C7,C$32:E$52,3,0) -> ZŠ Zeleneč | C7: Oliver Polášek | F7: 4
A8: 2. | B8: =VLOOKUP(C8,C$32:E$52,3,0) -> ZŠ Kamenka Čelákovice | C8: Soukup Marek 6.C | F8: 2
A9: 3. | B9: =VLOOKUP(C9,C$32:E$52,3,0) -> ZŠ Kamenka Čelákovice | C9: Petrtýl Daniel 7.B | F9: 1
A10: 4. | B10: =VLOOKUP(C10,C$32:E$52,3,0) -> #N/A
A11: 5. | B11: =VLOOKUP(C11,C$32:E$52,3,0) -> #N/A
A12: 6. | B12: =VLOOKUP(C12,C$32:E$52,3,0) -> #N/A
A13: 7. | B13: =VLOOKUP(C13,C$32:E$52,3,0) -> #N/A
A14: 8. | B14: =VLOOKUP(C14,C$32:E$52,3,0) -> #N/A
A15: 9. | B15: =VLOOKUP(C15,C$32:E$52,3,0) -> #N/A
A16: 10. | B16: =VLOOKUP(C16,C$32:E$52,3,0) -> #N/A
A17: 11. | B17: =VLOOKUP(C17,C$32:E$52,3,0) -> #N/A
A18: 12. | B18: =VLOOKUP(C18,C$32:E$52,3,0) -> #N/A
A19: 13. | B19: =VLOOKUP(C19,C$32:E$52,3,0) -> #N/A
A20: 14. | B20: =VLOOKUP(C20,C$32:E$52,3,0) -> #N/A
A21: 15. | B21: =VLOOKUP(C21,C$32:E$52,3,0) -> #N/A
... A27: 21. | B27: =VLOOKUP(C27,C$32:E$52,3,0) -> #N/A
A31: SEZNAM PŘIHLÁŠENÝCH | C31: Přijmení a jméno | D31: ROK NAROZENÍ | E31: ŠKOLA
C32: Oliver Polášek | D32: 2011 | E32: ZŠ Zeleneč
C33: Lukáš Červený | D33: 2012 | E33: ZŠ Zeleneč
C34: René Čekan | D34: 2011 | E34: ZŠ Zeleneč
C35: Hrstka Mikuláš | D35: 2012 | E35: ZŠ a MŠ Nehvizdy
C36: Kouba Dominik | D36: 2011 | E36: ZŠ a MŠ Nehvizdy
C37: Vodák Martin | D37: 2011 | E37: ZŠ a MŠ Nehvizdy
C38: Manhart Matěj | D38: 2011 | E38: ZŠ a MŠ Nehvizdy
C39: Durdynets Dominik | D39: 2011 | E39: MILLS Čelákovice
C40: Soukup Marek 6.C | D40: 2011 | E40: ZŠ Kamenka Čelákovice
C41: Petrtýl Daniel 7.B | D41: 2009 | E41: ZŠ Kamenka Čelákovice
C42: Holý Lukáš 7.A | D42: 2010 | E42: ZŠ Kamenka Čelákovice
C43: Bendžuch Samuel 6.C | D43: 2011 | E43: ZŠ Kamenka Čelákovice
... C48: Keřtof Jakub | D48: 2011 | E48: ZŠ Komenského Čelákovice
C49: Malý Alex | E49: ZŠ Semice
C50: Odehnal Adam | E50: ZŠ Semice
C51: Málek Jiří | E51: ZŠ Semice
C52: Vyleťal Lukáš | E52: ZŠ Semice

Sheet TENIS - CHLAPCI 8-9
A3: SPORT | B3: TENIS - DVOUHRA CHLAPCI - 8. - 9. TŘÍDA
A4: VÝSLEDKY
A6: POŘADÍ | B6: ŠKOLA | C6: PŘÍJMENÍ A JMÉNO | D6: POČET BODŮ
A7: 1. | B7: =VLOOKUP(C7,C$32:E$52,3,0) -> ZŠ Kamenka Čelákovice | C7: Kodera Matyáš 9.A | F7: 4
A8: 2. | B8: =VLOOKUP(C8,C$32:E$52,3,0) -> ZŠ a MŠ Nehvizdy | C8: Vališ Šimon | F8: 2
A9: 3. | B9: =VLOOKUP(C9,C$32:E$52,3,0) -> ZŠ Kamenka Čelákovice | C9: Cveček Filip | F9: 1
A10: 4. | B10: =VLOOKUP(C10,C$32:E$52,3,0) -> #N/A
A11: 5. | B11: =VLOOKUP(C11,C$32:E$52,3,0) -> #N/A
A12: 6. | B12: =VLOOKUP(C12,C$32:E$52,3,0) -> #N/A
A13: 7. | B13: =VLOOKUP(C13,C$32:E$52,3,0) -> #N/A
A14: 8. | B14: =VLOOKUP(C14,C$32:E$52,3,0) -> #N/A
A15: 9. | B15: =VLOOKUP(C15,C$32:E$52,3,0) -> #N/A
A16: 10. | B16: =VLOOKUP(C16,C$32:E$52,3,0) -> #N/A
A17: 11. | B17: =VLOOKUP(C17,C$32:E$52,3,0) -> #N/A
A18: 12. | B18: =VLOOKUP(C18,C$32:E$52,3,0) -> #N/A
A19: 13. | B19: =VLOOKUP(C19,C$32:E$52,3,0) -> #N/A
A20: 14. | B20: =VLOOKUP(C20,C$32:E$52,3,0) -> #N/A
A21: 15. | B21: =VLOOKUP(C21,C$32:E$52,3,0) -> #N/A
... A27: 21. | B27: =VLOOKUP(C27,C$32:E$52,3,0) -> #N/A
A31: SEZNAM PŘIHLÁŠENÝCH | C31: Přijmení a jméno | D31: ROK NAROZENÍ | E31: ŠKOLA
C32: David Červený | D32: 2008 | E32: ZŠ Zeleneč
C33: Vališ Šimon | D33: 2009 | E33: ZŠ a MŠ Nehvizdy
C34: Augusta Alex | D34: 2010 | E34: ZŠ a MŠ Nehvizdy
C35: Goč Ladislav | D35: 2008 | E35: ZŠ a MŠ Nehvizdy
C36: Hendrych Alex | D36: 2010 | E36: MILLS Čelákovice
C37: Cveček Filip | D37: 2010/2008 | E37: ZŠ Kamenka Čelákovice
C38: Kodera Matyáš 9.A | D38: 2008 | E38: ZŠ Kamenka Čelákovice
C39: Šuráň Vítek 8.B | D39: 2009 | E39: ZŠ Kamenka Čelákovice
C40: Soukal Štěpán 9.C | D40: 2008 | E40: ZŠ Kamenka Čelákovice
C41: Kosek Tomáš | D41: 2010 | E41: Gymnázium Čelákovice
C42: Hladík Lukáš | D42: 2010 | E42: Gymnázium Čelákovice
C43: Uldrich Matyáš, | D43: 2009 | E43: ZŠ Komenského Čelákovice
C44: Kudrna Kryštof | D44: 2010 | E44: ZŠ Komenského Čelákovice
C45: Holan Tomáš | E45: ZŠ Semice
C46: Kubela Kamil | E46: ZŠ Semice
C47: Čermák Jakub | E47: ZŠ Semice
C48: Pavliš Michal | E48: ZŠ Semice

Sheet TENIS - ČTYŘHRA DÍVKY
A3: SPORT | B3: TENIS - ČTYŘHRA DÍVKY - 8. 9. TŘÍDA
A4: VÝSLEDKY
A6: POŘADÍ | B6: ŠKOLA | C6: PŘÍJMENÍ A JMÉNO | D6: POČET BODŮ
A7: 1. | B7: =VLOOKUP(C7,C$32:E$52,3,0) -> ZŠ a MŠ Nehvizdy | C7: Kolářová Daniela + Smíšková Iva | F7: 4
A8: 2. | B8: =VLOOKUP(C8,C$32:E$52,3,0) -> ZŠ Kamenka Čelákovice | C8: Bidzilia Barbora 9.A a Počárovská Marie | F8: 2
A9: 3. | B9: =VLOOKUP(C9,C$32:E$52,3,0) -> ZŠ a MŠ Nehvizdy | C9: Tydlačková Nikola + Sas Karolína | F9: 1
A10: 4. | B10: =VLOOKUP(C10,C$32:E$52,3,0) -> #N/A
A11: 5. | B11: =VLOOKUP(C11,C$32:E$52,3,0) -> #N/A
A12: 6. | B12: =VLOOKUP(C12,C$32:E$52,3,0) -> #N/A
A13: 7. | B13: =VLOOKUP(C13,C$32:E$52,3,0) -> #N/A
A14: 8. | B14: =VLOOKUP(C14,C$32:E$52,3,0) -> #N/A
A15: 9. | B15: =VLOOKUP(C15,C$32:E$52,3,0) -> #N/A
A16: 10. | B16: =VLOOKUP(C16,C$32:E$52,3,0) -> #N/A
A17: 11. | B17: =VLOOKUP(C17,C$32:E$52,3,0) -> #N/A
A18: 12. | B18: =VLOOKUP(C18,C$32:E$52,3,0) -> #N/A
A19: 13. | B19: =VLOOKUP(C19,C$32:E$52,3,0) -> #N/A
A20: 14. | B20: =VLOOKUP(C20,C$32:E$52,3,0) -> #N/A
A21: 15. | B21: =VLOOKUP(C21,C$32:E$52,3,0) -> #N/A
... A27: 21. | B27: =VLOOKUP(C27,C$32:E$52,3,0) -> #N/A
A31: SEZNAM PŘIHLÁŠENÝCH | C31: Přijmení a jméno | D31: ROK NAROZENÍ | E31: ŠKOLA
C32: Nela Šikýřová a Tereza Houštecká | D32: 2010 | E32: ZŠ Zeleneč
C33: Kolářová Daniela + Smíšková Iva | D33: 2009 + 2010 | E33: ZŠ a MŠ Nehvizdy
C34: Tydlačková Nikola + Sas Karolína | D34: 2009 + 2010 | E34: ZŠ a MŠ Nehvizdy
C35: Bidzilia Barbora 9.A a Počárovská Marie | E35: ZŠ Kamenka Čelákovice
C36: Bernášková Natálie 8.D a Horáková Šárka 8.C | E36: ZŠ Kamenka Čelákovice
C37: Bidzilia Sofie, Bohuslavová Aneta | E37: ZŠ Komenského Čelákovice
C38: Jandová Klára a Jelínková Adriana | E38: ZŠ Semice
C39: Šimonová Sofie a Novotná Aneta | E39: ZŠ Semice

Sheet TENIS - ČTYŘHRA CHLAPCI
A3: SPORT | B3: TENIS - ČTYŘHRA CHLAPCI - 8. 9. TŘÍDA
A4: VÝSLEDKY
A6: POŘADÍ | B6: ŠKOLA | C6: PŘÍJMENÍ A JMÉNO | D6: POČET BODŮ
A7: 1. | B7: =VLOOKUP(C7,C$32:E$52,3,0) -> ZŠ Zeleneč | C7: Červený David+ Polášek Oliver | F7: 4
A8: 2. | B8: =VLOOKUP(C8,C$32:E$52,3,0) -> ZŠ Kamenka Čelákovice | C8: Soukup Marek a Kodera Matyáš | F8: 2
A9: 3. | B9: =VLOOKUP(C9,C$32:E$52,3,0) -> ZŠ Semice | C9: Odehnal Adam a Vyleťal Lukáš | F9: 1
A10: 4. | B10: =VLOOKUP(C10,C$32:E$52,3,0) -> #N/A
A11: 5. | B11: =VLOOKUP(C11,C$32:E$52,3,0) -> #N/A
A12: 6. | B12: =VLOOKUP(C12,C$32:E$52,3,0) -> #N/A
A13: 7. | B13: =VLOOKUP(C13,C$32:E$52,3,0) -> #N/A
A14: 8. | B14: =VLOOKUP(C14,C$32:E$52,3,0) -> #N/A
A15: 9. | B15: =VLOOKUP(C15,C$32:E$52,3,0) -> #N/A
A16: 10. | B16: =VLOOKUP(C16,C$32:E$52,3,0) -> #N/A
A17: 11. | B17: =VLOOKUP(C17,C$32:E$52,3,0) -> #N/A
A18: 12. | B18: =VLOOKUP(C18,C$32:E$52,3,0) -> #N/A
A19: 13. | B19: =VLOOKUP(C19,C$32:E$52,3,0) -> #N/A
A20: 14. | B20: =VLOOKUP(C20,C$32:E$52,3,0) -> #N/A
A21: 15. | B21: =VLOOKUP(C21,C$32:E$52,3,0) -> #N/A
... A27: 21. | B27: =VLOOKUP(C27,C$32:E$52,3,0) -> #N/A
A31: SEZNAM PŘIHLÁŠENÝCH | C31: Přijmení a jméno | D31: ROK NAROZENÍ | E31: ŠKOLA
C32: Vališ Šimon + Augusta Alex nebo Goč Ladislav | D32: 2009 + 2010 nebo 2008 | E32: ZŠ a MŠ Nehvizdy
C33: Nedorost Jakub a Kodera Matyáš | E33: ZŠ Kamenka Čelákovice
C34: Soukup Marek a Kodera Matyáš | E34: ZŠ Kamenka Čelákovice
C35: Kudrna Kryštof Uldrich Matyáš | E35: ZŠ Komenského Čelákovice
C36: Holan Tomáš a Pavliš Michal | E36: ZŠ Semice
C37: Čermák Jakub a Kubela Kamil | E37: ZŠ Semice
C38: Holan Tomáš a Pavliš Michal | E38: ZŠ Semice
C39: Odehnal Adam a Vyleťal Lukáš | E39: ZŠ Semice
C40: Červený David+ Polášek Oliver | E40: ZŠ Zeleneč

Sheet NOHEJBAL DVOJICE
A3: SPORT | B3: NOHEJBAL DVOJICE 8. - 9. TŘÍDA
A4: VÝSLEDKY
A6: POŘADÍ | B6: ŠKOLA | C6: POČET BODŮ
A7: 1. | B7: ZŠ Komenského Čelákovice | F7: 4
A8: 2. | B8: Gymnázium Čelákovice | F8: 2
A9: 3. | B9: ZŠ Zeleneč | F9: 1
A10: 4.
A11: 5.
A12: 6.
A13: 7.
A14: 8.
A15: 9.
A16: 10.
A17: 11.
A19: SEZNAM PŘIHLÁŠENÝCH
A20: ='SEZNAM ŠKOL'!B3 -> ZŠ Komenského Čelákovice | C20: NE
A21: ='SEZNAM ŠKOL'!B4 -> ZŠ Kamenka Čelákovice | C21: NE
A22: ='SEZNAM ŠKOL'!B5 -> ZŠ a MŠ Nehvizdy | C22: ANO
A23: ='SEZNAM ŠKOL'!B6 -> ZŠ Semice | C23: ANO
A24: ='SEZNAM ŠKOL'!B7 -> ZŠ Zeleneč | C24: NE
A25: ='SEZNAM ŠKOL'!B8 -> Gymnázium Čelákovice | C25: NE
A26: ='SEZNAM ŠKOL'!B9 -> ZŠ Lázně Toušeň | C26: NE
A27: ='SEZNAM ŠKOL'!B10 -> MILLS Čelákovice | C27: NE
A28: ='SEZNAM ŠKOL'!B11 -> ZŠ Jirny | C28: ANO
A29: ='SEZNAM ŠKOL'!B12 -> Gymnázium Brandýs nad Labem | C29: ANO
A30: ='SEZNAM ŠKOL'!B13 -> ZáŠkola Brandýs nad Labem | C30: ANO

Sheet NOHEJBAL TROJICE
A3: SPORT | B3: NOHEJBAL DVOJICE 8. - 9. TŘÍDA
A4: VÝSLEDKY
A6: POŘADÍ | B6: ŠKOLA | C6: POČET BODŮ
A7: 1. | B7: ZŠ Komenského Čelákovice | F7: 4
A8: 2. | B8: ZŠ Semice | F8: 2
A9: 3. | B9: ZŠ Kamenka Čelákovice | F9: 1
A10: 4.
A11: 5.
A12: 6.
A13: 7.
A14: 8.
A15: 9.
A16: 10.
A17: 11.
A19: SEZNAM PŘIHLÁŠENÝCH
A20: ='SEZNAM ŠKOL'!B3 -> ZŠ Komenského Čelákovice | C20: NE
A21: ='SEZNAM ŠKOL'!B4 -> ZŠ Kamenka Čelákovice | C21: NE
A22: ='SEZNAM ŠKOL'!B5 -> ZŠ a MŠ Nehvizdy | C22: ANO
A23: ='SEZNAM ŠKOL'!B6 -> ZŠ Semice | C23: ANO
A24: ='SEZNAM ŠKOL'!B7 -> ZŠ Zeleneč | C24: NE
A25: ='SEZNAM ŠKOL'!B8 -> Gymnázium Čelákovice | C25: NE
A26: ='SEZNAM ŠKOL'!B9 -> ZŠ Lázně Toušeň | C26: NE
A27: ='SEZNAM ŠKOL'!B10 -> MILLS Čelákovice | C27: NE
A28: ='SEZNAM ŠKOL'!B11 -> ZŠ Jirny | C28: ANO
A29: ='SEZNAM ŠKOL'!B12 -> Gymnázium Brandýs nad Labem | C29: ANO
A30: ='SEZNAM ŠKOL'!B13 -> ZáŠkola Brandýs nad Labem | C30: ANO

Sheet PL. PRSA DÍVKY - 1-3
A3: SPORT | B3: PLAVÁNÍ DÍVKY PRSA - 1. - 3. TŘÍDA
A4: VÝSLEDKY
A6: POŘADÍ | B6: ŠKOLA | C6: PŘÍJMENÍ A JMÉNO | D6: POČET BODŮ
A7: 1. | B7: =VLOOKUP(C7,C$32:E$52,3,0) -> ZŠ Semice | C7: Šubrtová Tereza | F7: 4
A8: 2. | B8: =VLOOKUP(C8,C$32:E$52,3,0) -> ZáŠkola Brandýs nad Labem | C8: Ptáková Veronika | F8: 2
A9: 3. | B9: =VLOOKUP(C9,C$32:E$52,3,0) -> ZŠ Kamenka Čelákovice | C9: Kuncová Tereza | F9: 1
A10: 4. | B10: =VLOOKUP(C10,C$32:E$52,3,0) -> #N/A
A11: 5. | B11: =VLOOKUP(C11,C$32:E$52,3,0) -> #N/A
A12: 6. | B12: =VLOOKUP(C12,C$32:E$52,3,0) -> #N/A
A13: 7. | B13: =VLOOKUP(C13,C$32:E$52,3,0) -> #N/A
A14: 8. | B14: =VLOOKUP(C14,C$32:E$52,3,0) -> #N/A
A15: 9. | B15: =VLOOKUP(C15,C$32:E$52,3,0) -> #N/A
A16: 10. | B16: =VLOOKUP(C16,C$32:E$52,3,0) -> #N/A
A17: 11. | B17: =VLOOKUP(C17,C$32:E$52,3,0) -> #N/A
A18: 12. | B18: =VLOOKUP(C18,C$32:E$52,3,0) -> #N/A
A19: 13. | B19: =VLOOKUP(C19,C$32:E$52,3,0) -> #N/A
A20: 14. | B20: =VLOOKUP(C20,C$32:E$52,3,0) -> #N/A
A21: 15. | B21: =VLOOKUP(C21,C$32:E$52,3,0) -> #N/A
... A27: 21. | B27: =VLOOKUP(C27,C$32:E$52,3,0) -> #N/A
A31: SEZNAM PŘIHLÁŠENÝCH | C31: Přijmení a jméno | D31: ROK NAROZENÍ | E31: ŠKOLA
C32: Rybová Kamila | D32: 2014 | E32: ZŠ Komenského Čelákovice
C33: Bílková Anna | D33: 2014 | E33: ZŠ Komenského Čelákovice
C34: Mengerová Alena | D34: 2015 | E34: ZáŠkola Brandýs nad Labem
C35: Jansová Barbora | D35: 2015 | E35: ZáŠkola Brandýs nad Labem
C36: Ptáková Veronika | D36: 2014 | E36: ZáŠkola Brandýs nad Labem
C37: Šimicová Jana | D37: 2015 | E37: ZŠ Zeleneč
C38: Nováková Elena | D38: 2015 | E38: ZŠ a MŠ Nehvizdy
C39: Tichá Barbora | D39: 2015 | E39: ZŠ a MŠ Nehvizdy
C40: Duží Johana | D40: 2014 | E40: ZŠ a MŠ Nehvizdy
C41: Shrbená Renata | D41: 2015 | E41: ZŠ Lázně Toušeň
C42: Zinych Nasťa | D42: 2014 | E42: ZŠ Lázně Toušeň
C43: Kunclová Alžběta | D43: 2015 | E43: ZŠ Lázně Toušeň
... C51: Šubrtová Tereza | D51: 2014 | E51: ZŠ Semice

Sheet PL. KRAUL DÍVKY - 1-3
A3: SPORT | B3: PLAVÁNÍ DÍVKY KRAUL - 1. - 3. TŘÍDA
A4: VÝSLEDKY
A6: POŘADÍ | B6: ŠKOLA | C6: PŘÍJMENÍ A JMÉNO | D6: POČET BODŮ
A7: 1. | B7: =VLOOKUP(C7,C$32:E$52,3,0) -> MILLS Čelákovice | C7: Dudová Eliška | F7: 4
A8: 2. | B8: =VLOOKUP(C8,C$32:E$52,3,0) -> ZŠ a MŠ Nehvizdy | C8: Mlsnová Gabriela | F8: 2
A9: 3. | B9: =VLOOKUP(C9,C$32:E$52,3,0) -> ZŠ Kamenka Čelákovice | C9: Kuncová Tereza | F9: 1
A10: 4. | B10: =VLOOKUP(C10,C$32:E$52,3,0) -> #N/A
A11: 5. | B11: =VLOOKUP(C11,C$32:E$52,3,0) -> #N/A
A12: 6. | B12: =VLOOKUP(C12,C$32:E$52,3,0) -> #N/A
A13: 7. | B13: =VLOOKUP(C13,C$32:E$52,3,0) -> #N/A
A14: 8. | B14: =VLOOKUP(C14,C$32:E$52,3,0) -> #N/A
A15: 9. | B15: =VLOOKUP(C15,C$32:E$52,3,0) -> #N/A
A16: 10. | B16: =VLOOKUP(C16,C$32:E$52,3,0) -> #N/A
A17: 11. | B17: =VLOOKUP(C17,C$32:E$52,3,0) -> #N/A
A18: 12. | B18: =VLOOKUP(C18,C$32:E$52,3,0) -> #N/A
A19: 13. | B19: =VLOOKUP(C19,C$32:E$52,3,0) -> #N/A
A20: 14. | B20: =VLOOKUP(C20,C$32:E$52,3,0) -> #N/A
A21: 15. | B21: =VLOOKUP(C21,C$32:E$52,3,0) -> #N/A
... A27: 21. | B27: =VLOOKUP(C27,C$32:E$52,3,0) -> #N/A
A31: SEZNAM PŘIHLÁŠENÝCH | C31: Přijmení a jméno | D31: ROK NAROZENÍ | E31: ŠKOLA
C32: Dulghier Sofia | D32: 2015 | E32: ZŠ Komenského Čelákovice
C33: Štechová Inka | D33: 2014 | E33: ZŠ Zeleneč
C34: Mlsnová Gabriela | D34: 2014 | E34: ZŠ a MŠ Nehvizdy
C35: Madáčová Laura | D35: 2014 | E35: ZŠ a MŠ Nehvizdy
C36: Duží Johana | D36: 2014 | E36: ZŠ a MŠ Nehvizdy
C37: Kunclová Alžběta | D37: 2015 | E37: ZŠ Lázně Toušeň
C38: Freudlová Jana | D38: 2014 | E38: ZŠ Lázně Toušeň
C39: Grondzarová Helena | D39: 2015 | E39: ZŠ Lázně Toušeň
C40: Dudová Eliška | D40: 2016 | E40: MILLS Čelákovice
C41: Kursová Antonie | D41: 2015 | E41: MILLS Čelákovice
C42: Kuncová Tereza | D42: 2015 | E42: ZŠ Kamenka Čelákovice
C43: Myšková Sára | D43: 2015 | E43: ZŠ Kamenka Čelákovice
... C46: Šubrtová Tereza | D46: 2014 | E46: ZŠ Semice

Sheet PL. ZNAK DÍVKY - 1-3
A3: SPORT | B3: PLAVÁNÍ DÍVKY ZNAK - 1. - 3. TŘÍDA
A4: VÝSLEDKY
A6: POŘADÍ | B6: ŠKOLA | C6: PŘÍJMENÍ A JMÉNO | D6: POČET BODŮ
A7: 1. | B7: =VLOOKUP(C7,C$32:E$52,3,0) -> ZŠ Kamenka Čelákovice | C7: Žejdíková Nikol | F7: 4
A8: 2. | B8: =VLOOKUP(C8,C$32:E$52,3,0) -> ZŠ Semice | C8: Čiháková Ema | F8: 2
A9: 3. | B9: =VLOOKUP(C9,C$32:E$52,3,0) -> ZŠ Lázně Toušeň | C9: Freudlová Jana | F9: 1
A10: 4. | B10: =VLOOKUP(C10,C$32:E$52,3,0) -> #N/A
A11: 5. | B11: =VLOOKUP(C11,C$32:E$52,3,0) -> #N/A
A12: 6. | B12: =VLOOKUP(C12,C$32:E$52,3,0) -> #N/A
A13: 7. | B13: =VLOOKUP(C13,C$32:E$52,3,0) -> #N/A
A14: 8. | B14: =VLOOKUP(C14,C$32:E$52,3,0) -> #N/A
A15: 9. | B15: =VLOOKUP(C15,C$32:E$52,3,0) -> #N/A
A16: 10. | B16: =VLOOKUP(C16,C$32:E$52,3,0) -> #N/A
A17: 11. | B17: =VLOOKUP(C17,C$32:E$52,3,0) -> #N/A
A18: 12. | B18: =VLOOKUP(C18,C$32:E$52,3,0) -> #N/A
A19: 13. | B19: =VLOOKUP(C19,C$32:E$52,3,0) -> #N/A
A20: 14. | B20: =VLOOKUP(C20,C$32:E$52,3,0) -> #N/A
A21: 15. | B21: =VLOOKUP(C21,C$32:E$52,3,0) -> #N/A
... A27: 21. | B27: =VLOOKUP(C27,C$32:E$52,3,0) -> #N/A
A31: SEZNAM PŘIHLÁŠENÝCH | C31: Přijmení a jméno | D31: ROK NAROZENÍ | E31: ŠKOLA
C32: Tichá Zuzana | D32: 2015 | E32: ZŠ Komenského Čelákovice
C33: Kučerová Natálie | D33: 2014 | E33: ZŠ Komenského Čelákovice
C34: Nováková Elena | D34: 2015 | E34: ZŠ a MŠ Nehvizdy
C35: Tichá Barbora | D35: 2015 | E35: ZŠ a MŠ Nehvizdy
C36: Mlsnová Gabriela | D36: 2014 | E36: ZŠ a MŠ Nehvizdy
C37: Shrbená Renata | D37: 2015 | E37: ZŠ Lázně Toušeň
C38: Kunclová Alžběta | D38: 2015 | E38: ZŠ Lázně Toušeň
C39: Freudlová Jana | D39: 2014 | E39: ZŠ Lázně Toušeň
C40: Dudová Eliška | D40: 2016 | E40: MILLS Čelákovice
C41: Kursová Antonie | D41: 2015 | E41: MILLS Čelákovice
C42: Hogios Ana Luna | D42: 2015 | E42: MILLS Čelákovice
C43: Myšková Sára | D43: 2015 | E43: ZŠ Kamenka Čelákovice
... C47: Šubrtová Tereza | D47: 2014 | E47: ZŠ Semice
C48: Žejdíková Nikol | E48: ZŠ Kamenka Čelákovice

Sheet PL. PRSA CHLAPCI - 1-3
A3: SPORT | B3: PLAVÁNÍ CHLAPCI PRSA - 1. - 3. TŘÍDA
A4: VÝSLEDKY
A6: POŘADÍ | B6: ŠKOLA | C6: PŘÍJMENÍ A JMÉNO | D6: POČET BODŮ
A7: 1. | B7: =VLOOKUP(C7,C$32:E$52,3,0) -> ZŠ Jirny | C7: Kavalír Jakub | F7: 4
A8: 2. | B8: =VLOOKUP(C8,C$32:E$52,3,0) -> ZŠ a MŠ Nehvizdy | C8: Říha Vojtěch | F8: 2
A9: 3. | B9: =VLOOKUP(C9,C$32:E$52,3,0) -> ZŠ Lázně Toušeň | C9: Mano Tobiáš | F9: 1
A10: 4. | B10: =VLOOKUP(C10,C$32:E$52,3,0) -> #N/A
A11: 5. | B11: =VLOOKUP(C11,C$32:E$52,3,0) -> #N/A
A12: 6. | B12: =VLOOKUP(C12,C$32:E$52,3,0) -> #N/A
A13: 7. | B13: =VLOOKUP(C13,C$32:E$52,3,0) -> #N/A
A14: 8. | B14: =VLOOKUP(C14,C$32:E$52,3,0) -> #N/A
A15: 9. | B15: =VLOOKUP(C15,C$32:E$52,3,0) -> #N/A
A16: 10. | B16: =VLOOKUP(C16,C$32:E$52,3,0) -> #N/A
A17: 11. | B17: =VLOOKUP(C17,C$32:E$52,3,0) -> #N/A
A18: 12. | B18: =VLOOKUP(C18,C$32:E$52,3,0) -> #N/A
A19: 13. | B19: =VLOOKUP(C19,C$32:E$52,3,0) -> #N/A
A20: 14. | B20: =VLOOKUP(C20,C$32:E$52,3,0) -> #N/A
A21: 15. | B21: =VLOOKUP(C21,C$32:E$52,3,0) -> #N/A
... A27: 21. | B27: =VLOOKUP(C27,C$32:E$52,3,0) -> #N/A
A31: SEZNAM PŘIHLÁŠENÝCH | C31: Přijmení a jméno | D31: ROK NAROZENÍ | E31: ŠKOLA
C32: Klusoň Martin | D32: 2015 | E32: ZŠ Komenského Čelákovice
C33: Langer Filip | D33: 2015 | E33: ZáŠkola Brandýs nad Labem
C34: Papež Kryštof | D34: 2015 | E34: ZáŠkola Brandýs nad Labem
C35: Petruška Lumír | D35: 2015 | E35: ZáŠkola Brandýs nad Labem
C36: Říha Vojtěch | D36: 2014 | E36: ZŠ a MŠ Nehvizdy
C37: Vaculík Michael Christopher | D37: 2015 | E37: ZŠ a MŠ Nehvizdy
C38: Krejčík Kryštof | D38: 2015 | E38: ZŠ a MŠ Nehvizdy
C39: Mano Tobiáš | D39: 2015 | E39: ZŠ Lázně Toušeň
C40: Antal Ivan | D40: 2014 | E40: ZŠ Lázně Toušeň
C41: Hřebíček Adam | D41: 2014 | E41: ZŠ Lázně Toušeň
C42: Falc Adam | D42: 2016 | E42: MILLS Čelákovice
C43: Maták Oliver | D43: 2016 | E43: MILLS Čelákovice
... C49: Brůček Lukáš | D49: 2014 | E49: ZŠ Semice
C50: Kavalír Jakub | E50: ZŠ Jirny

Sheet PL. KRAUL CHLAPCI - 1-3
A3: SPORT | B3: PLAVÁNÍ CHLAPCI KRAUL - 1. - 3. TŘÍDA
A4: VÝSLEDKY
A6: POŘADÍ | B6: ŠKOLA | C6: PŘÍJMENÍ A JMÉNO | D6: POČET BODŮ
A7: 1. | B7: =VLOOKUP(C7,C$32:E$52,3,0) -> ZŠ a MŠ Nehvizdy | C7: Říha Vojtěch | F7: 4
A8: 2. | B8: =VLOOKUP(C8,C$32:E$52,3,0) -> ZŠ Kamenka Čelákovice | C8: Kočvara Matouš | F8: 2
A9: 3. | B9: =VLOOKUP(C9,C$32:E$52,3,0) -> ZŠ Jirny | C9: Kavalír Jakub | F9: 1
A10: 4. | B10: =VLOOKUP(C10,C$32:E$52,3,0) -> #N/A
A11: 5. | B11: =VLOOKUP(C11,C$32:E$52,3,0) -> #N/A
A12: 6. | B12: =VLOOKUP(C12,C$32:E$52,3,0) -> #N/A
A13: 7. | B13: =VLOOKUP(C13,C$32:E$52,3,0) -> #N/A
A14: 8. | B14: =VLOOKUP(C14,C$32:E$52,3,0) -> #N/A
A15: 9. | B15: =VLOOKUP(C15,C$32:E$52,3,0) -> #N/A
A16: 10. | B16: =VLOOKUP(C16,C$32:E$52,3,0) -> #N/A
A17: 11. | B17: =VLOOKUP(C17,C$32:E$52,3,0) -> #N/A
A18: 12. | B18: =VLOOKUP(C18,C$32:E$52,3,0) -> #N/A
A19: 13. | B19: =VLOOKUP(C19,C$32:E$52,3,0) -> #N/A
A20: 14. | B20: =VLOOKUP(C20,C$32:E$52,3,0) -> #N/A
A21: 15. | B21: =VLOOKUP(C21,C$32:E$52,3,0) -> #N/A
... A27: 21. | B27: =VLOOKUP(C27,C$32:E$52,3,0) -> #N/A
A31: SEZNAM PŘIHLÁŠENÝCH | C31: Přijmení a jméno | D31: ROK NAROZENÍ | E31: ŠKOLA
C32: Říha Vojtěch | D32: 2014 | E32: ZŠ a MŠ Nehvizdy
C33: Vaculík Michael Christopher | D33: 2015 | E33: ZŠ a MŠ Nehvizdy
C34: Krejčík Kryštof | D34: 2015 | E34: ZŠ a MŠ Nehvizdy
C35: Mano Tobiáš | D35: 2015 | E35: ZŠ Lázně Toušeň
C36: Borecký Lukáš | D36: 2015 | E36: ZŠ Lázně Toušeň
C37: Hrábek Lukáš | D37: 2014 | E37: ZŠ Lázně Toušeň
C38: Jirků Daniel | D38: 2014 | E38: MILLS Čelákovice
C39: Maták Oliver | D39: 2016 | E39: MILLS Čelákovice
C40: Falc Adam | D40: 2016 | E40: MILLS Čelákovice
C41: Havlíček Jonáš | D41: 2016 | E41: ZŠ Kamenka Čelákovice
C42: Kočvara Matouš | D42: 2015 | E42: ZŠ Kamenka Čelákovice
C43: Němec Richard | D43: 2015 | E43: ZŠ Semice
... C45: Brůček Lukáš | D45: 2014 | E45: ZŠ Semice
C46: Kavalír Jakub | E46: ZŠ Jirny

Sheet PL. ZNAK CHLAPCI - 1-3
A3: SPORT | B3: PLAVÁNÍ CHLAPCI ZNAK - 1. - 3. TŘÍDA
A4: VÝSLEDKY
A6: POŘADÍ | B6: ŠKOLA | C6: PŘÍJMENÍ A JMÉNO | D6: POČET BODŮ
A7: 1. | B7: =VLOOKUP(C7,C$32:E$52,3,0) -> ZŠ a MŠ Nehvizdy | C7: Říha Vojtěch | F7: 4
A8: 2. | B8: =VLOOKUP(C8,C$32:E$52,3,0) -> ZŠ Jirny | C8: Kavalír Jakub | F8: 2
A9: 3. | B9: =VLOOKUP(C9,C$32:E$52,3,0) -> ZŠ Kamenka Čelákovice | C9: Kočvara Matouš | F9: 1
A10: 4. | B10: =VLOOKUP(C10,C$32:E$52,3,0) -> #N/A
A11: 5. | B11: =VLOOKUP(C11,C$32:E$52,3,0) -> #N/A
A12: 6. | B12: =VLOOKUP(C12,C$32:E$52,3,0) -> #N/A
A13: 7. | B13: =VLOOKUP(C13,C$32:E$52,3,0) -> #N/A
A14: 8. | B14: =VLOOKUP(C14,C$32:E$52,3,0) -> #N/A
A15: 9. | B15: =VLOOKUP(C15,C$32:E$52,3,0) -> #N/A
A16: 10. | B16: =VLOOKUP(C16,C$32:E$52,3,0) -> #N/A
A17: 11. | B17: =VLOOKUP(C17,C$32:E$52,3,0) -> #N/A
A18: 12. | B18: =VLOOKUP(C18,C$32:E$52,3,0) -> #N/A
A19: 13. | B19: =VLOOKUP(C19,C$32:E$52,3,0) -> #N/A
A20: 14. | B20: =VLOOKUP(C20,C$32:E$52,3,0) -> #N/A
A21: 15. | B21: =VLOOKUP(C21,C$32:E$52,3,0) -> #N/A
... A27: 21. | B27: =VLOOKUP(C27,C$32:E$52,3,0) -> #N/A
A31: SEZNAM PŘIHLÁŠENÝCH | C31: Přijmení a jméno | D31: ROK NAROZENÍ | E31: ŠKOLA
C32: Karel Hořejší Petr | D32: 2015 | E32: ZŠ Komenského Čelákovice
C33: Říha Vojtěch | D33: 2014 | E33: ZŠ a MŠ Nehvizdy
C34: Vaculík Michael Christopher | D34: 2015 | E34: ZŠ a MŠ Nehvizdy
C35: Krejčík Kryštof | D35: 2015 | E35: ZŠ a MŠ Nehvizdy
C36: Mano Tobiáš | D36: 2015 | E36: ZŠ Lázně Toušeň
C37: Hrábek Jiří | D37: 2014 | E37: ZŠ Lázně Toušeň
C38: Hřebíček Adam | D38: 2014 | E38: ZŠ Lázně Toušeň
C39: Jirků Daniel | D39: 2014 | E39: MILLS Čelákovice
C40: Maták Oliver | D40: 2016 | E40: MILLS Čelákovice
C41: Falc Adam | D41: 2016 | E41: MILLS Čelákovice
C42: Kautcký Ondřej | D42: 2016 | E42: ZŠ Kamenka Čelákovice
C43: Kočvara Matouš | D43: 2015 | E43: ZŠ Kamenka Čelákovice
... C46: Brůček Lukáš | D46: 2014 | E46: ZŠ Semice
C47: Kavalír Jakub | E47: ZŠ Jirny

Sheet PL. PRSA DÍVKY - 4-5
A3: SPORT | B3: PLAVÁNÍ DÍVKY PRSA - 4. - 5. TŘÍDA
A4: VÝSLEDKY
A6: POŘADÍ | B6: ŠKOLA | C6: PŘÍJMENÍ A JMÉNO | D6: POČET BODŮ
A7: 1. | B7: =VLOOKUP(C7,C$32:E$52,3,0) -> ZŠ Lázně Toušeň | C7: Brázdová Justýna
A8: 2. | B8: =VLOOKUP(C8,C$32:E$52,3,0) -> MILLS Čelákovice | C8: Kolářová Anežka
A9: 3. | B9: =VLOOKUP(C9,C$32:E$52,3,0) -> ZŠ Kamenka Čelákovice | C9: Kernerová Michaela
A10: 4. | B10: =VLOOKUP(C10,C$32:E$52,3,0) -> #N/A
A11: 5. | B11: =VLOOKUP(C11,C$32:E$52,3,0) -> #N/A
A12: 6. | B12: =VLOOKUP(C12,C$32:E$52,3,0) -> #N/A
A13: 7. | B13: =VLOOKUP(C13,C$32:E$52,3,0) -> #N/A
A14: 8. | B14: =VLOOKUP(C14,C$32:E$52,3,0) -> #N/A
A15: 9. | B15: =VLOOKUP(C15,C$32:E$52,3,0) -> #N/A
A16: 10. | B16: =VLOOKUP(C16,C$32:E$52,3,0) -> #N/A
A17: 11. | B17: =VLOOKUP(C17,C$32:E$52,3,0) -> #N/A
A18: 12. | B18: =VLOOKUP(C18,C$32:E$52,3,0) -> #N/A
A19: 13. | B19: =VLOOKUP(C19,C$32:E$52,3,0) -> #N/A
A20: 14. | B20: =VLOOKUP(C20,C$32:E$52,3,0) -> #N/A
A21: 15. | B21: =VLOOKUP(C21,C$32:E$52,3,0) -> #N/A
... A27: 21. | B27: =VLOOKUP(C27,C$32:E$52,3,0) -> #N/A
A31: SEZNAM PŘIHLÁŠENÝCH | C31: Přijmení a jméno | D31: ROK NAROZENÍ | E31: ŠKOLA
C32: Yaroshenko Anna | D32: 2012 | E32: ZŠ Komenského Čelákovice
C33: Vidiečanová Emma | D33: 2012 | E33: ZŠ Komenského Čelákovice
C34: Žežulková Anna | D34: 2013 | E34: ZŠ Komenského Čelákovice
C35: Šafářová Sofie | D35: 2014 | E35: ZŠ Zeleneč
C36: Čudová Vanda | D36: 2012 | E36: ZŠ Zeleneč
C37: Hanzlová Amálie | D37: 2012 | E37: ZŠ a MŠ Nehvizdy
C38: Drábková Karolína | D38: 2013 | E38: ZŠ a MŠ Nehvizdy
C39: Kučíková Charlota | D39: 2013 | E39: ZŠ a MŠ Nehvizdy
C40: Brázdová Justýna | D40: 2014 | E40: ZŠ Lázně Toušeň
C41: Lysická Emma | D41: 2013 | E41: ZŠ Lázně Toušeň
C42: Šálková Erika | D42: 2013 | E42: ZŠ Lázně Toušeň
C43: Kolářová Anežka | D43: 2013 | E43: MILLS Čelákovice
... C49: Holanová Dominika | D49: 2013 | E49: ZŠ Semice
C50: Kernerová Michaela | E50: ZŠ Kamenka Čelákovice

Sheet PL. KRAUL DÍVKY - 4-5
A3: SPORT | B3: PLAVÁNÍ DÍVKY KRAUL - 4. - 5. TŘÍDA
A4: VÝSLEDKY
A6: POŘADÍ | B6: ŠKOLA | C6: PŘÍJMENÍ A JMÉNO | D6: POČET BODŮ
A7: 1. | B7: =VLOOKUP(C7,C$32:E$52,3,0) -> MILLS Čelákovice | C7: Kolářová Anežka | F7: 4
A8: 2. | B8: =VLOOKUP(C8,C$32:E$52,3,0) -> ZŠ Lázně Toušeň | C8: Brázdová Justýna | F8: 2
A9: 3. | B9: =VLOOKUP(C9,C$32:E$52,3,0) -> ZŠ Zeleneč | C9: Šafářová Sofie | F9: 1
A10: 4. | B10: =VLOOKUP(C10,C$32:E$52,3,0) -> #N/A
A11: 5. | B11: =VLOOKUP(C11,C$32:E$52,3,0) -> #N/A
A12: 6. | B12: =VLOOKUP(C12,C$32:E$52,3,0) -> #N/A
A13: 7. | B13: =VLOOKUP(C13,C$32:E$52,3,0) -> #N/A
A14: 8. | B14: =VLOOKUP(C14,C$32:E$52,3,0) -> #N/A
A15: 9. | B15: =VLOOKUP(C15,C$32:E$52,3,0) -> #N/A
A16: 10. | B16: =VLOOKUP(C16,C$32:E$52,3,0) -> #N/A
A17: 11. | B17: =VLOOKUP(C17,C$32:E$52,3,0) -> #N/A
A18: 12. | B18: =VLOOKUP(C18,C$32:E$52,3,0) -> #N/A
A19: 13. | B19: =VLOOKUP(C19,C$32:E$52,3,0) -> #N/A
A20: 14. | B20: =VLOOKUP(C20,C$32:E$52,3,0) -> #N/A
A21: 15. | B21: =VLOOKUP(C21,C$32:E$52,3,0) -> #N/A
... A27: 21. | B27: =VLOOKUP(C27,C$32:E$52,3,0) -> #N/A
A31: SEZNAM PŘIHLÁŠENÝCH | C31: Přijmení a jméno | D31: ROK NAROZENÍ | E31: ŠKOLA
C32: Ducháčková Ema | D32: 2013 | E32: ZŠ Komenského Čelákovice
C33: Musilová Ella | D33: 2013 | E33: ZŠ Komenského Čelákovice
C34: Chmelenská Lucie | D34: 2013 | E34: ZŠ Komenského Čelákovice
C35: Jourová Johana | D35: 2013 | E35: ZŠ Zeleneč
C36: Šafářová Sofie | D36: 2014 | E36: ZŠ Zeleneč
C37: Hanzlová Amálie | D37: 2012 | E37: ZŠ a MŠ Nehvizdy
