Workbook

Sheet ŠTAFETY 10x1
A3: SPORT | B3: ŠTAFEFETOVÝ ZÁVOD 10x1 KOLO
A4: VÝSLEDKY
A6: POŘADÍ | B6: ŠKOLA | C6: VÝSLEDNÝ ČAS
A7: 1. | B7: ZŠ Komenského Čelákovice | C7: 0.0074247685 | F7: 20
A8: 2. | B8: Gymnázium Čelákovice | C8: 0.0075023148 | F8: 10
A9: 3. | B9: ZŠ a MŠ Nehvizdy | C9: 0.0075972222 | F9: 5
A10: 4. | B10: ZŠ Semice | C10: 0.0076354167 | F10: 0
A11: 5. | B11: ZŠ Kamenka Čelákovice | C11: 0.0078784722 | F11: 0
A12: 6. | B12: Gymnázium Brandýs nad Labem | C12: 0.0078900463 | F12: 0
A13: 7. | B13: ZŠ Zeleneč | C13: 0.00815625 | F13: 0
A14: 8. | B14: MILLS Čelákovice | C14: 0.008306713 | F14: 0
A15: 9. | B15: ZŠ Jirny | C15: 0.0095 | F15: 0
A16: 10. | B16: ZáŠkola Brandýs nad Labem | F16: 0
A17: 11. | B17: ZŠ Lázně Toušeň | F17: 0
A19: SEZNAM PŘIHLÁŠENÝCH
A20: ='SEZNAM ŠKOL'!B3 -> ZŠ Komenského Čelákovice | C20: ANO
A21: ='SEZNAM ŠKOL'!B4 -> ZŠ Kamenka Čelákovice | C21: NE
A22: ='SEZNAM ŠKOL'!B5 -> ZŠ a MŠ Nehvizdy | C22: ANO
A23: ='SEZNAM ŠKOL'!B6 -> ZŠ Semice | C23: ANO
A24: ='SEZNAM ŠKOL'!B7 -> ZŠ Zeleneč | C24: ANO
A25: ='SEZNAM ŠKOL'!B8 -> Gymnázium Čelákovice | C25: ANO
A26: ='SEZNAM ŠKOL'!B9 -> ZŠ Lázně Toušeň | C26: NE
A27: ='SEZNAM ŠKOL'!B10 -> MILLS Čelákovice | C27: ANO
A28: ='SEZNAM ŠKOL'!B11 -> ZŠ Jirny | C28: ANO
A29: ='SEZNAM ŠKOL'!B12 -> Gymnázium Brandýs nad Labem | C29: ANO
A30: ='SEZNAM ŠKOL'!B13 -> ZáŠkola Brandýs nad Labem | C30: ANO

Sheet MINIFOTBAL 1-3
A3: SPORT | B3: MINIFOTBAL 1. - 3. TŘÍDA
A4: VÝSLEDKY
A6: POŘADÍ | B6: ŠKOLA | C6: POČET BODŮ
A7: 1. | B7: ZŠ Komenského Čelákovice | F7: 20
A8: 2. | B8: ZŠ a MŠ Nehvizdy | F8: 10
A9: 3. | B9: ZŠ Lázně Toušeň | F9: 5
A10: 4. | B10: ZŠ Semice | F10: 0
A11: 5. | B11: ZŠ Jirny | F11: 0
A12: 6. | B12: ZŠ Kamenka Čelákovice | F12: 0
A13: 7. | B13: ZáŠkola Brandýs nad Labem | F13: 0
A14: 8. | B14: Gymnázium Brandýs nad Labem | F14: 0
A15: 9. | B15: Gymnázium Čelákovice | F15: 0
A16: 10. | B16: MILLS Čelákovice | F16: 0
A17: 11. | B17: ZŠ Zeleneč | F17: 0
A19: SEZNAM PŘIHLÁŠENÝCH
A20: ='SEZNAM ŠKOL'!B3 -> ZŠ Komenského Čelákovice | C20: NE
A21: ='SEZNAM ŠKOL'!B4 -> ZŠ Kamenka Čelákovice | C21: ANO
A22: ='SEZNAM ŠKOL'!B5 -> ZŠ a MŠ Nehvizdy | C22: NE
A23: ='SEZNAM ŠKOL'!B6 -> ZŠ Semice | C23: ANO
A24: ='SEZNAM ŠKOL'!B7 -> ZŠ Zeleneč | C24: NE
A25: ='SEZNAM ŠKOL'!B8 -> Gymnázium Čelákovice | C25: ANO
A26: ='SEZNAM ŠKOL'!B9 -> ZŠ Lázně Toušeň | C26: ANO
A27: ='SEZNAM ŠKOL'!B10 -> MILLS Čelákovice | C27: ANO
A28: ='SEZNAM ŠKOL'!B11 -> ZŠ Jirny | C28: ANO
A29: ='SEZNAM ŠKOL'!B12 -> Gymnázium Brandýs nad Labem | C29: NE
A30: ='SEZNAM ŠKOL'!B13 -> ZáŠkola Brandýs nad Labem | C30: ANO

Sheet MINIFOTBAL 4-5
A3: SPORT | B3: MINIFOTBAL 4. - 5. TŘÍDA
A4: VÝSLEDKY
A6: POŘADÍ | B6: ŠKOLA | C6: POČET BODŮ
A7: 1. | B7: ZŠ Zeleneč | F7: 20
A8: 2. | B8: ZŠ Kamenka Čelákovice | F8: 10
A9: 3. | B9: ZŠ Komenského Čelákovice | F9: 5
A10: 4. | B10: ZŠ a MŠ Nehvizdy | F10: 0
A11: 5. | B11: ZŠ Jirny | F11: 0
A12: 6. | B12: ZáŠkola Brandýs nad Labem | F12: 0
A13: 7. | B13: ZŠ Semice | F13: 0
A14: 8. | B14: ZŠ Lázně Toušeň | F14: 0
A15: 9. | B15: Gymnázium Brandýs nad Labem | F15: 0
A16: 10. | B16: Gymnázium Čelákovice | F16: 0
A17: 11. | B17: MILLS Čelákovice | F17: 0
A19: SEZNAM PŘIHLÁŠENÝCH
A20: ='SEZNAM ŠKOL'!B3 -> ZŠ Komenského Čelákovice | C20: NE
A21: ='SEZNAM ŠKOL'!B4 -> ZŠ Kamenka Čelákovice | C21: ANO
A22: ='SEZNAM ŠKOL'!B5 -> ZŠ a MŠ Nehvizdy | C22: NE
A23: ='SEZNAM ŠKOL'!B6 -> ZŠ Semice | C23: ANO
A24: ='SEZNAM ŠKOL'!B7 -> ZŠ Zeleneč | C24: NE
A25: ='SEZNAM ŠKOL'!B8 -> Gymnázium Čelákovice | C25: ANO
A26: ='SEZNAM ŠKOL'!B9 -> ZŠ Lázně Toušeň | C26: ANO
A27: ='SEZNAM ŠKOL'!B10 -> MILLS Čelákovice | C27: ANO
A28: ='SEZNAM ŠKOL'!B11 -> ZŠ Jirny | C28: ANO
A29: ='SEZNAM ŠKOL'!B12 -> Gymnázium Brandýs nad Labem | C29: ANO
A30: ='SEZNAM ŠKOL'!B13 -> ZáŠkola Brandýs nad Labem | C30: ANO

Sheet MINIFOTBAL 6-7 
A3: SPORT | B3: MINIFOTBAL 6. - 7. TŘÍDA
A4: VÝSLEDKY
A6: POŘADÍ | B6: ŠKOLA | C6: POČET BODŮ
A7: 1. | B7: ZŠ Kamenka Čelákovice | F7: 20
A8: 2. | B8: ZŠ Semice | F8: 10
A9: 3. | B9: ZŠ Zeleneč | F9: 5
A10: 4. | B10: ZŠ Komenského Čelákovice | F10: 0
A11: 5. | B11: ZŠ a MŠ Nehvizdy | F11: 0
A12: 6. | B12: Gymnázium Čelákovice | F12: 0
A13: 7. | B13: ZáŠkola Brandýs nad Labem | F13: 0
A14: 8. | B14: ZŠ Jirny | F14: 0
A15: 9. | B15: Gymnázium Brandýs nad Labem | F15: 0
A16: 10. | B16: MILLS Čelákovice | F16: 0
A17: 11. | B17: ZŠ Lázně Toušeň | F17: 0
A19: SEZNAM PŘIHLÁŠENÝCH
A20: ='SEZNAM ŠKOL'!B3 -> ZŠ Komenského Čelákovice | C20: NE
A21: ='SEZNAM ŠKOL'!B4 -> ZŠ Kamenka Čelákovice | C21: ANO
A22: ='SEZNAM ŠKOL'!B5 -> ZŠ a MŠ Nehvizdy | C22: ANO
A23: ='SEZNAM ŠKOL'!B6 -> ZŠ Semice | C23: ANO
A24: ='SEZNAM ŠKOL'!B7 -> ZŠ Zeleneč | C24: NE
A25: ='SEZNAM ŠKOL'!B8 -> Gymnázium Čelákovice | C25: ANO
A26: ='SEZNAM ŠKOL'!B9 -> ZŠ Lázně Toušeň | C26: NE
A27: ='SEZNAM ŠKOL'!B10 -> MILLS Čelákovice | C27: ANO
A28: ='SEZNAM ŠKOL'!B11 -> ZŠ Jirny | C28: ANO
A29: ='SEZNAM ŠKOL'!B12 -> Gymnázium Brandýs nad Labem | C29: ANO
A30: ='SEZNAM ŠKOL'!B13 -> ZáŠkola Brandýs nad Labem | C30: NE

Sheet MINIFOTBAL 8-9
A3: SPORT | B3: MINIFOTBAL 8. - 9. TŘÍDA
A4: VÝSLEDKY
A6: POŘADÍ | B6: ŠKOLA | C6: POČET BODŮ
A7: 1. | B7: ZŠ Zeleneč | F7: 20
A8: 2. | B8: ZŠ Kamenka Čelákovice | F8: 10
A9: 3. | B9: Gymnázium Čelákovice | F9: 5
A10: 4. | B10: ZŠ a MŠ Nehvizdy | F10: 0
A11: 5. | B11: ZŠ Semice | F11: 0
A12: 6. | B12: ZŠ Komenského Čelákovice | F12: 0
A13: 7. | B13: ZŠ Jirny | F13: 0
A14: 8. | B14: Gymnázium Brandýs nad Labem | F14: 0
A15: 9. | B15: ZáŠkola Brandýs nad Labem | F15: 0
A16: 10. | B16: MILLS Čelákovice | F16: 0
A17: 11. | B17: ZŠ Lázně Toušeň | F17: 0
A19: SEZNAM PŘIHLÁŠENÝCH
A20: ='SEZNAM ŠKOL'!B3 -> ZŠ Komenského Čelákovice | C20: ANO
A21: ='SEZNAM ŠKOL'!B4 -> ZŠ Kamenka Čelákovice | C21: NE
A22: ='SEZNAM ŠKOL'!B5 -> ZŠ a MŠ Nehvizdy | C22: ANO
A23: ='SEZNAM ŠKOL'!B6 -> ZŠ Semice | C23: ANO
A24: ='SEZNAM ŠKOL'!B7 -> ZŠ Zeleneč | C24: NE
A25: ='SEZNAM ŠKOL'!B8 -> Gymnázium Čelákovice | C25: ANO
A26: ='SEZNAM ŠKOL'!B9 -> ZŠ Lázně Toušeň | C26: NE
A27: ='SEZNAM ŠKOL'!B10 -> MILLS Čelákovice | C27: ANO
A28: ='SEZNAM ŠKOL'!B11 -> ZŠ Jirny | C28: ANO
A29: ='SEZNAM ŠKOL'!B12 -> Gymnázium Brandýs nad Labem | C29: ANO
A30: ='SEZNAM ŠKOL'!B13 -> ZáŠkola Brandýs nad Labem | C30: ANO

Sheet STOLNÍ TENIS - DÍVKY 4-5
A3: SPORT | B3: STOLNÍ TENIS - DVOUHRA DÍVKY - 4. - 5. TŘÍDA
A4: VÝSLEDKY
A6: POŘADÍ | B6: ŠKOLA | C6: PŘÍJMENÍ A JMÉNO | D6: POČET BODŮ
A7: 1. | B7: =VLOOKUP(C7,C$32:E$52,3,0) -> ZŠ Kamenka Čelákovice | C7: Dušková Viktorie | F7: 4
A8: 2. | B8: =VLOOKUP(C8,C$32:E$52,3,0) -> ZŠ Jirny | C8: Gažíková Magdalena | F8: 2
A9: 3. | B9: =VLOOKUP(C9,C$32:E$52,3,0) -> ZŠ Kamenka Čelákovice | C9: Kuklová Lucie | F9: 1
A10: 4. | B10: =VLOOKUP(C10,C$32:E$52,3,0) -> #N/A | F10: 0
A11: 5. | B11: =VLOOKUP(C11,C$32:E$52,3,0) -> #N/A | F11: 0
A12: 6. | B12: =VLOOKUP(C12,C$32:E$52,3,0) -> #N/A | F12: 0
A13: 7. | B13: =VLOOKUP(C13,C$32:E$52,3,0) -> #N/A | F13: 0
A14: 8. | B14: =VLOOKUP(C14,C$32:E$52,3,0) -> #N/A | F14: 0
A15: 9. | B15: =VLOOKUP(C15,C$32:E$52,3,0) -> #N/A | F15: 0
A16: 10. | B16: =VLOOKUP(C16,C$32:E$52,3,0) -> #N/A | F16: 0
A17: 11. | B17: =VLOOKUP(C17,C$32:E$52,3,0) -> #N/A | F17: 0
A18: 12. | B18: =VLOOKUP(C18,C$32:E$52,3,0) -> #N/A | F18: 0
A19: 13. | B19: =VLOOKUP(C19,C$32:E$52,3,0) -> #N/A | F19: 0
A20: 14. | B20: =VLOOKUP(C20,C$32:E$52,3,0) -> #N/A | F20: 0
A21: 15. | B21: =VLOOKUP(C21,C$32:E$52,3,0) -> #N/A | F21: 0
... A27: 21. | B27: =VLOOKUP(C27,C$32:E$52,3,0) -> #N/A | F27: 0
A31: SEZNAM PŘIHLÁŠENÝCH | C31: Přijmení a jméno | D31: ROK NAROZENÍ | E31: ŠKOLA
C32: Bruknerová Eliška | D32: 2012 | E32: ZáŠkola Brandýs nad Labem
C33: Jansová Valentýna | D33: 2012 | E33: ZáŠkola Brandýs nad Labem
C34: Karásková Laura | D34: 2013 | E34: ZŠ Zeleneč
C35: Holanová Sofie | E35: ZŠ Semice
C36: Jílková Alžběta | E36: ZŠ Semice
C37: Jílková Michala | E37: ZŠ Semice
C38: Suchá Viktorie | E38: ZŠ Semice
C39: Lysická Ema | D39: 2013 | E39: ZŠ Lázně Toušeň
C40: Shrbená Renata | D40: 2015 | E40: ZŠ Lázně Toušeň
C41: Choděrová Sofie | D41: 2013 | E41: ZŠ Lázně Toušeň
C42: Vojtíšková Adéla | D42: 2014 | E42: ZŠ Lázně Toušeň
C43: Kuklová Lucie | D43: 2013 | E43: ZŠ Kamenka Čelákovice
C44: Zybailová Žeňa | D44: 2013 | E44: ZŠ Kamenka Čelákovice
C45: Dušková Viktorie | D45: 2012 | E45: ZŠ Kamenka Čelákovice
C46: Gažíková Magdalena | E46: ZŠ Jirny

Sheet STOLNÍ TENIS - DÍVKY 6-7
A3: SPORT | B3: STOLNÍ TENIS - DVOUHRA DÍVKY - 6. - 7. TŘÍDA
A4: VÝSLEDKY
A6: POŘADÍ | B6: ŠKOLA | C6: PŘÍJMENÍ A JMÉNO | D6: POČET BODŮ
A7: 1. | B7: =VLOOKUP(C7,C$32:E$52,3,0) -> ZŠ Komenského Čelákovice | C7: Flekačová Justina | F7: 4
A8: 2. | B8: =VLOOKUP(C8,C$32:E$52,3,0) -> ZŠ Kamenka Čelákovice | C8: Počárovská M. | F8: 2
A9: 3. | B9: =VLOOKUP(C9,C$32:E$52,3,0) -> ZŠ Semice | C9: Houšková Veronika | F9: 1
A10: 4. | B10: =VLOOKUP(C10,C$32:E$52,3,0) -> #N/A
A11: 5. | B11: =VLOOKUP(C11,C$32:E$52,3,0) -> #N/A
A12: 6. | B12: =VLOOKUP(C12,C$32:E$52,3,0) -> #N/A
A13: 7. | B13: =VLOOKUP(C13,C$32:E$52,3,0) -> #N/A
A14: 8. | B14: =VLOOKUP(C14,C$32:E$52,3,0) -> #N/A
A15: 9. | B15: =VLOOKUP(C15,C$32:E$52,3,0) -> #N/A
A16: 10. | B16: =VLOOKUP(C16,C$32:E$52,3,0) -> #N/A
A17: 11. | B17: =VLOOKUP(C17,C$32:E$52,3,0) -> #N/A
A18: 12. | B18: =VLOOKUP(C18,C$32:E$52,3,0) -> #N/A
A19: 13. | B19: =VLOOKUP(C19,C$32:E$52,3,0) -> #N/A
A20: 14. | B20: =VLOOKUP(C20,C$32:E$52,3,0) -> #N/A
A21: 15. | B21: =VLOOKUP(C21,C$32:E$52,3,0) -> #N/A
... A27: 21. | B27: =VLOOKUP(C27,C$32:E$52,3,0) -> #N/A
A31: SEZNAM PŘIHLÁŠENÝCH | C31: Přijmení a jméno | D31: ROK NAROZENÍ | E31: ŠKOLA
C32: Ptáková Karolína | D32: 2012 | E32: ZáŠkola Brandýs nad Labem
C33: Kořínková Joelle | D33: 2012 | E33: ZáŠkola Brandýs nad Labem
C34: Fabiánová Sára | D34: 2012 | E34: ZŠ Zeleneč
C35: Houšková Veronika | D35: 2011 | E35: ZŠ Semice
C36: Procházková Karolína | D36: 2011 | E36: ZŠ Semice
C37: Semecká Martina | D37: 2012 | E37: ZŠ Semice
C38: Keltnerová Nikola | D38: 2011 | E38: ZŠ Semice
C39: Durdynetsová Diana | D39: 2009 | E39: MILLS Čelákovice
C40: Počárovská M. | D40: 2012 | E40: ZŠ Kamenka Čelákovice
C41: Kallerová Diana | D41: 2012 | E41: ZŠ Kamenka Čelákovice
C42: Kilingerová Berenika/Vaněčková Lara 6.B/7.C | D42: 2011/2010 | E42: ZŠ Kamenka Čelákovice
C43: Hašková Tereza 7.A | D43: 2011 | E43: ZŠ Kamenka Čelákovice
C44: Flekačová Justina | E44: ZŠ Komenského Čelákovice

Sheet STOLNÍ TENIS - DÍVKY 8-9
A3: SPORT | B3: STOLNÍ TENIS - DVOUHRA DÍVKY - 8. - 9. TŘÍDA
A4: VÝSLEDKY
A6: POŘADÍ | B6: ŠKOLA | C6: PŘÍJMENÍ A JMÉNO | D6: POČET BODŮ
A7: 1. | B7: =VLOOKUP(C7,C$32:E$52,3,0) -> ZŠ Komenského Čelákovice | C7: Gruľová Marie | F7: 4
A8: 2. | B8: =VLOOKUP(C8,C$32:E$52,3,0) -> ZŠ Semice | C8: Jandová Klára | F8: 2
A9: 3. | B9: =VLOOKUP(C9,C$32:E$52,3,0) -> ZŠ Komenského Čelákovice | C9: Bidzilia Sofie | F9: 1
A10: 4. | B10: =VLOOKUP(C10,C$32:E$52,3,0) -> #N/A
A11: 5. | B11: =VLOOKUP(C11,C$32:E$52,3,0) -> #N/A
A12: 6. | B12: =VLOOKUP(C12,C$32:E$52,3,0) -> #N/A
A13: 7. | B13: =VLOOKUP(C13,C$32:E$52,3,0) -> #N/A
A14: 8. | B14: =VLOOKUP(C14,C$32:E$52,3,0) -> #N/A
A15: 9. | B15: =VLOOKUP(C15,C$32:E$52,3,0) -> #N/A
A16: 10. | B16: =VLOOKUP(C16,C$32:E$52,3,0) -> #N/A
A17: 11. | B17: =VLOOKUP(C17,C$32:E$52,3,0) -> #N/A
A18: 12. | B18: =VLOOKUP(C18,C$32:E$52,3,0) -> #N/A
A19: 13. | B19: =VLOOKUP(C19,C$32:E$52,3,0) -> #N/A
A20: 14. | B20: =VLOOKUP(C20,C$32:E$52,3,0) -> #N/A
A21: 15. | B21: =VLOOKUP(C21,C$32:E$52,3,0) -> #N/A
... A27: 21. | B27: =VLOOKUP(C27,C$32:E$52,3,0) -> #N/A
A31: SEZNAM PŘIHLÁŠENÝCH | C31: Přijmení a jméno | D31: ROK NAROZENÍ | E31: ŠKOLA
C32: Václavíková Daniela | D32: 2010 | E32: ZŠ Zeleneč
C33: Jandová Klára | D33: 2008 | E33: ZŠ Semice
C34: Šimonová Sofie | D34: 2009 | E34: ZŠ Semice
C35: Jelínková Adriana | D35: 2010 | E35: ZŠ Semice
C36: Jílková Zuzana | D36: 2010 | E36: ZŠ Semice
C37: Kleinová Sylva | D37: 2010 | E37: ZŠ Kamenka Čelákovice
C38: Bernášková Nat. | D38: 2010 | E38: ZŠ Kamenka Čelákovice
C39: Chramostová Tereza | D39: 2009 | E39: ZŠ Kamenka Čelákovice
C40: Bidzilia Barbora | D40: 2009 | E40: ZŠ Kamenka Čelákovice
C41: Jeřábková Elikša | D41: 2009 | E41: Gymnázium Čelákovice
C42: Miškovská Marie Anna | D42: 2008 | E42: Gymnázium Čelákovice
C43: Dospíšilová Kamila | D43: 2009 | E43: Gymnázium Čelákovice
... C46: Hanžlíková Viktorie | D46: 2009 | E46: ZŠ Komenského Čelákovice

Sheet STOLNÍ TENIS - CHLAPCI 4-5
A3: SPORT | B3: STOLNÍ TENIS - DVOUHRA CHLAPCI - 4. - 5. TŘÍDA
A4: VÝSLEDKY
A6: POŘADÍ | B6: ŠKOLA | C6: PŘÍJMENÍ A JMÉNO | D6: POČET BODŮ
A7: 1. | B7: =VLOOKUP(C7,C$32:E$52,3,0) -> ZŠ Komenského Čelákovice | C7: Janoušek Jiří | F7: 4
A8: 2. | B8: =VLOOKUP(C8,C$32:E$52,3,0) -> ZŠ Lázně Toušeň | C8: Dušák Adam | F8: 2
A9: 3. | B9: =VLOOKUP(C9,C$32:E$52,3,0) -> ZŠ Kamenka Čelákovice | C9: Kukla Tomáš | F9: 1
A10: 4. | B10: =VLOOKUP(C10,C$32:E$52,3,0) -> #N/A
A11: 5. | B11: =VLOOKUP(C11,C$32:E$52,3,0) -> #N/A
A12: 6. | B12: =VLOOKUP(C12,C$32:E$52,3,0) -> #N/A
A13: 7. | B13: =VLOOKUP(C13,C$32:E$52,3,0) -> #N/A
A14: 8. | B14: =VLOOKUP(C14,C$32:E$52,3,0) -> #N/A
A15: 9. | B15: =VLOOKUP(C15,C$32:E$52,3,0) -> #N/A
A16: 10. | B16: =VLOOKUP(C16,C$32:E$52,3,0) -> #N/A
A17: 11. | B17: =VLOOKUP(C17,C$32:E$52,3,0) -> #N/A
A18: 12. | B18: =VLOOKUP(C18,C$32:E$52,3,0) -> #N/A
A19: 13. | B19: =VLOOKUP(C19,C$32:E$52,3,0) -> #N/A
A20: 14. | B20: =VLOOKUP(C20,C$32:E$52,3,0) -> #N/A
A21: 15. | B21: =VLOOKUP(C21,C$32:E$52,3,0) -> #N/A
... A27: 21. | B27: =VLOOKUP(C27,C$32:E$52,3,0) -> #N/A
A31: SEZNAM PŘIHLÁŠENÝCH | C31: Přijmení a jméno | D31: ROK NAROZENÍ | E31: ŠKOLA
C32: Janoušek Jiří | D32: 2014 | E32: ZŠ Komenského Čelákovice
C33: Raptoš David | D33: 2013 | E33: ZŠ Komenského Čelákovice
C34: Vaněk Boris | D34: 2013 | E34: ZŠ Komenského Čelákovice
C35: Maksymiuk Denys | D35: 2013 | E35: ZŠ Komenského Čelákovice
C36: Vlasák Vladimír | D36: 2013 | E36: ZŠ Zeleneč
C37: Pelant Marek | E37: ZŠ Semice
C38: Vacula Karel | E38: ZŠ Semice
C39: Suchý Radek | E39: ZŠ Semice
C40: Policar Matouš | E40: ZŠ Semice
C41: Dušák Adam | D41: 2013 | E41: ZŠ Lázně Toušeň
C42: Kain Maxmilián | D42: 2013 | E42: ZŠ Lázně Toušeň
C43: Agres Filip | D43: 2013 | E43: ZŠ Lázně Toušeň
C44: Nožíř Adam | D44: 2015 | E44: ZŠ Lázně Toušeň
C45: Švehla Vojtěch | D45: 2015 | E45: ZŠ Kamenka Čelákovice
C46: Kukla Tomáš | D46: 2014 | E46: ZŠ Kamenka Čelákovice
C47: Klíma Vladimír | D47: 2012 | E47: ZŠ Kamenka Čelákovice
C48: Janoušek Jiří | D48: 2014 | E48: ZŠ Komenského Čelákovice
C49: Raptoš David | D49: 2013 | E49: ZŠ Komenského Čelákovice
C50: Vaněk Boris | D50: 2013 | E50: ZŠ Komenského Čelákovice
C51: Maksymiuk Denys | D51: 2013 | E51: ZŠ Komenského Čelákovice
C52: Korejza Richard | E52: ZŠ Jirny
C53: Nesper Oliver | E53: ZŠ Jirny
C54: Beneš Matyáš | E54: ZŠ Jirny

Sheet STOLNÍ TENIS - CHLAPCI 6-7
A3: SPORT | B3: STOLNÍ TENIS - DVOUHRA CHLAPCI - 6. -7. TŘÍDA
A4: VÝSLEDKY
A6: POŘADÍ | B6: ŠKOLA | C6: PŘÍJMENÍ A JMÉNO | D6: POČET BODŮ
A7: 1. | B7: =VLOOKUP(C7,C$32:E$52,3,0) -> ZŠ Zeleneč | C7: Červený Lukáš | F7: 4
A8: 2. | B8: =VLOOKUP(C8,C$32:E$52,3,0) -> ZáŠkola Brandýs nad Labem | C8: Jansa Antonín | F8: 2
A9: 3. | B9: =VLOOKUP(C9,C$32:E$52,3,0) -> ZŠ Komenského Čelákovice | C9: Mrozek Tobiáš | F9: 1
A10: 4. | B10: =VLOOKUP(C10,C$32:E$52,3,0) -> #N/A
A11: 5. | B11: =VLOOKUP(C11,C$32:E$52,3,0) -> #N/A
A12: 6. | B12: =VLOOKUP(C12,C$32:E$52,3,0) -> #N/A
A13: 7. | B13: =VLOOKUP(C13,C$32:E$52,3,0) -> #N/A
A14: 8. | B14: =VLOOKUP(C14,C$32:E$52,3,0) -> #N/A
A15: 9. | B15: =VLOOKUP(C15,C$32:E$52,3,0) -> #N/A
A16: 10. | B16: =VLOOKUP(C16,C$32:E$52,3,0) -> #N/A
A17: 11. | B17: =VLOOKUP(C17,C$32:E$52,3,0) -> #N/A
A18: 12. | B18: =VLOOKUP(C18,C$32:E$52,3,0) -> #N/A
A19: 13. | B19: =VLOOKUP(C19,C$32:E$52,3,0) -> #N/A
A20: 14. | B20: =VLOOKUP(C20,C$32:E$52,3,0) -> #N/A
A21: 15. | B21: =VLOOKUP(C21,C$32:E$52,3,0) -> #N/A
... A27: 21. | B27: =VLOOKUP(C27,C$32:E$52,3,0) -> #N/A
A31: SEZNAM PŘIHLÁŠENÝCH | C31: Přijmení a jméno | D31: ROK NAROZENÍ | E31: ŠKOLA
C32: Jansa Antonín | D32: 2011 | E32: ZáŠkola Brandýs nad Labem
C33: Mandys Matyáš | D33: 2011 | E33: ZáŠkola Brandýs nad Labem
C34: Čekan René | D34: 2011 | E34: ZŠ Zeleneč
C35: Červený Lukáš | D35: 2012 | E35: ZŠ Zeleneč
C36: Eggerth Kryštof | D36: 2012 | E36: ZŠ Zeleneč
C37: Brůček Jakub | D37: 2010 | E37: ZŠ Semice
C38: Málek Jiří | D38: 2011 | E38: ZŠ Semice
C39: Čermk Tomáš | D39: 2011 | E39: ZŠ Semice
C40: Serbus Matouš | D40: 2010 | E40: ZŠ Semice
C41: Kočvara Denis | D41: 2011 | E41: ZŠ Kamenka Čelákovice
C42: Libánský Šimon | D42: 2010 | E42: ZŠ Kamenka Čelákovice
C43: Holý Lukáš | D43: 2010 | E43: ZŠ Kamenka Čelákovice
... C52: Jecha Jakub | D52: 2012 | E52: ZŠ Komenského Čelákovice
C53: Navrátil Jakub | E53: ZŠ Jirny
C54: Škulavík Martin | E54: ZŠ Jirny
C55: Děkanovský Patrik | E55: ZŠ Jirny
C56: Opálka Robert | E56: ZŠ Jirny

Sheet STOLNÍ TENIS - CHLAPCI 8-9
A3: SPORT | B3: STOLNÍ TENIS - DVOUHRA CHLAPCI - 8. -9. TŘÍDA
A4: VÝSLEDKY
A6: POŘADÍ | B6: ŠKOLA | C6: PŘÍJMENÍ A JMÉNO | D6: POČET BODŮ
A7: 1. | B7: =VLOOKUP(C7,C$32:E$52,3,0) -> ZŠ Komenského Čelákovice | C7: Ulman Nikolas | F7: 4
A8: 2. | B8: =VLOOKUP(C8,C$32:E$52,3,0) -> ZŠ Zeleneč | C8: Fučík Vojtěch | F8: 2
A9: 3. | B9: =VLOOKUP(C9,C$32:E$52,3,0) -> ZŠ Zeleneč | C9: Červený David | F9: 1
A10: 4. | B10: =VLOOKUP(C10,C$32:E$52,3,0) -> #N/A
A11: 5. | B11: =VLOOKUP(C11,C$32:E$52,3,0) -> #N/A
A12: 6. | B12: =VLOOKUP(C12,C$32:E$52,3,0) -> #N/A
A13: 7. | B13: =VLOOKUP(C13,C$32:E$52,3,0) -> #N/A
A14: 8. | B14: =VLOOKUP(C14,C$32:E$52,3,0) -> #N/A
A15: 9. | B15: =VLOOKUP(C15,C$32:E$52,3,0) -> #N/A
A16: 10. | B16: =VLOOKUP(C16,C$32:E$52,3,0) -> #N/A
A17: 11. | B17: =VLOOKUP(C17,C$32:E$52,3,0) -> #N/A
A18: 12. | B18: =VLOOKUP(C18,C$32:E$52,3,0) -> #N/A
A19: 13. | B19: =VLOOKUP(C19,C$32:E$52,3,0) -> #N/A
A20: 14. | B20: =VLOOKUP(C20,C$32:E$52,3,0) -> #N/A
A21: 15. | B21: =VLOOKUP(C21,C$32:E$52,3,0) -> #N/A
... A27: 21. | B27: =VLOOKUP(C27,C$32:E$52,3,0) -> #N/A
A31: SEZNAM PŘIHLÁŠENÝCH | C31: Přijmení a jméno | D31: ROK NAROZENÍ | E31: ŠKOLA
C32: Červený David | D32: 2008 | E32: ZŠ Zeleneč
C33: Hiblbauer David | D33: 2009 | E33: ZŠ Zeleneč
C34: Fučík Vojtěch | D34: 2009 | E34: ZŠ Zeleneč
C35: Král Šimon | D35: 2008 | E35: ZŠ Zeleneč
C36: Kubela Kamil | D36: 2009 | E36: ZŠ Semice
C37: Aujeský Matyáš | D37: 2009 | E37: ZŠ Semice
C38: Pavliš Michal | D38: 2010 | E38: ZŠ Semice
C39: Čermák Jakub | D39: 2008 | E39: ZŠ Semice
C40: Hendrych Alex | D40: 2010 | E40: MILLS Čelákovice
C41: Hála Tomáš | D41: 2009 | E41: MILLS Čelákovice
C42: Šuráň Vítek/Boura Adam 8.B/9.B | D42: 2009 | E42: ZŠ Kamenka Čelákovice
C43: Cveček Filip 8.C | D43: 2010 | E43: ZŠ Kamenka Čelákovice
... C48: Kubík Ondřej | D48: 2009 | E48: ZŠ Komenského Čelákovice
C49: Gažík Václav | E49: ZŠ Jirny
C50: Veselý Jan | E50: ZŠ Jirny

Sheet STOLNÍ TENIS - ČTYŘHRA DÍVKY
A3: SPORT | B3: STOLNÍ TENIS - ČTYŘHRA DÍVKY - 8. - 9. TŘÍDA
A4: VÝSLEDKY
A6: POŘADÍ | B6: ŠKOLA | C6: PŘÍJMENÍ A JMÉNO | D6: POČET BODŮ
A7: 1. | B7: =VLOOKUP(C7,C$32:E$52,3,0) -> ZŠ Komenského Čelákovice | C7: Gruľová Marie a Bidzilia Sofie | F7: 4
A8: 2. | B8: =VLOOKUP(C8,C$32:E$52,3,0) -> ZŠ Semice | C8: Jandová Klára a Šimonová Sofie | F8: 2
A9: 3. | B9: =VLOOKUP(C9,C$32:E$52,3,0) -> ZŠ Kamenka Čelákovice | C9: Kallerová a Bidzilia Barbora | F9: 1
A10: 4. | B10: =VLOOKUP(C10,C$32:E$52,3,0) -> #N/A
A11: 5. | B11: =VLOOKUP(C11,C$32:E$52,3,0) -> #N/A
A12: 6. | B12: =VLOOKUP(C12,C$32:E$52,3,0) -> #N/A
A13: 7. | B13: =VLOOKUP(C13,C$32:E$52,3,0) -> #N/A
A14: 8. | B14: =VLOOKUP(C14,C$32:E$52,3,0) -> #N/A
A15: 9. | B15: =VLOOKUP(C15,C$32:E$52,3,0) -> #N/A
A16: 10. | B16: =VLOOKUP(C16,C$32:E$52,3,0) -> #N/A
A17: 11. | B17: =VLOOKUP(C17,C$32:E$52,3,0) -> #N/A
A18: 12. | B18: =VLOOKUP(C18,C$32:E$52,3,0) -> #N/A
A19: 13. | B19: =VLOOKUP(C19,C$32:E$52,3,0) -> #N/A
A20: 14. | B20: =VLOOKUP(C20,C$32:E$52,3,0) -> #N/A
A21: 15. | B21: =VLOOKUP(C21,C$32:E$52,3,0) -> #N/A
... A27: 21. | B27: =VLOOKUP(C27,C$32:E$52,3,0) -> #N/A
A31: SEZNAM PŘIHLÁŠENÝCH | C31: Přijmení a jméno | D31: ROK NAROZENÍ | E31: ŠKOLA
C32: Jandová Klára a Šimonová Sofie | E32: ZŠ Semice
C33: Semecká Martina a Jelínková Adriana | E33: ZŠ Semice
C34: Kleinová Sylva a Bernášková Nat. | E34: ZŠ Kamenka Čelákovice
C35: Kallerová a Bidzilia Barbora | E35: ZŠ Kamenka Čelákovice
C36: Gruľová Marie a Bidzilia Sofie | E36: ZŠ Komenského Čelákovice

Sheet STOLNÍ TENIS - ČTYŘHRA CHLAPCI
A3: SPORT | B3: STOLNÍ TENIS - ČTYŘHRA CHLAPCI - 8. - 9. TŘÍDA
A4: VÝSLEDKY
A6: POŘADÍ | B6: ŠKOLA | C6: PŘÍJMENÍ A JMÉNO | D6: POČET BODŮ
A7: 1. | B7: =VLOOKUP(C7,C$32:E$52,3,0) -> ZŠ Komenského Čelákovice | C7: Ulman Nikolas a Mrozek Tobiáš | F7: 4
A8: 2. | B8: =VLOOKUP(C8,C$32:E$52,3,0) -> ZŠ Semice | C8: Pavlíš Michal a Serbus Matouš | F8: 2
A9: 3. | B9: =VLOOKUP(C9,C$32:E$52,3,0) -> ZŠ Kamenka Čelákovice | C9: Cveček Filip a Hnízdil David | F9: 1
A10: 4. | B10: =VLOOKUP(C10,C$32:E$52,3,0) -> #N/A
A11: 5. | B11: =VLOOKUP(C11,C$32:E$52,3,0) -> #N/A
A12: 6. | B12: =VLOOKUP(C12,C$32:E$52,3,0) -> #N/A
A13: 7. | B13: =VLOOKUP(C13,C$32:E$52,3,0) -> #N/A
A14: 8. | B14: =VLOOKUP(C14,C$32:E$52,3,0) -> #N/A
A15: 9. | B15: =VLOOKUP(C15,C$32:E$52,3,0) -> #N/A
A16: 10. | B16: =VLOOKUP(C16,C$32:E$52,3,0) -> #N/A
A17: 11. | B17: =VLOOKUP(C17,C$32:E$52,3,0) -> #N/A
A18: 12. | B18: =VLOOKUP(C18,C$32:E$52,3,0) -> #N/A
A19: 13. | B19: =VLOOKUP(C19,C$32:E$52,3,0) -> #N/A
A20: 14. | B20: =VLOOKUP(C20,C$32:E$52,3,0) -> #N/A
A21: 15. | B21: =VLOOKUP(C21,C$32:E$52,3,0) -> #N/A
... A27: 21. | B27: =VLOOKUP(C27,C$32:E$52,3,0) -> #N/A
A31: SEZNAM PŘIHLÁŠENÝCH | C31: Přijmení a jméno | D31: ROK NAROZENÍ | E31: ŠKOLA
C32: Král Šimon a Červený David | E32: ZŠ Zeleneč
C33: Pavlíš Michal a Serbus Matouš | E33: ZŠ Semice
C34: Málek Jiří a Brůček Jakub | E34: ZŠ Semice
C35: Šuráň Vítek a Kodera Matyáš | E35: ZŠ Kamenka Čelákovice
C36: Cveček Filip a Hnízdil David | E36: ZŠ Kamenka Čelákovice
C37: Kosek Tomáš a Voldán Jakub | E37: Gymnázium Čelákovice
C38: Hurych Tomáš a Pavlas Matěj | E38: Gymnázium Čelákovice
C39: Ulman Nikolas a Mrozek Tobiáš | E39: ZŠ Komenského Čelákovice

Sheet VOLEJBAL ŽÁCI
A3: SPORT | B3: VOLEJBAL - STARŠÍ ŽÁCI 8. – 9. TŘ.
A4: VÝSLEDKY
A6: POŘADÍ | B6: ŠKOLA | C6: POČET BODŮ
A7: 1. | B7: ZŠ Komenského Čelákovice | F7: 40
A8: 2. | B8: ZŠ Kamenka Čelákovice | F8: 20
A9: 3. | B9: Gymnázium Čelákovice | F9: 10
A10: 4. | B10: MILLS Čelákovice
A11: 5. | B11: ZŠ Semice
A12: 6.
A13: 7.
A14: 8.
A15: 9.
A16: 10.
A17: 11.
A19: SEZNAM PŘIHLÁŠENÝCH
A20: ='SEZNAM ŠKOL'!B3 -> ZŠ Komenského Čelákovice | C20: NE
A21: ='SEZNAM ŠKOL'!B4 -> ZŠ Kamenka Čelákovice | C21: NE
A22: ='SEZNAM ŠKOL'!B5 -> ZŠ a MŠ Nehvizdy | C22: ANO
A23: ='SEZNAM ŠKOL'!B6 -> ZŠ Semice | C23: ANO
A24: ='SEZNAM ŠKOL'!B7 -> ZŠ Zeleneč | C24: ANO
A25: ='SEZNAM ŠKOL'!B8 -> Gymnázium Čelákovice | C25: NE
A26: ='SEZNAM ŠKOL'!B9 -> ZŠ Lázně Toušeň | C26: NE
A27: ='SEZNAM ŠKOL'!B10 -> MILLS Čelákovice | C27: NE
A28: ='SEZNAM ŠKOL'!B11 -> ZŠ Jirny | C28: ANO
A29: ='SEZNAM ŠKOL'!B12 -> Gymnázium Brandýs nad Labem | C29: NE
A30: ='SEZNAM ŠKOL'!B13 -> ZáŠkola Brandýs nad Labem | C30: ANO

Sheet VOLEJBAL ŽÁKYNĚ
A3: SPORT | B3: VOLEJBAL - STARŠÍ ŽÁKYNĚ 8. – 9. TŘ.
A4: VÝSLEDKY
A6: POŘADÍ | B6: ŠKOLA | C6: POČET BODŮ
A7: 1. | B7: ZŠ Komenského Čelákovice | F7: 40
A8: 2. | B8: Gymnázium Brandýs nad Labem | F8: 20
A9: 3. | B9: ZŠ Kamenka Čelákovice | F9: 10
A10: 4. | B10: ZŠ Semice
A11: 5. | B11: ZŠ Zeleneč
A12: 6.
A13: 7.
A14: 8.
A15: 9.
A16: 10.
A17: 11.
A19: SEZNAM PŘIHLÁŠENÝCH
A20: ='SEZNAM ŠKOL'!B3 -> ZŠ Komenského Čelákovice | C20: ANO
A21: ='SEZNAM ŠKOL'!B4 -> ZŠ Kamenka Čelákovice | C21: NE
A22: ='SEZNAM ŠKOL'!B5 -> ZŠ a MŠ Nehvizdy | C22: NE
A23: ='SEZNAM ŠKOL'!B6 -> ZŠ Semice | C23: ANO
A24: ='SEZNAM ŠKOL'!B7 -> ZŠ Zeleneč | C24: NE
A25: ='SEZNAM ŠKOL'!B8 -> Gymnázium Čelákovice | C25: NE
A26: ='SEZNAM ŠKOL'!B9 -> ZŠ Lázně Toušeň | C26: NE
A27: ='SEZNAM ŠKOL'!B10 -> MILLS Čelákovice | C27: NE
A28: ='SEZNAM ŠKOL'!B11 -> ZŠ Jirny | C28: ANO
A29: ='SEZNAM ŠKOL'!B12 -> Gymnázium Brandýs nad Labem | C29: ANO
A30: ='SEZNAM ŠKOL'!B13 -> ZáŠkola Brandýs nad Labem | C30: ANO

Sheet PŘEHAZOVANÁ
A3: SPORT | B3: PŘEHAZOVANÁ SMÍŠENÁ
A4: VÝSLEDKY
A6: POŘADÍ | B6: ŠKOLA | C6: POČET BODŮ
A7: 1. | B7: ZŠ Semice | F7: 40
A8: 2. | B8: ZŠ Lázně Toušeň | F8: 20
A9: 3. | B9: ZŠ Kamenka Čelákovice | F9: 10
A10: 4. | B10: ZŠ Komenského Čelákovice
A11: 5. | B11: MILLS Čelákovice
A12: 6.
A13: 7.
A14: 8.
A15: 9.
A16: 10.
A17: 11.
A19: SEZNAM PŘIHLÁŠENÝCH
A20: ='SEZNAM ŠKOL'!B3 -> ZŠ Komenského Čelákovice | C20: NE
A21: ='SEZNAM ŠKOL'!B4 -> ZŠ Kamenka Čelákovice | C21: NE
A22: ='SEZNAM ŠKOL'!B5 -> ZŠ a MŠ Nehvizdy | C22: NE
A23: ='SEZNAM ŠKOL'!B6 -> ZŠ Semice | C23: ANO
A24: ='SEZNAM ŠKOL'!B7 -> ZŠ Zeleneč | C24: ANO
A25: ='SEZNAM ŠKOL'!B8 -> Gymnázium Čelákovice | C25: NE
A26: ='SEZNAM ŠKOL'!B9 -> ZŠ Lázně Toušeň | C26: ANO
A27: ='SEZNAM ŠKOL'!B10 -> MILLS Čelákovice | C27: NE
A28: ='SEZNAM ŠKOL'!B11 -> ZŠ Jirny | C28: ANO
A29: ='SEZNAM ŠKOL'!B12 -> Gymnázium Brandýs nad Labem | C29: NE
A30: ='SEZNAM ŠKOL'!B13 -> ZáŠkola Brandýs nad Labem | C30: ANO

Sheet VYBÍJENÁ ŽÁCI
A3: SPORT | B3: VYBÍJENÁ - ŽÁCI 4. – 5. TŘ.
A4: VÝSLEDKY
A6: POŘADÍ | B6: ŠKOLA | C6: POČET BODŮ
A7: 1. | B7: ZŠ a MŠ Nehvizdy | F7: 20
A8: 2. | B8: ZŠ Lázně Toušeň | F8: 10
A9: 3. | B9: ZŠ Kamenka Čelákovice | F9: 5
A10: 4. | B10: ZŠ Zeleneč
A11: 5. | B11: ZŠ Semice
A12: 6. | B12: ZŠ Komenského Čelákovice
A13: 7. | B13: ZáŠkola Brandýs nad Labem
A14: 8. | B14: MILLS Čelákovice
A15: 9. | B15: ZŠ Jirny
A16: 10.
A17: 11.
A19: SEZNAM PŘIHLÁŠENÝCH
A20: ='SEZNAM ŠKOL'!B3 -> ZŠ Komenského Čelákovice | C20: NE
A21: ='SEZNAM ŠKOL'!B4 -> ZŠ Kamenka Čelákovice | C21: ANO
A22: ='SEZNAM ŠKOL'!B5 -> ZŠ a MŠ Nehvizdy | C22: NE
A23: ='SEZNAM ŠKOL'!B6 -> ZŠ Semice | C23: ANO
A24: ='SEZNAM ŠKOL'!B7 -> ZŠ Zeleneč | C24: ANO
A25: ='SEZNAM ŠKOL'!B8 -> Gymnázium Čelákovice | C25: ANO
A26: ='SEZNAM ŠKOL'!B9 -> ZŠ Lázně Toušeň | C26: ANO
A27: ='SEZNAM ŠKOL'!B10 -> MILLS Čelákovice | C27: ANO
A28: ='SEZNAM ŠKOL'!B11 -> ZŠ Jirny | C28: ANO
A29: ='SEZNAM ŠKOL'!B12 -> Gymnázium Brandýs nad Labem | C29: ANO
A30: ='SEZNAM ŠKOL'!B13 -> ZáŠkola Brandýs nad Labem | C30: ANO

Sheet VYBÍJENÁ ŽÁKYNĚ
A3: SPORT | B3: VYBÍJENÁ - ŽÁKYNĚ 4. – 5. TŘ.
A4: VÝSLEDKY
A6: POŘADÍ | B6: ŠKOLA | C6: POČET BODŮ
A7: 1. | B7: ZŠ Semice | F7: 20
A8: 2. | B8: ZŠ a MŠ Nehvizdy | F8: 10
A9: 3. | B9: ZŠ Kamenka Čelákovice | F9: 5
A10: 4. | B10: ZŠ Komenského Čelákovice
A11: 5. | B11: ZŠ Jirny
A12: 6. | B12: ZŠ Lázně Toušeň
A13: 7. | B13: ZáŠkola Brandýs nad Labem
A14: 8.
A15: 9.
A16: 10.
A17: 11.
A19: SEZNAM PŘIHLÁŠENÝCH
A20: ='SEZNAM ŠKOL'!B3 -> ZŠ Komenského Čelákovice | C20: NE
A21: ='SEZNAM ŠKOL'!B4 -> ZŠ Kamenka Čelákovice | C21: NE
A22: ='SEZNAM ŠKOL'!B5 -> ZŠ a MŠ Nehvizdy | C22: NE
A23: ='SEZNAM ŠKOL'!B6 -> ZŠ Semice | C23: ANO
A24: ='SEZNAM ŠKOL'!B7 -> ZŠ Zeleneč | C24: NE
A25: ='SEZNAM ŠKOL'!B8 -> Gymnázium Čelákovice | C25: ANO
A26: ='SEZNAM ŠKOL'!B9 -> ZŠ Lázně Toušeň | C26: ANO
A27: ='SEZNAM ŠKOL'!B10 -> MILLS Čelákovice | C27: ANO
A28: ='SEZNAM ŠKOL'!B11 -> ZŠ Jirny | C28: ANO
A29: ='SEZNAM ŠKOL'!B12 -> Gymnázium Brandýs nad Labem | C29: NE
A30: ='SEZNAM ŠKOL'!B13 -> ZáŠkola Brandýs nad Labem | C30: ANO

Sheet TENIS - DÍVKY 4-5
A3: SPORT | B3: TENIS - DVOUHRA DÍVKY - 4. - 5. TŘÍDA
A4: VÝSLEDKY
A6: POŘADÍ | B6: ŠKOLA | C6: PŘÍJMENÍ A JMÉNO | D6: POČET BODŮ
A7: 1. | B7: =VLOOKUP(C7,C$32:E$52,3,0) -> ZŠ Komenského Čelákovice | C7: Klaudová Vanda | F7: 4
A8: 2. | B8: =VLOOKUP(C8,C$32:E$52,3,0) -> MILLS Čelákovice | C8: Švarcová Barbora | F8: 2
A9: 3. | B9: =VLOOKUP(C9,C$32:E$52,3,0) -> ZŠ Semice | C9: Holanová Sofie | F9: 1
A10: 4. | B10: =VLOOKUP(C10,C$32:E$52,3,0) -> #N/A
A11: 5. | B11: =VLOOKUP(C11,C$32:E$52,3,0) -> #N/A
A12: 6. | B12: =VLOOKUP(C12,C$32:E$52,3,0) -> #N/A
A13: 7. | B13: =VLOOKUP(C13,C$32:E$52,3,0) -> #N/A
A14: 8. | B14: =VLOOKUP(C14,C$32:E$52,3,0) -> #N/A
A15: 9. | B15: =VLOOKUP(C15,C$32:E$52,3,0) -> #N/A
A16: 10. | B16: =VLOOKUP(C16,C$32:E$52,3,0) -> #N/A
A17: 11. | B17: =VLOOKUP(C17,C$32:E$52,3,0) -> #N/A
A18: 12. | B18: =VLOOKUP(C18,C$32:E$52,3,0) -> #N/A
A19: 13. | B19: =VLOOKUP(C19,C$32:E$52,3,0) -> #N/A
A20: 14. | B20: =VLOOKUP(C20,C$32:E$52,3,0) -> #N/A
A21: 15. | B21: =VLOOKUP(C21,C$32:E$52,3,0) -> #N/A
... A27: 21. | B27: =VLOOKUP(C27,C$32:E$52,3,0) -> #N/A
A31: SEZNAM PŘIHLÁŠENÝCH | C31: Přijmení a jméno | D31: ROK NAROZENÍ | E31: ŠKOLA
C32: Sofie Tomková | D32: 2013 | E32: ZŠ Zeleneč
C33: Laura Karásková | D33: 2013 | E33: ZŠ Zeleneč
C34: Smíšková Ema | D34: 2014 | E34: ZŠ a MŠ Nehvizdy
C35: Nováková Viktorie | D35: 2013 | E35: ZŠ Lázně Toušeň
C36: Brázdová Justýna | D36: 2014 | E36: ZŠ Lázně Toušeň
C37: Geistová Adéla | D37: 2014 | E37: ZŠ Lázně Toušeň
C38: Strachová Eliška | D38: 2013 | E38: MILLS Čelákovice
C39: Švarcová Barbora | D39: 2015 | E39: MILLS Čelákovice
C40: Prokopovičová Karolína | D40: 2013 | E40: ZŠ Komenského Čelákovice
C41: Klaudová Vanda | D41: 2013 | E41: ZŠ Komenského Čelákovice
C42: Chmelenská Lucie | D42: 2013 | E42: ZŠ Komenského Čelákovice
C43: Klučinová Emma | D43: 2013 | E43: ZŠ Komenského Čelákovice
C44: Holanová Sofie | E44: ZŠ Semice
C45: Brandejsová Amálie | E45: ZŠ Semice
C46: Pokorná Zuzana | E46: ZŠ Semice
C47: Břízová Karolína | E47: ZŠ Semice

Sheet TENIS - DÍVKY 6-7
A3: SPORT | B3: TENIS - DVOUHRA DÍVKY - 6. - 7. TŘÍDA
A4: VÝSLEDKY
A6: POŘADÍ | B6: ŠKOLA | C6: PŘÍJMENÍ A JMÉNO | D6: POČET BODŮ
A7: 1. | B7: =VLOOKUP(C7,C$32:E$52,3,0) -> ZŠ a MŠ Nehvizdy | C7: Kolářová Michaela | F7: 4
A8: 2. | B8: =VLOOKUP(C8,C$32:E$52,3,0) -> Gymnázium Čelákovice | C8: Beerová Katarína | F8: 2
A9: 3. | B9: =VLOOKUP(C9,C$32:E$52,3,0) -> ZŠ Kamenka Čelákovice | C9: Počárovská Marie 6.C | F9: 1
A10: 4. | B10: =VLOOKUP(C10,C$32:E$52,3,0) -> #N/A
A11: 5. | B11: =VLOOKUP(C11,C$32:E$52,3,0) -> #N/A
A12: 6. | B12: =VLOOKUP(C12,C$32:E$52,3,0) -> #N/A
A13: 7. | B13: =VLOOKUP(C13,C$32:E$52,3,0) -> #N/A
A14: 8. | B14: =VLOOKUP(C14,C$32:E$52,3,0) -> #N/A
A15: 9. | B15: =VLOOKUP(C15,C$32:E$52,3,0) -> #N/A
A16: 10. | B16: =VLOOKUP(C16,C$32:E$52,3,0) -> #N/A
A17: 11. | B17: =VLOOKUP(C17,C$32:E$52,3,0) -> #N/A
A18: 12. | B18: =VLOOKUP(C18,C$32:E$52,3,0) -> #N/A
A19: 13. | B19: =VLOOKUP(C19,C$32:E$52,3,0) -> #N/A
A20: 14. | B20: =VLOOKUP(C20,C$32:E$52,3,0) -> #N/A
A21: 15. | B21: =VLOOKUP(C21,C$32:E$52,3,0) -> #N/A
... A27: 21. | B27: =VLOOKUP(C27,C$32:E$52,3,0) -> #N/A
A31: SEZNAM PŘIHLÁŠENÝCH | C31: Přijmení a jméno | D31: ROK NAROZENÍ | E31: ŠKOLA
C32: Kolářová Michaela | D32: 2012 | E32: ZŠ a MŠ Nehvizdy
C33: Gočová Petra | D33: 2011 | E33: ZŠ a MŠ Nehvizdy
C34: Počárovská Marie 6.C | D34: 2012 | E34: ZŠ Kamenka Čelákovice
C35: Kallerová Diana 6.C | D35: 2012 | E35: ZŠ Kamenka Čelákovice
C36: Králíková Elena 6.C | D36: 2012 | E36: ZŠ Kamenka Čelákovice
C37: Modráková Kateřina 7.B | D37: 2011 | E37: ZŠ Kamenka Čelákovice
C38: Trbušková Sofie | D38: 2011 | E38: Gymnázium Čelákovice
C39: Beerová Katarína | D39: 2011 | E39: Gymnázium Čelákovice
C40: Hlásná Agáta | D40: 2011 | E40: ZŠ Komenského Čelákovice
C41: Bohuslavová Beata | D41: 2011 | E41: ZŠ Komenského Čelákovice
C42: Maršálková Natali | D42: 2011 | E42: ZŠ Komenského Čelákovice
C43: Houšková Veronika | E43: ZŠ Semice
C44: Keltnerová Nikola | E44: ZŠ Semice
C45: Semecká Martina | E45: ZŠ Semice
C46: Procházková Karolína | E46: ZŠ Semice
C47: Maďarová Agáta | E47: ZŠ Jirny

Sheet TENIS - DÍVKY 8-9
A3: SPORT | B3: TENIS - DVOUHRA DÍVKY - 8. - 9. TŘÍDA
A4: VÝSLEDKY
A6: POŘADÍ | B6: ŠKOLA | C6: PŘÍJMENÍ A JMÉNO | D6: POČET BODŮ
A7: 1. | B7: =VLOOKUP(C7,C$32:E$52,3,0) -> ZŠ Kamenka Čelákovice | C7: Bidzilia Barbora 9.A | F7: 4
A8: 2. | B8: =VLOOKUP(C8,C$32:E$52,3,0) -> ZŠ Komenského Čelákovice | C8: Bidzilia Sofie | F8: 2
A9: 3. | B9: =VLOOKUP(C9,C$32:E$52,3,0) -> ZŠ a MŠ Nehvizdy | C9: Smíšková Iva | F9: 1
A10: 4. | B10: =VLOOKUP(C10,C$32:E$52,3,0) -> #N/A
A11: 5. | B11: =VLOOKUP(C11,C$32:E$52,3,0) -> #N/A
A12: 6. | B12: =VLOOKUP(C12,C$32:E$52,3,0) -> #N/A
A13: 7. | B13: =VLOOKUP(C13,C$32:E$52,3,0) -> #N/A
A14: 8. | B14: =VLOOKUP(C14,C$32:E$52,3,0) -> #N/A
A15: 9. | B15: =VLOOKUP(C15,C$32:E$52,3,0) -> #N/A
A16: 10. | B16: =VLOOKUP(C16,C$32:E$52,3,0) -> #N/A
A17: 11. | B17: =VLOOKUP(C17,C$32:E$52,3,0) -> #N/A
A18: 12. | B18: =VLOOKUP(C18,C$32:E$52,3,0) -> #N/A
A19: 13. | B19: =VLOOKUP(C19,C$32:E$52,3,0) -> #N/A
A20: 14. | B20: =VLOOKUP(C20,C$32:E$52,3,0) -> #N/A
A21: 15. | B21: =VLOOKUP(C21,C$32:E$52,3,0) -> #N/A
... A27: 21. | B27: =VLOOKUP(C27,C$32:E$52,3,0) -> #N/A
A31: SEZNAM PŘIHLÁŠENÝCH | C31: Přijmení a jméno | D31: ROK NAROZENÍ | E31: ŠKOLA
C32: Nela Šikýřová | D32: 2010 | E32: ZŠ Zeleneč
C33: Mariana Gabrielová | D33: 2009 | E33: ZŠ Zeleneč
C34: Kolářová Daniela | D34: 2009 | E34: ZŠ a MŠ Nehvizdy
C35: Smíšková Iva | D35: 2010 | E35: ZŠ a MŠ Nehvizdy
C36: Tydlačková Nikola | D36: 2009 | E36: ZŠ a MŠ Nehvizdy
C37: Sas Karolína | D37: 2010 | E37: ZŠ a MŠ Nehvizdy
C38: Durdynetsová Diana | D38: 2009 | E38: MILLS Čelákovice
C39: Bidzilia Barbora 9.A | D39: 2009 | E39: ZŠ Kamenka Čelákovice
C40: Zumrová Matylda 8.C | D40: 2010 | E40: ZŠ Kamenka Čelákovice
C41: Bernášková Natálie 8.D | D41: 2009 | E41: ZŠ Kamenka Čelákovice
C42: Horáková Šárka 8.C | D42: 2009 | E42: ZŠ Kamenka Čelákovice
C43: Miškovská Marie Anna | D43: 2008 | E43: Gymnázium Čelákovice
... C47: Bohuslavová Aneta | D47: 2009 | E47: ZŠ Komenského Čelákovice
C48: Jandová Klára | E48: ZŠ Semice
C49: Jelínková Adriana | E49: ZŠ Semice
C50: Šimonová Sofie | E50: ZŠ Semice
C51: Novotná Aneta | E51: ZŠ Semice

Sheet TENIS - CHLAPCI 4-5
A3: SPORT | B3: TENIS - DVOUHRA CHLAPCI - 4. - 5. TŘÍDA
A4: VÝSLEDKY
A6: POŘADÍ | B6: ŠKOLA | C6: PŘÍJMENÍ A JMÉNO | D6: POČET BODŮ
A7: 1. | B7: =VLOOKUP(C7,C$32:E$52,3,0) -> ZŠ Jirny | C7: Mutinský Šimon | F7: 4
A8: 2. | B8: =VLOOKUP(C8,C$32:E$52,3,0) -> ZŠ Zeleneč | C8: Nikola Barbalič | F8: 2
A9: 3. | B9: =VLOOKUP(C9,C$32:E$52,3,0) -> ZŠ Zeleneč | C9: Vladimír Vlasák | F9: 1
A10: 4. | B10: =VLOOKUP(C10,C$32:E$52,3,0) -> #N/A
A11: 5. | B11: =VLOOKUP(C11,C$32:E$52,3,0) -> #N/A
A12: 6. | B12: =VLOOKUP(C12,C$32:E$52,3,0) -> #N/A
A13: 7. | B13: =VLOOKUP(C13,C$32:E$52,3,0) -> #N/A
A14: 8. | B14: =VLOOKUP(C14,C$32:E$52,3,0) -> #N/A
A15: 9. | B15: =VLOOKUP(C15,C$32:E$52,3,0) -> #N/A
A16: 10. | B16: =VLOOKUP(C16,C$32:E$52,3,0) -> #N/A
A17: 11. | B17: =VLOOKUP(C17,C$32:E$52,3,0) -> #N/A
A18: 12. | B18: =VLOOKUP(C18,C$32:E$52,3,0) -> #N/A
A19: 13. | B19: =VLOOKUP(C19,C$32:E$52,3,0) -> #N/A
A20: 14. | B20: =VLOOKUP(C20,C$32:E$52,3,0) -> #N/A
A21: 15. | B21: =VLOOKUP(C21,C$32:E$52,3,0) -> #N/A
... A27: 21. | B27: =VLOOKUP(C27,C$32:E$52,3,0) -> #N/A
A31: SEZNAM PŘIHLÁŠENÝCH | C31: Přijmení a jméno | D31: ROK NAROZENÍ | E31: ŠKOLA
C32: Raptoš David | D32: 2013 | E32: ZŠ Komenského Čelákovice
C33: Filip Lukáš | D33: 2014 | E33: ZŠ Komenského Čelákovice
C34: Růžička Tomáš | D34: 2014 | E34: ZŠ Komenského Čelákovice
C35: Pavel Blümel | D35: 2013 | E35: ZŠ Zeleneč
C36: Nikola Barbalič | D36: 2012 | E36: ZŠ Zeleneč
C37: Vladimír Vlasák | D37: 2013 | E37: ZŠ Zeleneč
C38: Beneš Adam | D38: 2014 | E38: ZŠ a MŠ Nehvizdy
C39: Řehák Sebastian | D39: 2013 | E39: ZŠ Lázně Toušeň
C40: Raptoš David | D40: 2013 | E40: ZŠ Komenského Čelákovice
C41: Filip Lukáš | D41: 2014 | E41: ZŠ Komenského Čelákovice
C42: Růžička Tomáš | D42: 2014 | E42: ZŠ Komenského Čelákovice
C43: Jelínek Filip | E43: ZŠ Semice
C44: Brůček Lukáš | E44: ZŠ Semice
C45: Němec Richard | E45: ZŠ Semice
C46: Pelant Marek | E46: ZŠ Semice
C47: Mutinský Šimon | E47: ZŠ Jirny

Sheet TENIS - CHLAPCI 6-7
A3: SPORT | B3: TENIS - DVOUHRA CHLAPCI - 6. - 7. TŘÍDA
A4: VÝSLEDKY
A6: POŘADÍ | B6: ŠKOLA | C6: PŘÍJMENÍ A JMÉNO | D6: POČET BODŮ
A7: 1. | B7: =VLOOKUP(C7,C$32:E$52,3,0) -> ZŠ Zeleneč | C7: Oliver Polášek | F7: 4
A8: 2. | B8: =VLOOKUP(C8,C$32:E$52,3,0) -> ZŠ Kamenka Čelákovice | C8: Soukup Marek 6.C | F8: 2
A9: 3. | B9: =VLOOKUP(C9,C$32:E$52,3,0) -> ZŠ Kamenka Čelákovice | C9: Petrtýl Daniel 7.B | F9: 1
A10: 4. | B10: =VLOOKUP(C10,C$32:E$52,3,0) -> #N/A
A11: 5. | B11: =VLOOKUP(C11,C$32:E$52,3,0) -> #N/A
A12: 6. | B12: =VLOOKUP(C12,C$32:E$52,3,0) -> #N/A
A13: 7. | B13: =VLOOKUP(C13,C$32:E$52,3,0) -> #N/A
A14: 8. | B14: =VLOOKUP(C14,C$32:E$52,3,0) -> #N/A
A15: 9. | B15: =VLOOKUP(C15,C$32:E$52,3,0) -> #N/A
A16: 10. | B16: =VLOOKUP(C16,C$32:E$52,3,0) -> #N/A
A17: 11. | B17: =VLOOKUP(C17,C$32:E$52,3,0) -> #N/A
A18: 12. | B18: =VLOOKUP(C18,C$32:E$52,3,0) -> #N/A
A19: 13. | B19: =VLOOKUP(C19,C$32:E$52,3,0) -> #N/A
A20: 14. | B20: =VLOOKUP(C20,C$32:E$52,3,0) -> #N/A
A21: 15. | B21: =VLOOKUP(C21,C$32:E$52,3,0) -> #N/A
... A27: 21. | B27: =VLOOKUP(C27,C$32:E$52,3,0) -> #N/A
A31: SEZNAM PŘIHLÁŠENÝCH | C31: Přijmení a jméno | D31: ROK NAROZENÍ | E31: ŠKOLA
C32: Oliver Polášek | D32: 2011 | E32: ZŠ Zeleneč
C33: Lukáš Červený | D33: 2012 | E33: ZŠ Zeleneč
C34: René Čekan | D34: 2011 | E34: ZŠ Zeleneč
C35: Hrstka Mikuláš | D35: 2012 | E35: ZŠ a MŠ Nehvizdy
C36: Kouba Dominik | D36: 2011 | E36: ZŠ a MŠ Nehvizdy
C37: Vodák Martin | D37: 2011 | E37: ZŠ a MŠ Nehvizdy
C38: Manhart Matěj | D38: 2011 | E38: ZŠ a MŠ Nehvizdy
C39: Durdynets Dominik | D39: 2011 | E39: MILLS Čelákovice
C40: Soukup Marek 6.C | D40: 2011 | E40: ZŠ Kamenka Čelákovice
C41: Petrtýl Daniel 7.B | D41: 2009 | E41: ZŠ Kamenka Čelákovice
C42: Holý Lukáš 7.A | D42: 2010 | E42: ZŠ Kamenka Čelákovice
C43: Bendžuch Samuel 6.C | D43: 2011 | E43: ZŠ Kamenka Čelákovice
... C48: Keřtof Jakub | D48: 2011 | E48: ZŠ Komenského Čelákovice
C49: Malý Alex | E49: ZŠ Semice
C50: Odehnal Adam | E50: ZŠ Semice
C51: Málek Jiří | E51: ZŠ Semice
C52: Vyleťal Lukáš | E52: ZŠ Semice

Sheet TENIS - CHLAPCI 8-9
A3: SPORT | B3: TENIS - DVOUHRA CHLAPCI - 8. - 9. TŘÍDA
A4: VÝSLEDKY
A6: POŘADÍ | B6: ŠKOLA | C6: PŘÍJMENÍ A JMÉNO | D6: POČET BODŮ
A7: 1. | B7: =VLOOKUP(C7,C$32:E$52,3,0) -> ZŠ Kamenka Čelákovice | C7: Kodera Matyáš 9.A | F7: 4
A8: 2. | B8: =VLOOKUP(C8,C$32:E$52,3,0) -> ZŠ a MŠ Nehvizdy | C8: Vališ Šimon | F8: 2
A9: 3. | B9: =VLOOKUP(C9,C$32:E$52,3,0) -> ZŠ Kamenka Čelákovice | C9: Cveček Filip | F9: 1
A10: 4. | B10: =VLOOKUP(C10,C$32:E$52,3,0) -> #N/A
A11: 5. | B11: =VLOOKUP(C11,C$32:E$52,3,0) -> #N/A
A12: 6. | B12: =VLOOKUP(C12,C$32:E$52,3,0) -> #N/A
A13: 7. | B13: =VLOOKUP(C13,C$32:E$52,3,0) -> #N/A
A14: 8. | B14: =VLOOKUP(C14,C$32:E$52,3,0) -> #N/A
A15: 9. | B15: =VLOOKUP(C15,C$32:E$52,3,0) -> #N/A
A16: 10. | B16: =VLOOKUP(C16,C$32:E$52,3,0) -> #N/A
A17: 11. | B17: =VLOOKUP(C17,C$32:E$52,3,0) -> #N/A
A18: 12. | B18: =VLOOKUP(C18,C$32:E$52,3,0) -> #N/A
A19: 13. | B19: =VLOOKUP(C19,C$32:E$52,3,0) -> #N/A
A20: 14. | B20: =VLOOKUP(C20,C$32:E$52,3,0) -> #N/A
A21: 15. | B21: =VLOOKUP(C21,C$32:E$52,3,0) -> #N/A
... A27: 21. | B27: =VLOOKUP(C27,C$32:E$52,3,0) -> #N/A
A31: SEZNAM PŘIHLÁŠENÝCH | C31: Přijmení a jméno | D31: ROK NAROZENÍ | E31: ŠKOLA
C32: David Červený | D32: 2008 | E32: ZŠ Zeleneč
C33: Vališ Šimon | D33: 2009 | E33: ZŠ a MŠ Nehvizdy
C34: Augusta Alex | D34: 2010 | E34: ZŠ a MŠ Nehvizdy
C35: Goč Ladislav | D35: 2008 | E35: ZŠ a MŠ Nehvizdy
C36: Hendrych Alex | D36: 2010 | E36: MILLS Čelákovice
C37: Cveček Filip | D37: 2010/2008 | E37: ZŠ Kamenka Čelákovice
C38: Kodera Matyáš 9.A | D38: 2008 | E38: ZŠ Kamenka Čelákovice
C39: Šuráň Vítek 8.B | D39: 2009 | E39: ZŠ Kamenka Čelákovice
C40: Soukal Štěpán 9.C | D40: 2008 | E40: ZŠ Kamenka Čelákovice
C41: Kosek Tomáš | D41: 2010 | E41: Gymnázium Čelákovice
C42: Hladík Lukáš | D42: 2010 | E42: Gymnázium Čelákovice
C43: Uldrich Matyáš, | D43: 2009 | E43: ZŠ Komenského Čelákovice
C44: Kudrna Kryštof | D44: 2010 | E44: ZŠ Komenského Čelákovice
C45: Holan Tomáš | E45: ZŠ Semice
C46: Kubela Kamil | E46: ZŠ Semice
C47: Čermák Jakub | E47: ZŠ Semice
C48: Pavliš Michal | E48: ZŠ Semice

Sheet TENIS - ČTYŘHRA DÍVKY
A3: SPORT | B3: TENIS - ČTYŘHRA DÍVKY - 8. 9. TŘÍDA
A4: VÝSLEDKY
A6: POŘADÍ | B6: ŠKOLA | C6: PŘÍJMENÍ A JMÉNO | D6: POČET BODŮ
A7: 1. | B7: =VLOOKUP(C7,C$32:E$52,3,0) -> ZŠ a MŠ Nehvizdy | C7: Kolářová Daniela + Smíšková Iva | F7: 4
A8: 2. | B8: =VLOOKUP(C8,C$32:E$52,3,0) -> ZŠ Kamenka Čelákovice | C8: Bidzilia Barbora 9.A a Počárovská Marie | F8: 2
A9: 3. | B9: =VLOOKUP(C9,C$32:E$52,3,0) -> ZŠ a MŠ Nehvizdy | C9: Tydlačková Nikola + Sas Karolína | F9: 1
A10: 4. | B10: =VLOOKUP(C10,C$32:E$52,3,0) -> #N/A
A11: 5. | B11: =VLOOKUP(C11,C$32:E$52,3,0) -> #N/A
A12: 6. | B12: =VLOOKUP(C12,C$32:E$52,3,0) -> #N/A
A13: 7. | B13: =VLOOKUP(C13,C$32:E$52,3,0) -> #N/A
A14: 8. | B14: =VLOOKUP(C14,C$32:E$52,3,0) -> #N/A
A15: 9. | B15: =VLOOKUP(C15,C$32:E$52,3,0) -> #N/A
A16: 10. | B16: =VLOOKUP(C16,C$32:E$52,3,0) -> #N/A
A17: 11. | B17: =VLOOKUP(C17,C$32:E$52,3,0) -> #N/A
A18: 12. | B18: =VLOOKUP(C18,C$32:E$52,3,0) -> #N/A
A19: 13. | B19: =VLOOKUP(C19,C$32:E$52,3,0) -> #N/A
A20: 14. | B20: =VLOOKUP(C20,C$32:E$52,3,0) -> #N/A
A21: 15. | B21: =VLOOKUP(C21,C$32:E$52,3,0) -> #N/A
... A27: 21. | B27: =VLOOKUP(C27,C$32:E$52,3,0) -> #N/A
A31: SEZNAM PŘIHLÁŠENÝCH | C31: Přijmení a jméno | D31: ROK NAROZENÍ | E31: ŠKOLA
C32: Nela Šikýřová a Tereza Houštecká | D32: 2010 | E32: ZŠ Zeleneč
C33: Kolářová Daniela + Smíšková Iva | D33: 2009 + 2010 | E33: ZŠ a MŠ Nehvizdy
C34: Tydlačková Nikola + Sas Karolína | D34: 2009 + 2010 | E34: ZŠ a MŠ Nehvizdy
C35: Bidzilia Barbora 9.A a Počárovská Marie | E35: ZŠ Kamenka Čelákovice
C36: Bernášková Natálie 8.D a Horáková Šárka 8.C | E36: ZŠ Kamenka Čelákovice
C37: Bidzilia Sofie, Bohuslavová Aneta | E37: ZŠ Komenského Čelákovice
C38: Jandová Klára a Jelínková Adriana | E38: ZŠ Semice
C39: Šimonová Sofie a Novotná Aneta | E39: ZŠ Semice

Sheet TENIS - ČTYŘHRA CHLAPCI
A3: SPORT | B3: TENIS - ČTYŘHRA CHLAPCI - 8. 9. TŘÍDA
A4: VÝSLEDKY
A6: POŘADÍ | B6: ŠKOLA | C6: PŘÍJMENÍ A JMÉNO | D6: POČET BODŮ
A7: 1. | B7: =VLOOKUP(C7,C$32:E$52,3,0) -> ZŠ Zeleneč | C7: Červený David+ Polášek Oliver | F7: 4
A8: 2. | B8: =VLOOKUP(C8,C$32:E$52,3,0) -> ZŠ Kamenka Čelákovice | C8: Soukup Marek a Kodera Matyáš | F8: 2
A9: 3. | B9: =VLOOKUP(C9,C$32:E$52,3,0) -> ZŠ Semice | C9: Odehnal Adam a Vyleťal Lukáš | F9: 1
A10: 4. | B10: =VLOOKUP(C10,C$32:E$52,3,0) -> #N/A
A11: 5. | B11: =VLOOKUP(C11,C$32:E$52,3,0) -> #N/A
A12: 6. | B12: =VLOOKUP(C12,C$32:E$52,3,0) -> #N/A
A13: 7. | B13: =VLOOKUP(C13,C$32:E$52,3,0) -> #N/A
A14: 8. | B14: =VLOOKUP(C14,C$32:E$52,3,0) -> #N/A
A15: 9. | B15: =VLOOKUP(C15,C$32:E$52,3,0) -> #N/A
A16: 10. | B16: =VLOOKUP(C16,C$32:E$52,3,0) -> #N/A
A17: 11. | B17: =VLOOKUP(C17,C$32:E$52,3,0) -> #N/A
A18: 12. | B18: =VLOOKUP(C18,C$32:E$52,3,0) -> #N/A
A19: 13. | B19: =VLOOKUP(C19,C$32:E$52,3,0) -> #N/A
A20: 14. | B20: =VLOOKUP(C20,C$32:E$52,3,0) -> #N/A
A21: 15. | B21: =VLOOKUP(C21,C$32:E$52,3,0) -> #N/A
... A27: 21. | B27: =VLOOKUP(C27,C$32:E$52,3,0) -> #N/A
A31: SEZNAM PŘIHLÁŠENÝCH | C31: Přijmení a jméno | D31: ROK NAROZENÍ | E31: ŠKOLA
C32: Vališ Šimon + Augusta Alex nebo Goč Ladislav | D32: 2009 + 2010 nebo 2008 | E32: ZŠ a MŠ Nehvizdy
C33: Nedorost Jakub a Kodera Matyáš | E33: ZŠ Kamenka Čelákovice
C34: Soukup Marek a Kodera Matyáš | E34: ZŠ Kamenka Čelákovice
C35: Kudrna Kryštof Uldrich Matyáš | E35: ZŠ Komenského Čelákovice
C36: Holan Tomáš a Pavliš Michal | E36: ZŠ Semice
C37: Čermák Jakub a Kubela Kamil | E37: ZŠ Semice
C38: Holan Tomáš a Pavliš Michal | E38: ZŠ Semice
C39: Odehnal Adam a Vyleťal Lukáš | E39: ZŠ Semice
C40: Červený David+ Polášek Oliver | E40: ZŠ Zeleneč

Sheet NOHEJBAL DVOJICE
A3: SPORT | B3: NOHEJBAL DVOJICE 8. - 9. TŘÍDA
A4: VÝSLEDKY
A6: POŘADÍ | B6: ŠKOLA | C6: POČET BODŮ
A7: 1. | B7: ZŠ Komenského Čelákovice | F7: 4
A8: 2. | B8: Gymnázium Čelákovice | F8: 2
A9: 3. | B9: ZŠ Zeleneč | F9: 1
A10: 4.
A11: 5.
A12: 6.
A13: 7.
A14: 8.
A15: 9.
A16: 10.
A17: 11.
A19: SEZNAM PŘIHLÁŠENÝCH
A20: ='SEZNAM ŠKOL'!B3 -> ZŠ Komenského Čelákovice | C20: NE
A21: ='SEZNAM ŠKOL'!B4 -> ZŠ Kamenka Čelákovice | C21: NE
A22: ='SEZNAM ŠKOL'!B5 -> ZŠ a MŠ Nehvizdy | C22: ANO
A23: ='SEZNAM ŠKOL'!B6 -> ZŠ Semice | C23: ANO
A24: ='SEZNAM ŠKOL'!B7 -> ZŠ Zeleneč | C24: NE
A25: ='SEZNAM ŠKOL'!B8 -> Gymnázium Čelákovice | C25: NE
A26: ='SEZNAM ŠKOL'!B9 -> ZŠ Lázně Toušeň | C26: NE
A27: ='SEZNAM ŠKOL'!B10 -> MILLS Čelákovice | C27: NE
A28: ='SEZNAM ŠKOL'!B11 -> ZŠ Jirny | C28: ANO
A29: ='SEZNAM ŠKOL'!B12 -> Gymnázium Brandýs nad Labem | C29: ANO
A30: ='SEZNAM ŠKOL'!B13 -> ZáŠkola Brandýs nad Labem | C30: ANO

Sheet NOHEJBAL TROJICE
A3: SPORT | B3: NOHEJBAL DVOJICE 8. - 9. TŘÍDA
A4: VÝSLEDKY
A6: POŘADÍ | B6: ŠKOLA | C6: POČET BODŮ
A7: 1. | B7: ZŠ Komenského Čelákovice | F7: 4
A8: 2. | B8: ZŠ Semice | F8: 2
A9: 3. | B9: ZŠ Kamenka Čelákovice | F9: 1
A10: 4.
A11: 5.
A12: 6.
A13: 7.
A14: 8.
A15: 9.
A16: 10.
A17: 11.
A19: SEZNAM PŘIHLÁŠENÝCH
A20: ='SEZNAM ŠKOL'!B3 -> ZŠ Komenského Čelákovice | C20: NE
A21: ='SEZNAM ŠKOL'!B4 -> ZŠ Kamenka Čelákovice | C21: NE
A22: ='SEZNAM ŠKOL'!B5 -> ZŠ a MŠ Nehvizdy | C22: ANO
A23: ='SEZNAM ŠKOL'!B6 -> ZŠ Semice | C23: ANO
A24: ='SEZNAM ŠKOL'!B7 -> ZŠ Zeleneč | C24: NE
A25: ='SEZNAM ŠKOL'!B8 -> Gymnázium Čelákovice | C25: NE
A26: ='SEZNAM ŠKOL'!B9 -> ZŠ Lázně Toušeň | C26: NE
A27: ='SEZNAM ŠKOL'!B10 -> MILLS Čelákovice | C27: NE
A28: ='SEZNAM ŠKOL'!B11 -> ZŠ Jirny | C28: ANO
A29: ='SEZNAM ŠKOL'!B12 -> Gymnázium Brandýs nad Labem | C29: ANO
A30: ='SEZNAM ŠKOL'!B13 -> ZáŠkola Brandýs nad Labem | C30: ANO

Sheet PL. PRSA DÍVKY - 1-3
A3: SPORT | B3: PLAVÁNÍ DÍVKY PRSA - 1. - 3. TŘÍDA
A4: VÝSLEDKY
A6: POŘADÍ | B6: ŠKOLA | C6: PŘÍJMENÍ A JMÉNO | D6: POČET BODŮ
A7: 1. | B7: =VLOOKUP(C7,C$32:E$52,3,0) -> ZŠ Semice | C7: Šubrtová Tereza | F7: 4
A8: 2. | B8: =VLOOKUP(C8,C$32:E$52,3,0) -> ZáŠkola Brandýs nad Labem | C8: Ptáková Veronika | F8: 2
A9: 3. | B9: =VLOOKUP(C9,C$32:E$52,3,0) -> ZŠ Kamenka Čelákovice | C9: Kuncová Tereza | F9: 1
A10: 4. | B10: =VLOOKUP(C10,C$32:E$52,3,0) -> #N/A
A11: 5. | B11: =VLOOKUP(C11,C$32:E$52,3,0) -> #N/A
A12: 6. | B12: =VLOOKUP(C12,C$32:E$52,3,0) -> #N/A
A13: 7. | B13: =VLOOKUP(C13,C$32:E$52,3,0) -> #N/A
A14: 8. | B14: =VLOOKUP(C14,C$32:E$52,3,0) -> #N/A
A15: 9. | B15: =VLOOKUP(C15,C$32:E$52,3,0) -> #N/A
A16: 10. | B16: =VLOOKUP(C16,C$32:E$52,3,0) -> #N/A
A17: 11. | B17: =VLOOKUP(C17,C$32:E$52,3,0) -> #N/A
A18: 12. | B18: =VLOOKUP(C18,C$32:E$52,3,0) -> #N/A
A19: 13. | B19: =VLOOKUP(C19,C$32:E$52,3,0) -> #N/A
A20: 14. | B20: =VLOOKUP(C20,C$32:E$52,3,0) -> #N/A
A21: 15. | B21: =VLOOKUP(C21,C$32:E$52,3,0) -> #N/A
... A27: 21. | B27: =VLOOKUP(C27,C$32:E$52,3,0) -> #N/A
A31: SEZNAM PŘIHLÁŠENÝCH | C31: Přijmení a jméno | D31: ROK NAROZENÍ | E31: ŠKOLA
C32: Rybová Kamila | D32: 2014 | E32: ZŠ Komenského Čelákovice
C33: Bílková Anna | D33: 2014 | E33: ZŠ Komenského Čelákovice
C34: Mengerová Alena | D34: 2015 | E34: ZáŠkola Brandýs nad Labem
C35: Jansová Barbora | D35: 2015 | E35: ZáŠkola Brandýs nad Labem
C36: Ptáková Veronika | D36: 2014 | E36: ZáŠkola Brandýs nad Labem
C37: Šimicová Jana | D37: 2015 | E37: ZŠ Zeleneč
C38: Nováková Elena | D38: 2015 | E38: ZŠ a MŠ Nehvizdy
C39: Tichá Barbora | D39: 2015 | E39: ZŠ a MŠ Nehvizdy
C40: Duží Johana | D40: 2014 | E40: ZŠ a MŠ Nehvizdy
C41: Shrbená Renata | D41: 2015 | E41: ZŠ Lázně Toušeň
C42: Zinych Nasťa | D42: 2014 | E42: ZŠ Lázně Toušeň
C43: Kunclová Alžběta | D43: 2015 | E43: ZŠ Lázně Toušeň
... C51: Šubrtová Tereza | D51: 2014 | E51: ZŠ Semice

Sheet PL. KRAUL DÍVKY - 1-3
A3: SPORT | B3: PLAVÁNÍ DÍVKY KRAUL - 1. - 3. TŘÍDA
A4: VÝSLEDKY
A6: POŘADÍ | B6: ŠKOLA | C6: PŘÍJMENÍ A JMÉNO | D6: POČET BODŮ
A7: 1. | B7: =VLOOKUP(C7,C$32:E$52,3,0) -> MILLS Čelákovice | C7: Dudová Eliška | F7: 4
A8: 2. | B8: =VLOOKUP(C8,C$32:E$52,3,0) -> ZŠ a MŠ Nehvizdy | C8: Mlsnová Gabriela | F8: 2
A9: 3. | B9: =VLOOKUP(C9,C$32:E$52,3,0) -> ZŠ Kamenka Čelákovice | C9: Kuncová Tereza | F9: 1
A10: 4. | B10: =VLOOKUP(C10,C$32:E$52,3,0) -> #N/A
A11: 5. | B11: =VLOOKUP(C11,C$32:E$52,3,0) -> #N/A
A12: 6. | B12: =VLOOKUP(C12,C$32:E$52,3,0) -> #N/A
A13: 7. | B13: =VLOOKUP(C13,C$32:E$52,3,0) -> #N/A
A14: 8. | B14: =VLOOKUP(C14,C$32:E$52,3,0) -> #N/A
A15: 9. | B15: =VLOOKUP(C15,C$32:E$52,3,0) -> #N/A
A16: 10. | B16: =VLOOKUP(C16,C$32:E$52,3,0) -> #N/A
A17: 11. | B17: =VLOOKUP(C17,C$32:E$52,3,0) -> #N/A
A18: 12. | B18: =VLOOKUP(C18,C$32:E$52,3,0) -> #N/A
A19: 13. | B19: =VLOOKUP(C19,C$32:E$52,3,0) -> #N/A
A20: 14. | B20: =VLOOKUP(C20,C$32:E$52,3,0) -> #N/A
A21: 15. | B21: =VLOOKUP(C21,C$32:E$52,3,0) -> #N/A
... A27: 21. | B27: =VLOOKUP(C27,C$32:E$52,3,0) -> #N/A
A31: SEZNAM PŘIHLÁŠENÝCH | C31: Přijmení a jméno | D31: ROK NAROZENÍ | E31: ŠKOLA
C32: Dulghier Sofia | D32: 2015 | E32: ZŠ Komenského Čelákovice
C33: Štechová Inka | D33: 2014 | E33: ZŠ Zeleneč
C34: Mlsnová Gabriela | D34: 2014 | E34: ZŠ a MŠ Nehvizdy
C35: Madáčová Laura | D35: 2014 | E35: ZŠ a MŠ Nehvizdy
C36: Duží Johana | D36: 2014 | E36: ZŠ a MŠ Nehvizdy
C37: Kunclová Alžběta | D37: 2015 | E37: ZŠ Lázně Toušeň
C38: Freudlová Jana | D38: 2014 | E38: ZŠ Lázně Toušeň
C39: Grondzarová Helena | D39: 2015 | E39: ZŠ Lázně Toušeň
C40: Dudová Eliška | D40: 2016 | E40: MILLS Čelákovice
C41: Kursová Antonie | D41: 2015 | E41: MILLS Čelákovice
C42: Kuncová Tereza | D42: 2015 | E42: ZŠ Kamenka Čelákovice
C43: Myšková Sára | D43: 2015 | E43: ZŠ Kamenka Čelákovice
... C46: Šubrtová Tereza | D46: 2014 | E46: ZŠ Semice

Sheet PL. ZNAK DÍVKY - 1-3
A3: SPORT | B3: PLAVÁNÍ DÍVKY ZNAK - 1. - 3. TŘÍDA
A4: VÝSLEDKY
A6: POŘADÍ | B6: ŠKOLA | C6: PŘÍJMENÍ A JMÉNO | D6: POČET BODŮ
A7: 1. | B7: =VLOOKUP(C7,C$32:E$52,3,0) -> ZŠ Kamenka Čelákovice | C7: Žejdíková Nikol | F7: 4
A8: 2. | B8: =VLOOKUP(C8,C$32:E$52,3,0) -> ZŠ Semice | C8: Čiháková Ema | F8: 2
A9: 3. | B9: =VLOOKUP(C9,C$32:E$52,3,0) -> ZŠ Lázně Toušeň | C9: Freudlová Jana | F9: 1
A10: 4. | B10: =VLOOKUP(C10,C$32:E$52,3,0) -> #N/A
A11: 5. | B11: =VLOOKUP(C11,C$32:E$52,3,0) -> #N/A
A12: 6. | B12: =VLOOKUP(C12,C$32:E$52,3,0) -> #N/A
A13: 7. | B13: =VLOOKUP(C13,C$32:E$52,3,0) -> #N/A
A14: 8. | B14: =VLOOKUP(C14,C$32:E$52,3,0) -> #N/A
A15: 9. | B15: =VLOOKUP(C15,C$32:E$52,3,0) -> #N/A
A16: 10. | B16: =VLOOKUP(C16,C$32:E$52,3,0) -> #N/A
A17: 11. | B17: =VLOOKUP(C17,C$32:E$52,3,0) -> #N/A
A18: 12. | B18: =VLOOKUP(C18,C$32:E$52,3,0) -> #N/A
A19: 13. | B19: =VLOOKUP(C19,C$32:E$52,3,0) -> #N/A
A20: 14. | B20: =VLOOKUP(C20,C$32:E$52,3,0) -> #N/A
A21: 15. | B21: =VLOOKUP(C21,C$32:E$52,3,0) -> #N/A
... A27: 21. | B27: =VLOOKUP(C27,C$32:E$52,3,0) -> #N/A
A31: SEZNAM PŘIHLÁŠENÝCH | C31: Přijmení a jméno | D31: ROK NAROZENÍ | E31: ŠKOLA
C32: Tichá Zuzana | D32: 2015 | E32: ZŠ Komenského Čelákovice
C33: Kučerová Natálie | D33: 2014 | E33: ZŠ Komenského Čelákovice
C34: Nováková Elena | D34: 2015 | E34: ZŠ a MŠ Nehvizdy
C35: Tichá Barbora | D35: 2015 | E35: ZŠ a MŠ Nehvizdy
C36: Mlsnová Gabriela | D36: 2014 | E36: ZŠ a MŠ Nehvizdy
C37: Shrbená Renata | D37: 2015 | E37: ZŠ Lázně Toušeň
C38: Kunclová Alžběta | D38: 2015 | E38: ZŠ Lázně Toušeň
C39: Freudlová Jana | D39: 2014 | E39: ZŠ Lázně Toušeň
C40: Dudová Eliška | D40: 2016 | E40: MILLS Čelákovice
C41: Kursová Antonie | D41: 2015 | E41: MILLS Čelákovice
C42: Hogios Ana Luna | D42: 2015 | E42: MILLS Čelákovice
C43: Myšková Sára | D43: 2015 | E43: ZŠ Kamenka Čelákovice
... C47: Šubrtová Tereza | D47: 2014 | E47: ZŠ Semice
C48: Žejdíková Nikol | E48: ZŠ Kamenka Čelákovice

Sheet PL. PRSA CHLAPCI - 1-3
A3: SPORT | B3: PLAVÁNÍ CHLAPCI PRSA - 1. - 3. TŘÍDA
A4: VÝSLEDKY
A6: POŘADÍ | B6: ŠKOLA | C6: PŘÍJMENÍ A JMÉNO | D6: POČET BODŮ
A7: 1. | B7: =VLOOKUP(C7,C$32:E$52,3,0) -> ZŠ Jirny | C7: Kavalír Jakub | F7: 4
A8: 2. | B8: =VLOOKUP(C8,C$32:E$52,3,0) -> ZŠ a MŠ Nehvizdy | C8: Říha Vojtěch | F8: 2
A9: 3. | B9: =VLOOKUP(C9,C$32:E$52,3,0) -> ZŠ Lázně Toušeň | C9: Mano Tobiáš | F9: 1
A10: 4. | B10: =VLOOKUP(C10,C$32:E$52,3,0) -> #N/A
A11: 5. | B11: =VLOOKUP(C11,C$32:E$52,3,0) -> #N/A
A12: 6. | B12: =VLOOKUP(C12,C$32:E$52,3,0) -> #N/A
A13: 7. | B13: =VLOOKUP(C13,C$32:E$52,3,0) -> #N/A
A14: 8. | B14: =VLOOKUP(C14,C$32:E$52,3,0) -> #N/A
A15: 9. | B15: =VLOOKUP(C15,C$32:E$52,3,0) -> #N/A
A16: 10. | B16: =VLOOKUP(C16,C$32:E$52,3,0) -> #N/A
A17: 11. | B17: =VLOOKUP(C17,C$32:E$52,3,0) -> #N/A
A18: 12. | B18: =VLOOKUP(C18,C$32:E$52,3,0) -> #N/A
A19: 13. | B19: =VLOOKUP(C19,C$32:E$52,3,0) -> #N/A
A20: 14. | B20: =VLOOKUP(C20,C$32:E$52,3,0) -> #N/A
A21: 15. | B21: =VLOOKUP(C21,C$32:E$52,3,0) -> #N/A
... A27: 21. | B27: =VLOOKUP(C27,C$32:E$52,3,0) -> #N/A
A31: SEZNAM PŘIHLÁŠENÝCH | C31: Přijmení a jméno | D31: ROK NAROZENÍ | E31: ŠKOLA
C32: Klusoň Martin | D32: 2015 | E32: ZŠ Komenského Čelákovice
C33: Langer Filip | D33: 2015 | E33: ZáŠkola Brandýs nad Labem
C34: Papež Kryštof | D34: 2015 | E34: ZáŠkola Brandýs nad Labem
C35: Petruška Lumír | D35: 2015 | E35: ZáŠkola Brandýs nad Labem
C36: Říha Vojtěch | D36: 2014 | E36: ZŠ a MŠ Nehvizdy
C37: Vaculík Michael Christopher | D37: 2015 | E37: ZŠ a MŠ Nehvizdy
C38: Krejčík Kryštof | D38: 2015 | E38: ZŠ a MŠ Nehvizdy
C39: Mano Tobiáš | D39: 2015 | E39: ZŠ Lázně Toušeň
C40: Antal Ivan | D40: 2014 | E40: ZŠ Lázně Toušeň
C41: Hřebíček Adam | D41: 2014 | E41: ZŠ Lázně Toušeň
C42: Falc Adam | D42: 2016 | E42: MILLS Čelákovice
C43: Maták Oliver | D43: 2016 | E43: MILLS Čelákovice
... C49: Brůček Lukáš | D49: 2014 | E49: ZŠ Semice
C50: Kavalír Jakub | E50: ZŠ Jirny

Sheet PL. KRAUL CHLAPCI - 1-3
A3: SPORT | B3: PLAVÁNÍ CHLAPCI KRAUL - 1. - 3. TŘÍDA
A4: VÝSLEDKY
A6: POŘADÍ | B6: ŠKOLA | C6: PŘÍJMENÍ A JMÉNO | D6: POČET BODŮ
A7: 1. | B7: =VLOOKUP(C7,C$32:E$52,3,0) -> ZŠ a MŠ Nehvizdy | C7: Říha Vojtěch | F7: 4
A8: 2. | B8: =VLOOKUP(C8,C$32:E$52,3,0) -> ZŠ Kamenka Čelákovice | C8: Kočvara Matouš | F8: 2
A9: 3. | B9: =VLOOKUP(C9,C$32:E$52,3,0) -> ZŠ Jirny | C9: Kavalír Jakub | F9: 1
A10: 4. | B10: =VLOOKUP(C10,C$32:E$52,3,0) -> #N/A
A11: 5. | B11: =VLOOKUP(C11,C$32:E$52,3,0) -> #N/A
A12: 6. | B12: =VLOOKUP(C12,C$32:E$52,3,0) -> #N/A
A13: 7. | B13: =VLOOKUP(C13,C$32:E$52,3,0) -> #N/A
A14: 8. | B14: =VLOOKUP(C14,C$32:E$52,3,0) -> #N/A
A15: 9. | B15: =VLOOKUP(C15,C$32:E$52,3,0) -> #N/A
A16: 10. | B16: =VLOOKUP(C16,C$32:E$52,3,0) -> #N/A
A17: 11. | B17: =VLOOKUP(C17,C$32:E$52,3,0) -> #N/A
A18: 12. | B18: =VLOOKUP(C18,C$32:E$52,3,0) -> #N/A
A19: 13. | B19: =VLOOKUP(C19,C$32:E$52,3,0) -> #N/A
A20: 14. | B20: =VLOOKUP(C20,C$32:E$52,3,0) -> #N/A
A21: 15. | B21: =VLOOKUP(C21,C$32:E$52,3,0) -> #N/A
... A27: 21. | B27: =VLOOKUP(C27,C$32:E$52,3,0) -> #N/A
A31: SEZNAM PŘIHLÁŠENÝCH | C31: Přijmení a jméno | D31: ROK NAROZENÍ | E31: ŠKOLA
C32: Říha Vojtěch | D32: 2014 | E32: ZŠ a MŠ Nehvizdy
C33: Vaculík Michael Christopher | D33: 2015 | E33: ZŠ a MŠ Nehvizdy
C34: Krejčík Kryštof | D34: 2015 | E34: ZŠ a MŠ Nehvizdy
C35: Mano Tobiáš | D35: 2015 | E35: ZŠ Lázně Toušeň
C36: Borecký Lukáš | D36: 2015 | E36: ZŠ Lázně Toušeň
C37: Hrábek Lukáš | D37: 2014 | E37: ZŠ Lázně Toušeň
C38: Jirků Daniel | D38: 2014 | E38: MILLS Čelákovice
C39: Maták Oliver | D39: 2016 | E39: MILLS Čelákovice
C40: Falc Adam | D40: 2016 | E40: MILLS Čelákovice
C41: Havlíček Jonáš | D41: 2016 | E41: ZŠ Kamenka Čelákovice
C42: Kočvara Matouš | D42: 2015 | E42: ZŠ Kamenka Čelákovice
C43: Němec Richard | D43: 2015 | E43: ZŠ Semice
... C45: Brůček Lukáš | D45: 2014 | E45: ZŠ Semice
C46: Kavalír Jakub | E46: ZŠ Jirny

Sheet PL. ZNAK CHLAPCI - 1-3
A3: SPORT | B3: PLAVÁNÍ CHLAPCI ZNAK - 1. - 3. TŘÍDA
A4: VÝSLEDKY
A6: POŘADÍ | B6: ŠKOLA | C6: PŘÍJMENÍ A JMÉNO | D6: POČET BODŮ
A7: 1. | B7: =VLOOKUP(C7,C$32:E$52,3,0) -> ZŠ a MŠ Nehvizdy | C7: Říha Vojtěch | F7: 4
A8: 2. | B8: =VLOOKUP(C8,C$32:E$52,3,0) -> ZŠ Jirny | C8: Kavalír Jakub | F8: 2
A9: 3. | B9: =VLOOKUP(C9,C$32:E$52,3,0) -> ZŠ Kamenka Čelákovice | C9: Kočvara Matouš | F9: 1
A10: 4. | B10: =VLOOKUP(C10,C$32:E$52,3,0) -> #N/A
A11: 5. | B11: =VLOOKUP(C11,C$32:E$52,3,0) -> #N/A
A12: 6. | B12: =VLOOKUP(C12,C$32:E$52,3,0) -> #N/A
A13: 7. | B13: =VLOOKUP(C13,C$32:E$52,3,0) -> #N/A
A14: 8. | B14: =VLOOKUP(C14,C$32:E$52,3,0) -> #N/A
A15: 9. | B15: =VLOOKUP(C15,C$32:E$52,3,0) -> #N/A
A16: 10. | B16: =VLOOKUP(C16,C$32:E$52,3,0) -> #N/A
A17: 11. | B17: =VLOOKUP(C17,C$32:E$52,3,0) -> #N/A
A18: 12. | B18: =VLOOKUP(C18,C$32:E$52,3,0) -> #N/A
A19: 13. | B19: =VLOOKUP(C19,C$32:E$52,3,0) -> #N/A
A20: 14. | B20: =VLOOKUP(C20,C$32:E$52,3,0) -> #N/A
A21: 15. | B21: =VLOOKUP(C21,C$32:E$52,3,0) -> #N/A
... A27: 21. | B27: =VLOOKUP(C27,C$32:E$52,3,0) -> #N/A
A31: SEZNAM PŘIHLÁŠENÝCH | C31: Přijmení a jméno | D31: ROK NAROZENÍ | E31: ŠKOLA
C32: Karel Hořejší Petr | D32: 2015 | E32: ZŠ Komenského Čelákovice
C33: Říha Vojtěch | D33: 2014 | E33: ZŠ a MŠ Nehvizdy
C34: Vaculík Michael Christopher | D34: 2015 | E34: ZŠ a MŠ Nehvizdy
C35: Krejčík Kryštof | D35: 2015 | E35: ZŠ a MŠ Nehvizdy
C36: Mano Tobiáš | D36: 2015 | E36: ZŠ Lázně Toušeň
C37: Hrábek Jiří | D37: 2014 | E37: ZŠ Lázně Toušeň
C38: Hřebíček Adam | D38: 2014 | E38: ZŠ Lázně Toušeň
C39: Jirků Daniel | D39: 2014 | E39: MILLS Čelákovice
C40: Maták Oliver | D40: 2016 | E40: MILLS Čelákovice
C41: Falc Adam | D41: 2016 | E41: MILLS Čelákovice
C42: Kautcký Ondřej | D42: 2016 | E42: ZŠ Kamenka Čelákovice
C43: Kočvara Matouš | D43: 2015 | E43: ZŠ Kamenka Čelákovice
... C46: Brůček Lukáš | D46: 2014 | E46: ZŠ Semice
C47: Kavalír Jakub | E47: ZŠ Jirny

Sheet PL. PRSA DÍVKY - 4-5
A3: SPORT | B3: PLAVÁNÍ DÍVKY PRSA - 4. - 5. TŘÍDA
A4: VÝSLEDKY
A6: POŘADÍ | B6: ŠKOLA | C6: PŘÍJMENÍ A JMÉNO | D6: POČET BODŮ
A7: 1. | B7: =VLOOKUP(C7,C$32:E$52,3,0) -> ZŠ Lázně Toušeň | C7: Brázdová Justýna
A8: 2. | B8: =VLOOKUP(C8,C$32:E$52,3,0) -> MILLS Čelákovice | C8: Kolářová Anežka
A9: 3. | B9: =VLOOKUP(C9,C$32:E$52,3,0) -> ZŠ Kamenka Čelákovice | C9: Kernerová Michaela
A10: 4. | B10: =VLOOKUP(C10,C$32:E$52,3,0) -> #N/A
A11: 5. | B11: =VLOOKUP(C11,C$32:E$52,3,0) -> #N/A
A12: 6. | B12: =VLOOKUP(C12,C$32:E$52,3,0) -> #N/A
A13: 7. | B13: =VLOOKUP(C13,C$32:E$52,3,0) -> #N/A
A14: 8. | B14: =VLOOKUP(C14,C$32:E$52,3,0) -> #N/A
A15: 9. | B15: =VLOOKUP(C15,C$32:E$52,3,0) -> #N/A
A16: 10. | B16: =VLOOKUP(C16,C$32:E$52,3,0) -> #N/A
A17: 11. | B17: =VLOOKUP(C17,C$32:E$52,3,0) -> #N/A
A18: 12. | B18: =VLOOKUP(C18,C$32:E$52,3,0) -> #N/A
A19: 13. | B19: =VLOOKUP(C19,C$32:E$52,3,0) -> #N/A
A20: 14. | B20: =VLOOKUP(C20,C$32:E$52,3,0) -> #N/A
A21: 15. | B21: =VLOOKUP(C21,C$32:E$52,3,0) -> #N/A
... A27: 21. | B27: =VLOOKUP(C27,C$32:E$52,3,0) -> #N/A
A31: SEZNAM PŘIHLÁŠENÝCH | C31: Přijmení a jméno | D31: ROK NAROZENÍ | E31: ŠKOLA
C32: Yaroshenko Anna | D32: 2012 | E32: ZŠ Komenského Čelákovice
C33: Vidiečanová Emma | D33: 2012 | E33: ZŠ Komenského Čelákovice
C34: Žežulková Anna | D34: 2013 | E34: ZŠ Komenského Čelákovice
C35: Šafářová Sofie | D35: 2014 | E35: ZŠ Zeleneč
C36: Čudová Vanda | D36: 2012 | E36: ZŠ Zeleneč
C37: Hanzlová Amálie | D37: 2012 | E37: ZŠ a MŠ Nehvizdy
C38: Drábková Karolína | D38: 2013 | E38: ZŠ a MŠ Nehvizdy
C39: Kučíková Charlota | D39: 2013 | E39: ZŠ a MŠ Nehvizdy
C40: Brázdová Justýna | D40: 2014 | E40: ZŠ Lázně Toušeň
C41: Lysická Emma | D41: 2013 | E41: ZŠ Lázně Toušeň
C42: Šálková Erika | D42: 2013 | E42: ZŠ Lázně Toušeň
C43: Kolářová Anežka | D43: 2013 | E43: MILLS Čelákovice
... C49: Holanová Dominika | D49: 2013 | E49: ZŠ Semice
C50: Kernerová Michaela | E50: ZŠ Kamenka Čelákovice

Sheet PL. KRAUL DÍVKY - 4-5
A3: SPORT | B3: PLAVÁNÍ DÍVKY KRAUL - 4. - 5. TŘÍDA
A4: VÝSLEDKY
A6: POŘADÍ | B6: ŠKOLA | C6: PŘÍJMENÍ A JMÉNO | D6: POČET BODŮ
A7: 1. | B7: =VLOOKUP(C7,C$32:E$52,3,0) -> MILLS Čelákovice | C7: Kolářová Anežka | F7: 4
A8: 2. | B8: =VLOOKUP(C8,C$32:E$52,3,0) -> ZŠ Lázně Toušeň | C8: Brázdová Justýna | F8: 2
A9: 3. | B9: =VLOOKUP(C9,C$32:E$52,3,0) -> ZŠ Zeleneč | C9: Šafářová Sofie | F9: 1
A10: 4. | B10: =VLOOKUP(C10,C$32:E$52,3,0) -> #N/A
A11: 5. | B11: =VLOOKUP(C11,C$32:E$52,3,0) -> #N/A
A12: 6. | B12: =VLOOKUP(C12,C$32:E$52,3,0) -> #N/A
A13: 7. | B13: =VLOOKUP(C13,C$32:E$52,3,0) -> #N/A
A14: 8. | B14: =VLOOKUP(C14,C$32:E$52,3,0) -> #N/A
A15: 9. | B15: =VLOOKUP(C15,C$32:E$52,3,0) -> #N/A
A16: 10. | B16: =VLOOKUP(C16,C$32:E$52,3,0) -> #N/A
A17: 11. | B17: =VLOOKUP(C17,C$32:E$52,3,0) -> #N/A
A18: 12. | B18: =VLOOKUP(C18,C$32:E$52,3,0) -> #N/A
A19: 13. | B19: =VLOOKUP(C19,C$32:E$52,3,0) -> #N/A
A20: 14. | B20: =VLOOKUP(C20,C$32:E$52,3,0) -> #N/A
A21: 15. | B21: =VLOOKUP(C21,C$32:E$52,3,0) -> #N/A
... A27: 21. | B27: =VLOOKUP(C27,C$32:E$52,3,0) -> #N/A
A31: SEZNAM PŘIHLÁŠENÝCH | C31: Přijmení a jméno | D31: ROK NAROZENÍ | E31: ŠKOLA
C32: Ducháčková Ema | D32: 2013 | E32: ZŠ Komenského Čelákovice
C33: Musilová Ella | D33: 2013 | E33: ZŠ Komenského Čelákovice
C34: Chmelenská Lucie | D34: 2013 | E34: ZŠ Komenského Čelákovice
C35: Jourová Johana | D35: 2013 | E35: ZŠ Zeleneč
C36: Šafářová Sofie | D36: 2014 | E36: ZŠ Zeleneč
C37: Hanzlová Amálie | D37: 2012 | E37: ZŠ a MŠ Nehvizdy
C38: Adobva Valerie | D38: 2013 | E38: ZŠ a MŠ Nehvizdy
C39: Drábková Karolína | D39: 2013 | E39: ZŠ a MŠ Nehvizdy
C40: Brázdová Justýna | D40: 2014 | E40: ZŠ Lázně Toušeň
C41: Šálková Erika | D41: 2013 | E41: ZŠ Lázně Toušeň
C42: Trtilová Anežka | D42: 2013 | E42: ZŠ Lázně Toušeň
C43: Kolářová Anežka | D43: 2013 | E43: MILLS Čelákovice
... C47: Vorlíčková Eliška | D47: 2013 | E47: ZŠ Semice

Sheet PL. ZNAK DÍVKY - 4-5
A3: SPORT | B3: PLAVÁNÍ DÍVKY ZNAK - 4. - 5. TŘÍDA
A4: VÝSLEDKY
A6: POŘADÍ | B6: ŠKOLA | C6: PŘÍJMENÍ A JMÉNO | D6: POČET BODŮ
A7: 1. | B7: =VLOOKUP(C7,C$32:E$52,3,0) -> MILLS Čelákovice | C7: Kolářová Anežka | F7: 4
A8: 2. | B8: =VLOOKUP(C8,C$32:E$52,3,0) -> ZŠ Zeleneč | C8: Jourová Johana | F8: 2
A9: 3. | B9: =VLOOKUP(C9,C$32:E$52,3,0) -> ZŠ Lázně Toušeň | C9: Brázdová Justýna | F9: 1
A10: 4. | B10: =VLOOKUP(C10,C$32:E$52,3,0) -> #N/A
A11: 5. | B11: =VLOOKUP(C11,C$32:E$52,3,0) -> #N/A
A12: 6. | B12: =VLOOKUP(C12,C$32:E$52,3,0) -> #N/A
A13: 7. | B13: =VLOOKUP(C13,C$32:E$52,3,0) -> #N/A
A14: 8. | B14: =VLOOKUP(C14,C$32:E$52,3,0) -> #N/A
A15: 9. | B15: =VLOOKUP(C15,C$32:E$52,3,0) -> #N/A
A16: 10. | B16: =VLOOKUP(C16,C$32:E$52,3,0) -> #N/A
A17: 11. | B17: =VLOOKUP(C17,C$32:E$52,3,0) -> #N/A
A18: 12. | B18: =VLOOKUP(C18,C$32:E$52,3,0) -> #N/A
A19: 13. | B19: =VLOOKUP(C19,C$32:E$52,3,0) -> #N/A
A20: 14. | B20: =VLOOKUP(C20,C$32:E$52,3,0) -> #N/A
A21: 15. | B21: =VLOOKUP(C21,C$32:E$52,3,0) -> #N/A
... A27: 21. | B27: =VLOOKUP(C27,C$32:E$52,3,0) -> #N/A
A31: SEZNAM PŘIHLÁŠENÝCH | C31: Přijmení a jméno | D31: ROK NAROZENÍ | E31: ŠKOLA
C32: Yaroshenko Anna | D32: 2012 | E32: ZŠ Komenského Čelákovice
C33: Ducháčková Ema | D33: 2013 | E33: ZŠ Komenského Čelákovice
C34: Popová Zuzana | D34: 2013 | E34: ZŠ Komenského Čelákovice
C35: Jourová Johana | D35: 2013 | E35: ZŠ Zeleneč
C36: Hanzlová Amálie | D36: 2012 | E36: ZŠ a MŠ Nehvizdy
C37: Adobva Valerie | D37: 2013 | E37: ZŠ a MŠ Nehvizdy
C38: Kučíková Charlota | D38: 2013 | E38: ZŠ a MŠ Nehvizdy
C39: Brázdová Justýna | D39: 2014 | E39: ZŠ Lázně Toušeň
C40: Nováková Viktorie | D40: 2013 | E40: ZŠ Lázně Toušeň
C41: Rejmonová Michaela | D41: 2014 | E41: ZŠ Lázně Toušeň
C42: Kolářová Anežka | D42: 2013 | E42: MILLS Čelákovice
C43: Strachová Eliška | D43: 2013 | E43: MILLS Čelákovice
... C47: Kolářová Anežka | D47: 2013 | E47: MILLS Čelákovice

Sheet PL. PRSA CHLAPCI - 4-5
A3: SPORT | B3: PLAVÁNÍ CHLAPCI PRSA - 4. - 5. TŘÍDA
A4: VÝSLEDKY
A6: POŘADÍ | B6: ŠKOLA | C6: PŘÍJMENÍ A JMÉNO | D6: POČET BODŮ
A7: 1. | B7: =VLOOKUP(C7,C$32:E$52,3,0) -> ZŠ Jirny | C7: Ševčík Vít | F7: 4
A8: 2. | B8: =VLOOKUP(C8,C$32:E$52,3,0) -> ZŠ Lázně Toušeň | C8: Machota Filip | F8: 2
A9: 3. | B9: =VLOOKUP(C9,C$32:E$52,3,0) -> ZŠ Zeleneč | C9: Koryčanský Ondřej | F9: 1
A10: 4. | B10: =VLOOKUP(C10,C$32:E$52,3,0) -> #N/A
A11: 5. | B11: =VLOOKUP(C11,C$32:E$52,3,0) -> #N/A
A12: 6. | B12: =VLOOKUP(C12,C$32:E$52,3,0) -> #N/A
A13: 7. | B13: =VLOOKUP(C13,C$32:E$52,3,0) -> #N/A
A14: 8. | B14: =VLOOKUP(C14,C$32:E$52,3,0) -> #N/A
A15: 9. | B15: =VLOOKUP(C15,C$32:E$52,3,0) -> #N/A
A16: 10. | B16: =VLOOKUP(C16,C$32:E$52,3,0) -> #N/A
A17: 11. | B17: =VLOOKUP(C17,C$32:E$52,3,0) -> #N/A
A18: 12. | B18: =VLOOKUP(C18,C$32:E$52,3,0) -> #N/A
A19: 13. | B19: =VLOOKUP(C19,C$32:E$52,3,0) -> #N/A
A20: 14. | B20: =VLOOKUP(C20,C$32:E$52,3,0) -> #N/A
A21: 15. | B21: =VLOOKUP(C21,C$32:E$52,3,0) -> #N/A
... A27: 21. | B27: =VLOOKUP(C27,C$32:E$52,3,0) -> #N/A
A31: SEZNAM PŘIHLÁŠENÝCH | C31: Přijmení a jméno | D31: ROK NAROZENÍ | E31: ŠKOLA
C32: Lupu Traian | D32: 2012 | E32: ZŠ Komenského Čelákovice
C33: Mandys Kryštof | D33: 2013 | E33: ZáŠkola Brandýs nad Labem
C34: Koryčanský Ondřej | E34: ZŠ Zeleneč
C35: Blümel Pavel | E35: ZŠ Zeleneč
C36: Mostecký Jonáš | D36: 2013 | E36: ZŠ a MŠ Nehvizdy
C37: Zvonič Kryštof | D37: 2013 | E37: ZŠ a MŠ Nehvizdy
C38: Sláma Martin | D38: 2012 | E38: ZŠ a MŠ Nehvizdy
C39: Machota Filip | D39: 2013 | E39: ZŠ Lázně Toušeň
C40: Agres Filip | D40: 2013 | E40: ZŠ Lázně Toušeň
C41: Nožíř David | D41: 2012 | E41: ZŠ Lázně Toušeň
C42: Kautcký Tadeáš | D42: 2013 | E42: ZŠ Kamenka Čelákovice
C43: Kršák Daniel | D43: 2013 | E43: ZŠ Kamenka Čelákovice
C44: Ivan Zhuravlov | D44: 2013 | E44: ZŠ Kamenka Čelákovice
C45: Samek Ondřej | D45: 2013 | E45: ZŠ Semice
C46: Joza Jan | D46: 2012 | E46: ZŠ Semice
C47: Vedral Jaroslav | D47: 2012 | E47: ZŠ Semice
C48: Ševčík Vít | E48: ZŠ Jirny
C49: Nesper Oliver | E49: ZŠ Jirny
C50: Kučera Jiří | E50: ZŠ Jirny

Sheet PL. KRAUL CHLAPCI - 4-5
A3: SPORT | B3: PLAVÁNÍ CHLAPCI KRAUL - 4. - 5. TŘÍDA
A4: VÝSLEDKY
A6: POŘADÍ | B6: ŠKOLA | C6: PŘÍJMENÍ A JMÉNO | D6: POČET BODŮ
A7: 1. | B7: =VLOOKUP(C7,C$32:E$52,3,0) -> ZŠ a MŠ Nehvizdy | C7: Mostecký Jonáš | F7: 4
A8: 2. | B8: =VLOOKUP(C8,C$32:E$52,3,0) -> ZŠ Jirny | C8: Mutínský Šimon | F8: 2
A9: 3. | B9: =VLOOKUP(C9,C$32:E$52,3,0) -> ZŠ Zeleneč | C9: Blümel Pavel | F9: 1
A10: 4. | B10: =VLOOKUP(C10,C$32:E$52,3,0) -> #N/A
A11: 5. | B11: =VLOOKUP(C11,C$32:E$52,3,0) -> #N/A
A12: 6. | B12: =VLOOKUP(C12,C$32:E$52,3,0) -> #N/A
A13: 7. | B13: =VLOOKUP(C13,C$32:E$52,3,0) -> #N/A
A14: 8. | B14: =VLOOKUP(C14,C$32:E$52,3,0) -> #N/A
A15: 9. | B15: =VLOOKUP(C15,C$32:E$52,3,0) -> #N/A
A16: 10. | B16: =VLOOKUP(C16,C$32:E$52,3,0) -> #N/A
A17: 11. | B17: =VLOOKUP(C17,C$32:E$52,3,0) -> #N/A
A18: 12. | B18: =VLOOKUP(C18,C$32:E$52,3,0) -> #N/A
A19: 13. | B19: =VLOOKUP(C19,C$32:E$52,3,0) -> #N/A
A20: 14. | B20: =VLOOKUP(C20,C$32:E$52,3,0) -> #N/A
A21: 15. | B21: =VLOOKUP(C21,C$32:E$52,3,0) -> #N/A
... A27: 21. | B27: =VLOOKUP(C27,C$32:E$52,3,0) -> #N/A
A31: SEZNAM PŘIHLÁŠENÝCH | C31: Přijmení a jméno | D31: ROK NAROZENÍ | E31: ŠKOLA
C32: Lupu Traian | D32: 2012 | E32: ZŠ Komenského Čelákovice
C33: Koryčanský Ondřej | E33: ZŠ Zeleneč
C34: Blümel Pavel | E34: ZŠ Zeleneč
C35: Mostecký Jonáš | D35: 2013 | E35: ZŠ a MŠ Nehvizdy
C36: Zvonič Kryštof | D36: 2013 | E36: ZŠ a MŠ Nehvizdy
C37: Sláma Martin | D37: 2012 | E37: ZŠ a MŠ Nehvizdy
C38: Machota Filip | D38: 2013 | E38: ZŠ Lázně Toušeň
C39: Agres Filip | D39: 2013 | E39: ZŠ Lázně Toušeň
C40: Nožíř David | D40: 2012 | E40: ZŠ Lázně Toušeň
C41: Polívka Max | D41: 2013 | E41: MILLS Čelákovice
C42: Drahoš David | D42: 2014 | E42: MILLS Čelákovice
C43: Belanec Tobiáš | D43: 2013 | E43: ZŠ Kamenka Čelákovice
C44: Kršák Daniel | D44: 2013 | E44: ZŠ Kamenka Čelákovice
C45: Tarkevych Roman | D45: 2012 | E45: ZŠ Kamenka Čelákovice
C46: Jelínek Filip | D46: 2014 | E46: ZŠ Semice
... C48: Samek Ondřej | D48: 2013 | E48: ZŠ Semice
C49: Al-asbahee Tony | E49: ZŠ Jirny
C50: Mutínský Šimon | E50: ZŠ Jirny
C51: Kučera Jiří | E51: ZŠ Jirny

Sheet PL. ZNAK CHLAPCI - 4-5
A3: SPORT | B3: PLAVÁNÍ CHLAPCI ZNAK - 4. - 5. TŘÍDA
A4: VÝSLEDKY
A6: POŘADÍ | B6: ŠKOLA | C6: PŘÍJMENÍ A JMÉNO | D6: POČET BODŮ
A7: 1. | B7: =VLOOKUP(C7,C$32:E$52,3,0) -> ZŠ a MŠ Nehvizdy | C7: Mostecký Jonáš | F7: 4
A8: 2. | B8: =VLOOKUP(C8,C$32:E$52,3,0) -> ZŠ Kamenka Čelákovice | C8: Belanec Tobiáš | F8: 2
A9: 3. | B9: =VLOOKUP(C9,C$32:E$52,3,0) -> ZŠ Jirny | C9: Mutínský Šimon | F9: 1
A10: 4. | B10: =VLOOKUP(C10,C$32:E$52,3,0) -> #N/A
A11: 5. | B11: =VLOOKUP(C11,C$32:E$52,3,0) -> #N/A
A12: 6. | B12: =VLOOKUP(C12,C$32:E$52,3,0) -> #N/A
A13: 7. | B13: =VLOOKUP(C13,C$32:E$52,3,0) -> #N/A
A14: 8. | B14: =VLOOKUP(C14,C$32:E$52,3,0) -> #N/A
A15: 9. | B15: =VLOOKUP(C15,C$32:E$52,3,0) -> #N/A
A16: 10. | B16: =VLOOKUP(C16,C$32:E$52,3,0) -> #N/A
A17: 11. | B17: =VLOOKUP(C17,C$32:E$52,3,0) -> #N/A
A18: 12. | B18: =VLOOKUP(C18,C$32:E$52,3,0) -> #N/A
A19: 13. | B19: =VLOOKUP(C19,C$32:E$52,3,0) -> #N/A
A20: 14. | B20: =VLOOKUP(C20,C$32:E$52,3,0) -> #N/A
A21: 15. | B21: =VLOOKUP(C21,C$32:E$52,3,0) -> #N/A
... A27: 21. | B27: =VLOOKUP(C27,C$32:E$52,3,0) -> #N/A
A31: SEZNAM PŘIHLÁŠENÝCH | C31: Přijmení a jméno | D31: ROK NAROZENÍ | E31: ŠKOLA
C32: Lupu Traian | D32: 2012 | E32: ZŠ Komenského Čelákovice
C33: Koryčanský Ondřej | E33: ZŠ Zeleneč
C34: Mostecký Jonáš | D34: 2013 | E34: ZŠ a MŠ Nehvizdy
C35: Zvonič Kryštof | D35: 2013 | E35: ZŠ a MŠ Nehvizdy
C36: Sláma Martin | D36: 2012 | E36: ZŠ a MŠ Nehvizdy
C37: Machota Filip | D37: 2013 | E37: ZŠ Lázně Toušeň
C38: Agres Filip | D38: 2013 | E38: ZŠ Lázně Toušeň
C39: Nožíř David | D39: 2012 | E39: ZŠ Lázně Toušeň
C40: Polívka Max | D40: 2013 | E40: MILLS Čelákovice
C41: Drahoš David | D41: 2014 | E41: MILLS Čelákovice
C42: Kautcký Tadeáš | D42: 2013 | E42: ZŠ Kamenka Čelákovice
C43: Belanec Tobiáš | D43: 2013 | E43: ZŠ Kamenka Čelákovice
C44: Pavlov Nazar | D44: 2012 | E44: ZŠ Kamenka Čelákovice
C45: Pelant Marek | D45: 2012 | E45: ZŠ Semice
... C47: Joza Jan | D47: 2012 | E47: ZŠ Semice
C48: Mutínský Šimon | E48: ZŠ Jirny
C49: Ševčík Vít | E49: ZŠ Jirny
C50: Nesper Oliver | E50: ZŠ Jirny

Sheet PL. PRSA DÍVKY - 6-7
A3: SPORT | B3: PLAVÁNÍ DÍVKY PRSA - 6. - 7. TŘÍDA
A4: VÝSLEDKY
A6: POŘADÍ | B6: ŠKOLA | C6: PŘÍJMENÍ A JMÉNO | D6: POČET BODŮ
A7: 1. | B7: =VLOOKUP(C7,C$32:E$52,3,0) -> Gymnázium Brandýs nad Labem | C7: Přenosilová Eliška
A8: 2. | B8: =VLOOKUP(C8,C$32:E$52,3,0) -> ZŠ Komenského Čelákovice | C8: Rybová Eliška
A9: 3. | B9: =VLOOKUP(C9,C$32:E$52,3,0) -> ZáŠkola Brandýs nad Labem | C9: Žemlová Julie
A10: 4. | B10: =VLOOKUP(C10,C$32:E$52,3,0) -> #N/A
A11: 5. | B11: =VLOOKUP(C11,C$32:E$52,3,0) -> #N/A
A12: 6. | B12: =VLOOKUP(C12,C$32:E$52,3,0) -> #N/A
A13: 7. | B13: =VLOOKUP(C13,C$32:E$52,3,0) -> #N/A
A14: 8. | B14: =VLOOKUP(C14,C$32:E$52,3,0) -> #N/A
A15: 9. | B15: =VLOOKUP(C15,C$32:E$52,3,0) -> #N/A
A16: 10. | B16: =VLOOKUP(C16,C$32:E$52,3,0) -> #N/A
A17: 11. | B17: =VLOOKUP(C17,C$32:E$52,3,0) -> #N/A
A18: 12. | B18: =VLOOKUP(C18,C$32:E$52,3,0) -> #N/A
A19: 13. | B19: =VLOOKUP(C19,C$32:E$52,3,0) -> #N/A
A20: 14. | B20: =VLOOKUP(C20,C$32:E$52,3,0) -> #N/A
A21: 15. | B21: =VLOOKUP(C21,C$32:E$52,3,0) -> #N/A
... A27: 21. | B27: =VLOOKUP(C27,C$32:E$52,3,0) -> #N/A
A31: SEZNAM PŘIHLÁŠENÝCH | C31: Přijmení a jméno | D31: ROK NAROZENÍ | E31: ŠKOLA
C32: Žemlová Julie | D32: 2012 | E32: ZáŠkola Brandýs nad Labem
C33: Ptáková Karolína | D33: 2012 | E33: ZáŠkola Brandýs nad Labem
C34: Langerová Daniela | E34: ZáŠkola Brandýs nad Labem
C35: Gardašová Dita | D35: 2012 | E35: ZŠ Zeleneč
C36: Kovářová Michaela | D36: 2011 | E36: ZŠ a MŠ Nehvizdy
C37: Oborníková Adéla | D37: 2011 | E37: ZŠ a MŠ Nehvizdy
C38: Přenosilová Eliška | D38: 2010 | E38: Gymnázium Brandýs nad Labem
C39: Shrbená Denisa 6.C | D39: 2012 | E39: ZŠ Kamenka Čelákovice
C40: Kernerová Anna 7.C | D40: 2011 | E40: ZŠ Kamenka Čelákovice
C41: Novotná Martina 6.B | D41: 2012 | E41: ZŠ Kamenka Čelákovice
C42: Koldovská Karolína | D42: 2012 | E42: Gymnázium Čelákovice
C43: Myrdaczová Lucie | D43: 2012 | E43: Gymnázium Čelákovice
C44: Rybová Eliška | D44: 2011 | E44: ZŠ Komenského Čelákovice
C45: Hrochová Eva | D45: 2011 | E45: ZŠ Komenského Čelákovice
C46: Szabová Marika | D46: 2011 | E46: ZŠ Komenského Čelákovice
... C49: ŠIMONOVÁ AMÁLIE | D49: 2012 | E49: ZŠ Semice
C50: Pavlíková Bára | E50: ZŠ Jirny

Sheet PL. KRAUL DÍVKY - 6-7
A3: SPORT | B3: PLAVÁNÍ DÍVKY KRAUL - 6. - 7. TŘÍDA
A4: VÝSLEDKY
A6: POŘADÍ | B6: ŠKOLA | C6: PŘÍJMENÍ A JMÉNO | D6: POČET BODŮ
A7: 1. | B7: =VLOOKUP(C7,C$32:E$52,3,0) -> Gymnázium Brandýs nad Labem | C7: Přenosilová Eliška
A8: 2. | B8: =VLOOKUP(C8,C$32:E$52,3,0) -> ZŠ Jirny | C8: Pavlíková Bára
A9: 3. | B9: =VLOOKUP(C9,C$32:E$52,3,0) -> ZŠ Zeleneč | C9: Suldovská Daniela
A10: 4. | B10: =VLOOKUP(C10,C$32:E$52,3,0) -> #N/A
A11: 5. | B11: =VLOOKUP(C11,C$32:E$52,3,0) -> #N/A
A12: 6. | B12: =VLOOKUP(C12,C$32:E$52,3,0) -> #N/A
A13: 7. | B13: =VLOOKUP(C13,C$32:E$52,3,0) -> #N/A
A14: 8. | B14: =VLOOKUP(C14,C$32:E$52,3,0) -> #N/A
A15: 9. | B15: =VLOOKUP(C15,C$32:E$52,3,0) -> #N/A
A16: 10. | B16: =VLOOKUP(C16,C$32:E$52,3,0) -> #N/A
A17: 11. | B17: =VLOOKUP(C17,C$32:E$52,3,0) -> #N/A
A18: 12. | B18: =VLOOKUP(C18,C$32:E$52,3,0) -> #N/A
A19: 13. | B19: =VLOOKUP(C19,C$32:E$52,3,0) -> #N/A
A20: 14. | B20: =VLOOKUP(C20,C$32:E$52,3,0) -> #N/A
A21: 15. | B21: =VLOOKUP(C21,C$32:E$52,3,0) -> #N/A
... A27: 21. | B27: =VLOOKUP(C27,C$32:E$52,3,0) -> #N/A
A31: SEZNAM PŘIHLÁŠENÝCH | C31: Přijmení a jméno | D31: ROK NAROZENÍ | E31: ŠKOLA
C32: Gardašová Dita | D32: 2012 | E32: ZŠ Zeleneč
C33: Švancarová Zuzana | D33: 2011 | E33: ZŠ Zeleneč
C34: Suldovská Daniela | D34: 2011 | E34: ZŠ Zeleneč
C35: Kovářová Michaela | D35: 2011 | E35: ZŠ a MŠ Nehvizdy
C36: Oborníková Adéla | D36: 2011 | E36: ZŠ a MŠ Nehvizdy
C37: Přenosilová Eliška | D37: 2010 | E37: Gymnázium Brandýs nad Labem
C38: Shrbená Denisa 6.C | D38: 2012 | E38: ZŠ Kamenka Čelákovice
C39: Kesnerová Anna 7.C | D39: 2011 | E39: ZŠ Kamenka Čelákovice
C40: Kallerová Diana 6.C | D40: 2012 | E40: ZŠ Kamenka Čelákovice
C41: Koldovská Karolína | D41: 2012 | E41: Gymnázium Čelákovice
C42: Myrdaczová Lucie | D42: 2012 | E42: Gymnázium Čelákovice
C43: Rybová Eliška | D43: 2011 | E43: ZŠ Komenského Čelákovice
... C48: ŠIMONOVÁ AMÁLIE | D48: 2012 | E48: ZŠ Semice
C49: Pavlíková Bára | E49: ZŠ Jirny

Sheet PL. ZNAK DÍVKY - 6-7
A3: SPORT | B3: PLAVÁNÍ DÍVKY ZNAK - 6. - 7. TŘÍDA
A4: VÝSLEDKY
A6: POŘADÍ | B6: ŠKOLA | C6: PŘÍJMENÍ A JMÉNO | D6: POČET BODŮ
A7: 1. | B7: =VLOOKUP(C7,C$32:E$52,3,0) -> Gymnázium Brandýs nad Labem | C7: Přenosilová Eliška
A8: 2. | B8: =VLOOKUP(C8,C$32:E$52,3,0) -> Gymnázium Čelákovice | C8: Koldovská Karolína
A9: 3. | B9: =VLOOKUP(C9,C$32:E$52,3,0) -> ZŠ a MŠ Nehvizdy | C9: Kovářová Michaela
A10: 4. | B10: =VLOOKUP(C10,C$32:E$52,3,0) -> #N/A
A11: 5. | B11: =VLOOKUP(C11,C$32:E$52,3,0) -> #N/A
A12: 6. | B12: =VLOOKUP(C12,C$32:E$52,3,0) -> #N/A
A13: 7. | B13: =VLOOKUP(C13,C$32:E$52,3,0) -> #N/A
A14: 8. | B14: =VLOOKUP(C14,C$32:E$52,3,0) -> #N/A
A15: 9. | B15: =VLOOKUP(C15,C$32:E$52,3,0) -> #N/A
A16: 10. | B16: =VLOOKUP(C16,C$32:E$52,3,0) -> #N/A
A17: 11. | B17: =VLOOKUP(C17,C$32:E$52,3,0) -> #N/A
A18: 12. | B18: =VLOOKUP(C18,C$32:E$52,3,0) -> #N/A
A19: 13. | B19: =VLOOKUP(C19,C$32:E$52,3,0) -> #N/A
A20: 14. | B20: =VLOOKUP(C20,C$32:E$52,3,0) -> #N/A
A21: 15. | B21: =VLOOKUP(C21,C$32:E$52,3,0) -> #N/A
... A27: 21. | B27: =VLOOKUP(C27,C$32:E$52,3,0) -> #N/A
A31: SEZNAM PŘIHLÁŠENÝCH | C31: Přijmení a jméno | D31: ROK NAROZENÍ | E31: ŠKOLA
C32: Kovářová Michaela | D32: 2011 | E32: ZŠ a MŠ Nehvizdy
C33: Oborníková Adéla | D33: 2011 | E33: ZŠ a MŠ Nehvizdy
C34: Přenosilová Eliška | D34: 2010 | E34: Gymnázium Brandýs nad Labem
C35: Kernerová Anna 7.C | D35: 2011 | E35: ZŠ Kamenka Čelákovice
C36: Novotná Martina 6.B | D36: 2012 | E36: ZŠ Kamenka Čelákovice
C37: Kellerová Diana 6.C | D37: 2012 | E37: ZŠ Kamenka Čelákovice
C38: Koldovská Karolína | D38: 2012 | E38: Gymnázium Čelákovice
C39: Myrdaczová Lucie | D39: 2012 | E39: Gymnázium Čelákovice
C40: Rybová Eliška | D40: 2011 | E40: ZŠ Komenského Čelákovice
C41: Hrochová Eva | D41: 2011 | E41: ZŠ Komenského Čelákovice
C42: Szabová Marika | D42: 2011 | E42: ZŠ Komenského Čelákovice
C43: ZVĚŘINOVÁ ANITA | D43: 2012 | E43: ZŠ Semice
... C45: ŠIMONOVÁ AMÁLIE | D45: 2012 | E45: ZŠ Semice
C46: Pavlíková Bára | E46: ZŠ Jirny

Sheet PL. PRSA CHLAPCI - 6-7
A3: SPORT | B3: PLAVÁNÍ CHLAPCI PRSA - 6. - 7. TŘÍDA
A4: VÝSLEDKY
A6: POŘADÍ | B6: ŠKOLA | C6: PŘÍJMENÍ A JMÉNO | D6: POČET BODŮ
A7: 1. | B7: =VLOOKUP(C7,C$32:E$52,3,0) -> ZŠ Komenského Čelákovice | C7: BILJAJEV DENIS
A8: 2. | B8: =VLOOKUP(C8,C$32:E$52,3,0) -> ZŠ Kamenka Čelákovice | C8: Auersvald Šimon
A9: 3. | B9: =VLOOKUP(C9,C$32:E$52,3,0) -> Gymnázium Čelákovice | C9: Purman Matěj
A10: 4. | B10: =VLOOKUP(C10,C$32:E$52,3,0) -> #N/A
A11: 5. | B11: =VLOOKUP(C11,C$32:E$52,3,0) -> #N/A
A12: 6. | B12: =VLOOKUP(C12,C$32:E$52,3,0) -> #N/A
A13: 7. | B13: =VLOOKUP(C13,C$32:E$52,3,0) -> #N/A
A14: 8. | B14: =VLOOKUP(C14,C$32:E$52,3,0) -> #N/A
A15: 9. | B15: =VLOOKUP(C15,C$32:E$52,3,0) -> #N/A
A16: 10. | B16: =VLOOKUP(C16,C$32:E$52,3,0) -> #N/A
A17: 11. | B17: =VLOOKUP(C17,C$32:E$52,3,0) -> #N/A
A18: 12. | B18: =VLOOKUP(C18,C$32:E$52,3,0) -> #N/A
A19: 13. | B19: =VLOOKUP(C19,C$32:E$52,3,0) -> #N/A
A20: 14. | B20: =VLOOKUP(C20,C$32:E$52,3,0) -> #N/A
A21: 15. | B21: =VLOOKUP(C21,C$32:E$52,3,0) -> #N/A
... A27: 21. | B27: =VLOOKUP(C27,C$32:E$52,3,0) -> #N/A
A31: SEZNAM PŘIHLÁŠENÝCH | C31: Přijmení a jméno | D31: ROK NAROZENÍ | E31: ŠKOLA
C32: Veleta Matyáš | D32: 2011 | E32: ZŠ Zeleneč
C33: Nápravník Vojtěch | D33: 2010 | E33: ZŠ a MŠ Nehvizdy
C34: Pavlyuchyk David | D34: 2011 | E34: ZŠ a MŠ Nehvizdy
C35: Michalco Jakub 6.B | D35: 2012 | E35: ZŠ Kamenka Čelákovice
C36: Libánský Šimon 7.B | D36: 2010 | E36: ZŠ Kamenka Čelákovice
C37: Vobecký | D37: 2011 | E37: ZŠ Kamenka Čelákovice
C38: Burkert Vít | D38: 2011 | E38: Gymnázium Čelákovice
C39: Purman Matěj | D39: 2010 | E39: Gymnázium Čelákovice
C40: Hlaváček Felix Eliáš | D40: 2012 | E40: Gymnázium Čelákovice
C41: BILJAJEV DENIS | D41: 2010 | E41: ZŠ Komenského Čelákovice
C42: MAREK VÁCLAV | D42: 2011 | E42: ZŠ Komenského Čelákovice
C43: RICHTER MATYÁŠ | D43: 2010 | E43: ZŠ Komenského Čelákovice
... C47: Auersvald Šimon | D47: 2011 | E47: ZŠ Kamenka Čelákovice

Sheet PL. KRAUL CHLAPCI - 6-7
A3: SPORT | B3: PLAVÁNÍ CHLAPCI KRAUL - 6. - 7. TŘÍDA
A4: VÝSLEDKY
A6: POŘADÍ | B6: ŠKOLA | C6: PŘÍJMENÍ A JMÉNO | D6: POČET BODŮ
A7: 1. | B7: =VLOOKUP(C7,C$32:E$52,3,0) -> ZŠ Zeleneč | C7: Veleta Matyáš
A8: 2. | B8: =VLOOKUP(C8,C$32:E$52,3,0) -> ZŠ Semice | C8: HILGER JAN
A9: 3. | B9: =VLOOKUP(C9,C$32:E$52,3,0) -> Gymnázium Čelákovice | C9: Purman Matěj
A10: 4. | B10: =VLOOKUP(C10,C$32:E$52,3,0) -> #N/A
A11: 5. | B11: =VLOOKUP(C11,C$32:E$52,3,0) -> #N/A
A12: 6. | B12: =VLOOKUP(C12,C$32:E$52,3,0) -> #N/A
A13: 7. | B13: =VLOOKUP(C13,C$32:E$52,3,0) -> #N/A
A14: 8. | B14: =VLOOKUP(C14,C$32:E$52,3,0) -> #N/A
A15: 9. | B15: =VLOOKUP(C15,C$32:E$52,3,0) -> #N/A
A16: 10. | B16: =VLOOKUP(C16,C$32:E$52,3,0) -> #N/A
A17: 11. | B17: =VLOOKUP(C17,C$32:E$52,3,0) -> #N/A
A18: 12. | B18: =VLOOKUP(C18,C$32:E$52,3,0) -> #N/A
A19: 13. | B19: =VLOOKUP(C19,C$32:E$52,3,0) -> #N/A
A20: 14. | B20: =VLOOKUP(C20,C$32:E$52,3,0) -> #N/A
A21: 15. | B21: =VLOOKUP(C21,C$32:E$52,3,0) -> #N/A
... A27: 21. | B27: =VLOOKUP(C27,C$32:E$52,3,0) -> #N/A
A31: SEZNAM PŘIHLÁŠENÝCH | C31: Přijmení a jméno | D31: ROK NAROZENÍ | E31: ŠKOLA
C32: Veleta Matyáš | D32: 2011 | E32: ZŠ Zeleneč
C33: Jurzykowski Natan | D33: 2012 | E33: ZŠ Zeleneč
C34: Nápravník Vojtěch | D34: 2010 | E34: ZŠ a MŠ Nehvizdy
C35: Pavlyuchyk David | D35: 2011 | E35: ZŠ a MŠ Nehvizdy
C36: Libánský Šimon 7.B | D36: 2010 | E36: ZŠ Kamenka Čelákovice
C37: Auersvald Šimon 7.B | D37: 2011 | E37: ZŠ Kamenka Čelákovice
C38: Kočvara Denis 7.B | D38: 2011 | E38: ZŠ Kamenka Čelákovice
C39: Purman Matěj | D39: 2010 | E39: Gymnázium Čelákovice
C40: Hejnic Martin | D40: 2010 | E40: Gymnázium Čelákovice
C41: Burkert Vít | D41: 2011 | E41: Gymnázium Čelákovice
C42: BILJAJEV DENIS | D42: 2010 | E42: ZŠ Komenského Čelákovice
C43: rICHTER MATYÁŠ | D43: 2010 | E43: ZŠ Komenského Čelákovice
... C47: ČERMÁK MATĚJ | D47: 2010 | E47: ZŠ Semice

Sheet PL. ZNAK CHLAPCI - 6-7
A3: SPORT | B3: PLAVÁNÍ CHLAPCI ZNAK - 6. - 7. TŘÍDA
A4: VÝSLEDKY
A6: POŘADÍ | B6: ŠKOLA | C6: PŘÍJMENÍ A JMÉNO | D6: POČET BODŮ
A7: 1. | B7: =VLOOKUP(C7,C$32:E$52,3,0) -> ZŠ Komenského Čelákovice | C7: BILJAJEV DENIS
A8: 2. | B8: =VLOOKUP(C8,C$32:E$52,3,0) -> ZŠ a MŠ Nehvizdy | C8: Nápravník Vojtěch
A9: 3. | B9: =VLOOKUP(C9,C$32:E$52,3,0) -> ZŠ Semice | C9: HILGER JAN
A10: 4. | B10: =VLOOKUP(C10,C$32:E$52,3,0) -> #N/A
A11: 5. | B11: =VLOOKUP(C11,C$32:E$52,3,0) -> #N/A
A12: 6. | B12: =VLOOKUP(C12,C$32:E$52,3,0) -> #N/A
A13: 7. | B13: =VLOOKUP(C13,C$32:E$52,3,0) -> #N/A
A14: 8. | B14: =VLOOKUP(C14,C$32:E$52,3,0) -> #N/A
A15: 9. | B15: =VLOOKUP(C15,C$32:E$52,3,0) -> #N/A
A16: 10. | B16: =VLOOKUP(C16,C$32:E$52,3,0) -> #N/A
A17: 11. | B17: =VLOOKUP(C17,C$32:E$52,3,0) -> #N/A
A18: 12. | B18: =VLOOKUP(C18,C$32:E$52,3,0) -> #N/A
A19: 13. | B19: =VLOOKUP(C19,C$32:E$52,3,0) -> #N/A
A20: 14. | B20: =VLOOKUP(C20,C$32:E$52,3,0) -> #N/A
A21: 15. | B21: =VLOOKUP(C21,C$32:E$52,3,0) -> #N/A
... A27: 21. | B27: =VLOOKUP(C27,C$32:E$52,3,0) -> #N/A
A31: SEZNAM PŘIHLÁŠENÝCH | C31: Přijmení a jméno | D31: ROK NAROZENÍ | E31: ŠKOLA
C32: Nápravník Vojtěch | D32: 2010 | E32: ZŠ a MŠ Nehvizdy
C33: Pavlyuchyk David | D33: 2011 | E33: ZŠ a MŠ Nehvizdy
C34: Auersvald Šimon 7.B | D34: 2011 | E34: ZŠ Kamenka Čelákovice
C35: Michalco Jakub 6.B | D35: 2012 | E35: ZŠ Kamenka Čelákovice
C36: Kočvara Denis 7.B | D36: 2011 | E36: ZŠ Kamenka Čelákovice
C37: Purman Matěj | D37: 2010 | E37: Gymnázium Čelákovice
C38: Hejnic Martin | D38: 2010 | E38: Gymnázium Čelákovice
C39: Hlaváček Felix Eliáš | D39: 2012 | E39: Gymnázium Čelákovice
C40: BILJAJEV DENIS | D40: 2010 | E40: ZŠ Komenského Čelákovice
C41: KAREL ALEX | D41: 2010 | E41: ZŠ Komenského Čelákovice
C42: KLUSOŃ VOJTĚCH | D42: 2011 | E42: ZŠ Komenského Čelákovice
C43: HILGER JAN | D43: 2011 | E43: ZŠ Semice
... C45: ČERMÁK MATĚJ | D45: 2010 | E45: ZŠ Semice

Sheet PL. PRSA DÍVKY - 8-9
A3: SPORT | B3: PLAVÁNÍ DÍVKY PRSA - 8. - 9. TŘÍDA
A4: VÝSLEDKY
A6: POŘADÍ | B6: ŠKOLA | C6: PŘÍJMENÍ A JMÉNO | D6: POČET BODŮ
A7: 1. | B7: =VLOOKUP(C7,C$32:E$52,3,0) -> ZŠ Kamenka Čelákovice | C7: Ostenová Tereza 9.B
A8: 2. | B8: =VLOOKUP(C8,C$32:E$52,3,0) -> ZŠ Komenského Čelákovice | C8: Březinová Anežka
A9: 3. | B9: =VLOOKUP(C9,C$32:E$52,3,0) -> ZŠ a MŠ Nehvizdy | C9: Hladká Lucie
A10: 4. | B10: =VLOOKUP(C10,C$32:E$52,3,0) -> #N/A
A11: 5. | B11: =VLOOKUP(C11,C$32:E$52,3,0) -> #N/A
A12: 6. | B12: =VLOOKUP(C12,C$32:E$52,3,0) -> #N/A
A13: 7. | B13: =VLOOKUP(C13,C$32:E$52,3,0) -> #N/A
A14: 8. | B14: =VLOOKUP(C14,C$32:E$52,3,0) -> #N/A
A15: 9. | B15: =VLOOKUP(C15,C$32:E$52,3,0) -> #N/A
A16: 10. | B16: =VLOOKUP(C16,C$32:E$52,3,0) -> #N/A
A17: 11. | B17: =VLOOKUP(C17,C$32:E$52,3,0) -> #N/A
A18: 12. | B18: =VLOOKUP(C18,C$32:E$52,3,0) -> #N/A
A19: 13. | B19: =VLOOKUP(C19,C$32:E$52,3,0) -> #N/A
A20: 14. | B20: =VLOOKUP(C20,C$32:E$52,3,0) -> #N/A
A21: 15. | B21: =VLOOKUP(C21,C$32:E$52,3,0) -> #N/A
... A27: 21. | B27: =VLOOKUP(C27,C$32:E$52,3,0) -> #N/A
A31: SEZNAM PŘIHLÁŠENÝCH | C31: Přijmení a jméno | D31: ROK NAROZENÍ | E31: ŠKOLA
C32: Arnoldová Alex | D32: 2009 | E32: ZŠ Zeleneč
C33: Petrová Sára | D33: 2009 | E33: ZŠ a MŠ Nehvizdy
C34: Hladká Lucie | D34: 2010 | E34: ZŠ a MŠ Nehvizdy
C35: Richterová Edita | D35: 2010 | E35: ZŠ a MŠ Nehvizdy
C36: Ostenová Tereza 9.B | D36: 2008 | E36: ZŠ Kamenka Čelákovice
C37: Nedorostová Zuzana 8.C | D37: 2010 | E37: ZŠ Kamenka Čelákovice
C38: Opletalová Linda 8.C | D38: 2010 | E38: ZŠ Kamenka Čelákovice
C39: Hejnicová Hana | D39: 2008 | E39: Gymnázium Čelákovice
C40: Pospíšilová Adéla | D40: 2009 | E40: Gymnázium Čelákovice
C41: Havlová Sabina | D41: 2010 | E41: ZŠ Komenského Čelákovice
C42: Březinová Anežka | D42: 2009 | E42: ZŠ Komenského Čelákovice
C43: Mrázková Pavla | D43: 2009 | E43: ZŠ Komenského Čelákovice
... C46: TŘEŠTÍKOVÁ ZOE | D46: 2009 | E46: ZŠ Semice

Sheet PL. KRAUL DÍVKY - 8-9
A3: SPORT | B3: PLAVÁNÍ DÍVKY KRAUL - 8. - 9. TŘÍDA
A4: VÝSLEDKY
A6: POŘADÍ | B6: ŠKOLA | C6: PŘÍJMENÍ A JMÉNO | D6: POČET BODŮ
A7: 1. | B7: =VLOOKUP(C7,C$32:E$52,3,0) -> ZŠ Komenského Čelákovice | C7: Březinová Anežka
A8: 2. | B8: =VLOOKUP(C8,C$32:E$52,3,0) -> ZŠ Kamenka Čelákovice | C8: Ostenová Tereza 9.B
A9: 3. | B9: =VLOOKUP(C9,C$32:E$52,3,0) -> ZŠ Zeleneč | C9: Mátlová Agáta
A10: 4. | B10: =VLOOKUP(C10,C$32:E$52,3,0) -> #N/A
A11: 5. | B11: =VLOOKUP(C11,C$32:E$52,3,0) -> #N/A
A12: 6. | B12: =VLOOKUP(C12,C$32:E$52,3,0) -> #N/A
A13: 7. | B13: =VLOOKUP(C13,C$32:E$52,3,0) -> #N/A
A14: 8. | B14: =VLOOKUP(C14,C$32:E$52,3,0) -> #N/A
A15: 9. | B15: =VLOOKUP(C15,C$32:E$52,3,0) -> #N/A
A16: 10. | B16: =VLOOKUP(C16,C$32:E$52,3,0) -> #N/A
A17: 11. | B17: =VLOOKUP(C17,C$32:E$52,3,0) -> #N/A
A18: 12. | B18: =VLOOKUP(C18,C$32:E$52,3,0) -> #N/A
A19: 13. | B19: =VLOOKUP(C19,C$32:E$52,3,0) -> #N/A
A20: 14. | B20: =VLOOKUP(C20,C$32:E$52,3,0) -> #N/A
A21: 15. | B21: =VLOOKUP(C21,C$32:E$52,3,0) -> #N/A
... A27: 21. | B27: =VLOOKUP(C27,C$32:E$52,3,0) -> #N/A
A31: SEZNAM PŘIHLÁŠENÝCH | C31: Přijmení a jméno | D31: ROK NAROZENÍ | E31: ŠKOLA
C32: Jourová Anna | D32: 2009 | E32: ZŠ Zeleneč
C33: Mátlová Agáta | D33: 2010 | E33: ZŠ Zeleneč
C34: Petrová Sára | D34: 2009 | E34: ZŠ a MŠ Nehvizdy
C35: Hladká Lucie | D35: 2010 | E35: ZŠ a MŠ Nehvizdy
C36: Richterová Edita | D36: 2010 | E36: ZŠ a MŠ Nehvizdy
C37: Krupanská Inés | D37: 2009 | E37: MILLS Čelákovice
C38: Polívková Amélie | D38: 2010 | E38: MILLS Čelákovice
C39: Ostenová Tereza 9.B | D39: 2008 | E39: ZŠ Kamenka Čelákovice
C40: Čeřovská Klára 9.A | D40: 2009 | E40: ZŠ Kamenka Čelákovice
C41: Fridrichová Barbora 9.A | D41: 2008 | E41: ZŠ Kamenka Čelákovice
C42: Hejnicová Hana | D42: 2008 | E42: Gymnázium Čelákovice
C43: Pospíšilová Adéla | D43: 2009 | E43: Gymnázium Čelákovice
... C49: ŠIMONOVÁ SOFIE | D49: 2009 | E49: ZŠ Semice

Sheet PL. ZNAK DÍVKY - 8-9
A3: SPORT | B3: PLAVÁNÍ DÍVKY ZNAK - 8. - 9. TŘÍDA
A4: VÝSLEDKY
A6: POŘADÍ | B6: ŠKOLA | C6: PŘÍJMENÍ A JMÉNO | D6: POČET BODŮ
A7: 1. | B7: =VLOOKUP(C7,C$32:E$52,3,0) -> ZŠ Komenského Čelákovice | C7: Březinová Anežka
A8: 2. | B8: =VLOOKUP(C8,C$32:E$52,3,0) -> ZŠ Kamenka Čelákovice | C8: Ostenová Tereza 9.B
A9: 3. | B9: =VLOOKUP(C9,C$32:E$52,3,0) -> ZŠ a MŠ Nehvizdy | C9: Hladká Lucie
A10: 4. | B10: =VLOOKUP(C10,C$32:E$52,3,0) -> #N/A
A11: 5. | B11: =VLOOKUP(C11,C$32:E$52,3,0) -> #N/A
A12: 6. | B12: =VLOOKUP(C12,C$32:E$52,3,0) -> #N/A
A13: 7. | B13: =VLOOKUP(C13,C$32:E$52,3,0) -> #N/A
A14: 8. | B14: =VLOOKUP(C14,C$32:E$52,3,0) -> #N/A
A15: 9. | B15: =VLOOKUP(C15,C$32:E$52,3,0) -> #N/A
A16: 10. | B16: =VLOOKUP(C16,C$32:E$52,3,0) -> #N/A
A17: 11. | B17: =VLOOKUP(C17,C$32:E$52,3,0) -> #N/A
A18: 12. | B18: =VLOOKUP(C18,C$32:E$52,3,0) -> #N/A
A19: 13. | B19: =VLOOKUP(C19,C$32:E$52,3,0) -> #N/A
A20: 14. | B20: =VLOOKUP(C20,C$32:E$52,3,0) -> #N/A
A21: 15. | B21: =VLOOKUP(C21,C$32:E$52,3,0) -> #N/A
... A27: 21. | B27: =VLOOKUP(C27,C$32:E$52,3,0) -> #N/A
A31: SEZNAM PŘIHLÁŠENÝCH | C31: Přijmení a jméno | D31: ROK NAROZENÍ | E31: ŠKOLA
C32: Petrová Sára | D32: 2009 | E32: ZŠ a MŠ Nehvizdy
C33: Hladká Lucie | D33: 2010 | E33: ZŠ a MŠ Nehvizdy
C34: Richterová Edita | D34: 2010 | E34: ZŠ a MŠ Nehvizdy
C35: Polívková Amélie | D35: 2010 | E35: MILLS Čelákovice
C36: Ostenová Tereza 9.B | D36: 2008 | E36: ZŠ Kamenka Čelákovice
C37: Kalinová Ella 8.B | D37: 2009 | E37: ZŠ Kamenka Čelákovice
C38: Čeřovská Klára 9.A | D38: 2009 | E38: ZŠ Kamenka Čelákovice
C39: Hejnicová Hana | D39: 2008 | E39: Gymnázium Čelákovice
C40: Pospíšilová Adéla | D40: 2009 | E40: Gymnázium Čelákovice
C41: Havlová Sabina | D41: 2010 | E41: ZŠ Komenského Čelákovice
C42: Březinová Anežka | D42: 2009 | E42: ZŠ Komenského Čelákovice
C43: Mrázková Pavla | D43: 2009 | E43: ZŠ Komenského Čelákovice
... C46: TŘEŠTÍKOVÁ ZOE | D46: 2009 | E46: ZŠ Semice

Sheet PL. PRSA CHLAPCI - 8-9
A3: SPORT | B3: PLAVÁNÍ CHLAPCI PRSA - 8. - 9. TŘÍDA
A4: VÝSLEDKY
A6: POŘADÍ | B6: ŠKOLA | C6: PŘÍJMENÍ A JMÉNO | D6: POČET BODŮ
A7: 1. | B7: =VLOOKUP(C7,C$32:E$52,3,0) -> ZŠ Semice | C7: HILGER ŠTĚPÁN
A8: 2. | B8: =VLOOKUP(C8,C$32:E$52,3,0) -> Gymnázium Čelákovice | C8: Hurych Tomáš
A9: 3. | B9: =VLOOKUP(C9,C$32:E$52,3,0) -> ZŠ Kamenka Čelákovice | C9: Parák Daniel 8.C
A10: 4. | B10: =VLOOKUP(C10,C$32:E$52,3,0) -> #N/A
A11: 5. | B11: =VLOOKUP(C11,C$32:E$52,3,0) -> #N/A
A12: 6. | B12: =VLOOKUP(C12,C$32:E$52,3,0) -> #N/A
A13: 7. | B13: =VLOOKUP(C13,C$32:E$52,3,0) -> #N/A
A14: 8. | B14: =VLOOKUP(C14,C$32:E$52,3,0) -> #N/A
A15: 9. | B15: =VLOOKUP(C15,C$32:E$52,3,0) -> #N/A
A16: 10. | B16: =VLOOKUP(C16,C$32:E$52,3,0) -> #N/A
A17: 11. | B17: =VLOOKUP(C17,C$32:E$52,3,0) -> #N/A
A18: 12. | B18: =VLOOKUP(C18,C$32:E$52,3,0) -> #N/A
A19: 13. | B19: =VLOOKUP(C19,C$32:E$52,3,0) -> #N/A
A20: 14. | B20: =VLOOKUP(C20,C$32:E$52,3,0) -> #N/A
A21: 15. | B21: =VLOOKUP(C21,C$32:E$52,3,0) -> #N/A
... A27: 21. | B27: =VLOOKUP(C27,C$32:E$52,3,0) -> #N/A
A31: SEZNAM PŘIHLÁŠENÝCH | C31: Přijmení a jméno | D31: ROK NAROZENÍ | E31: ŠKOLA
C32: Jarolím Matyáš | D32: 2009 | E32: ZŠ Zeleneč
C33: Dušek Kristián | D33: 2009 | E33: ZŠ a MŠ Nehvizdy
C34: Hrouda Matěj | D34: 2010 | E34: ZŠ a MŠ Nehvizdy
C35: Tichý Antonín | D35: 2008 | E35: MILLS Čelákovice
C36: Parák Daniel 8.C | D36: 2010 | E36: ZŠ Kamenka Čelákovice
C37: Černý Tadeáš 8.B | D37: 2009 | E37: ZŠ Kamenka Čelákovice
C38: Prokop Roman 8.B | D38: 2010 | E38: ZŠ Kamenka Čelákovice
C39: NEDĚLA ADAM | D39: 2009 | E39: ZŠ Komenského Čelákovice
C40: KORČÁK JAN | D40: 2009 | E40: ZŠ Komenského Čelákovice
C41: PÝCHA MATĚJ | D41: 2009 | E41: ZŠ Komenského Čelákovice
C42: ŠUBRT JAN | D42: 2010 | E42: ZŠ Semice
C43: MICHALČÍK PETR | D43: 2008 | E43: ZŠ Semice
C44: HILGER ŠTĚPÁN | D44: 2009 | E44: ZŠ Semice
C45: Hurych Tomáš | E45: Gymnázium Čelákovice

Sheet PL. KRAUL CHLAPCI - 8-9
A3: SPORT | B3: PLAVÁNÍ CHLAPCI KRAUL - 8. - 9. TŘÍDA
A4: VÝSLEDKY
A6: POŘADÍ | B6: ŠKOLA | C6: PŘÍJMENÍ A JMÉNO | D6: POČET BODŮ
A7: 1. | B7: =VLOOKUP(C7,C$32:E$52,3,0) -> ZŠ Semice | C7: HILGER ŠTĚPÁN
A8: 2. | B8: =VLOOKUP(C8,C$32:E$52,3,0) -> Gymnázium Čelákovice | C8: Hurych Tomáš
A9: 3. | B9: =VLOOKUP(C9,C$32:E$52,3,0) -> ZŠ Komenského Čelákovice | C9: NOVÁK PATRIK
A10: 4. | B10: =VLOOKUP(C10,C$32:E$52,3,0) -> #N/A
A11: 5. | B11: =VLOOKUP(C11,C$32:E$52,3,0) -> #N/A
A12: 6. | B12: =VLOOKUP(C12,C$32:E$52,3,0) -> #N/A
A13: 7. | B13: =VLOOKUP(C13,C$32:E$52,3,0) -> #N/A
A14: 8. | B14: =VLOOKUP(C14,C$32:E$52,3,0) -> #N/A
A15: 9. | B15: =VLOOKUP(C15,C$32:E$52,3,0) -> #N/A
A16: 10. | B16: =VLOOKUP(C16,C$32:E$52,3,0) -> #N/A
A17: 11. | B17: =VLOOKUP(C17,C$32:E$52,3,0) -> #N/A
A18: 12. | B18: =VLOOKUP(C18,C$32:E$52,3,0) -> #N/A
A19: 13. | B19: =VLOOKUP(C19,C$32:E$52,3,0) -> #N/A
A20: 14. | B20: =VLOOKUP(C20,C$32:E$52,3,0) -> #N/A
A21: 15. | B21: =VLOOKUP(C21,C$32:E$52,3,0) -> #N/A
... A27: 21. | B27: =VLOOKUP(C27,C$32:E$52,3,0) -> #N/A
A31: SEZNAM PŘIHLÁŠENÝCH | C31: Přijmení a jméno | D31: ROK NAROZENÍ | E31: ŠKOLA
C32: Jarolím Matyáš | D32: 2009 | E32: ZŠ Zeleneč
C33: Jarolím Maxmilián | D33: 2009 | E33: ZŠ Zeleneč
C34: Dušek Kristián | D34: 2009 | E34: ZŠ a MŠ Nehvizdy
C35: Hrouda Matěj | D35: 2010 | E35: ZŠ a MŠ Nehvizdy
C36: Tichý Antonín | D36: 2008 | E36: MILLS Čelákovice
C37: Parák Daniel 8.C | D37: 2010 | E37: ZŠ Kamenka Čelákovice
C38: Černý Tadeáš 8.B | D38: 2009 | E38: ZŠ Kamenka Čelákovice
C39: Kuncl Matyáš 8.D | D39: 2010 | E39: ZŠ Kamenka Čelákovice
C40: NEDĚLA ADAM | D40: 2009 | E40: ZŠ Komenského Čelákovice
C41: KORČÁK JAN | D41: 2009 | E41: ZŠ Komenského Čelákovice
C42: NOVÁK PATRIK | D42: 2010 | E42: ZŠ Komenského Čelákovice
C43: ŠUBRT JAN | D43: 2010 | E43: ZŠ Semice
... C45: HILGER ŠTĚPÁN | D45: 2009 | E45: ZŠ Semice
C46: Hurych Tomáš | E46: Gymnázium Čelákovice

Sheet PL. ZNAK CHLAPCI - 8-9
A3: SPORT | B3: PLAVÁNÍ CHLAPCI ZNAK - 8. - 9. TŘÍDA
A4: VÝSLEDKY
A6: POŘADÍ | B6: ŠKOLA | C6: PŘÍJMENÍ A JMÉNO | D6: POČET BODŮ
A7: 1. | B7: =VLOOKUP(C7,C$32:E$52,3,0) -> ZŠ Komenského Čelákovice | C7: NOVÁK PATRIK
A8: 2. | B8: =VLOOKUP(C8,C$32:E$52,3,0) -> MILLS Čelákovice | C8: Tichý Antonín
A9: 3. | B9: =VLOOKUP(C9,C$32:E$52,3,0) -> Gymnázium Čelákovice | C9: Hurych Tomáš
A10: 4. | B10: =VLOOKUP(C10,C$32:E$52,3,0) -> #N/A
A11: 5. | B11: =VLOOKUP(C11,C$32:E$52,3,0) -> #N/A
A12: 6. | B12: =VLOOKUP(C12,C$32:E$52,3,0) -> #N/A
A13: 7. | B13: =VLOOKUP(C13,C$32:E$52,3,0) -> #N/A
A14: 8. | B14: =VLOOKUP(C14,C$32:E$52,3,0) -> #N/A
A15: 9. | B15: =VLOOKUP(C15,C$32:E$52,3,0) -> #N/A
A16: 10. | B16: =VLOOKUP(C16,C$32:E$52,3,0) -> #N/A
A17: 11. | B17: =VLOOKUP(C17,C$32:E$52,3,0) -> #N/A
A18: 12. | B18: =VLOOKUP(C18,C$32:E$52,3,0) -> #N/A
A19: 13. | B19: =VLOOKUP(C19,C$32:E$52,3,0) -> #N/A
A20: 14. | B20: =VLOOKUP(C20,C$32:E$52,3,0) -> #N/A
A21: 15. | B21: =VLOOKUP(C21,C$32:E$52,3,0) -> #N/A
... A27: 21. | B27: =VLOOKUP(C27,C$32:E$52,3,0) -> #N/A
A31: SEZNAM PŘIHLÁŠENÝCH | C31: Přijmení a jméno | D31: ROK NAROZENÍ | E31: ŠKOLA
C32: Dušek Kristián | D32: 2009 | E32: ZŠ a MŠ Nehvizdy
C33: Hrouda Matěj | D33: 2010 | E33: ZŠ a MŠ Nehvizdy
C34: Tichý Antonín | D34: 2008 | E34: MILLS Čelákovice
C35: Kuncl Matyáš 8.D | D35: 2010 | E35: ZŠ Kamenka Čelákovice
C36: Parák Daniel 8.C | D36: 2010 | E36: ZŠ Kamenka Čelákovice
C37: Černý Tadeáš 8.B | D37: 2009 | E37: ZŠ Kamenka Čelákovice
C38: NEDĚLA ADAM | D38: 2009 | E38: ZŠ Komenského Čelákovice
C39: KORČÁK JAN | D39: 2009 | E39: ZŠ Komenského Čelákovice
C40: PÝCHA MATĚJ | D40: 2009 | E40: ZŠ Komenského Čelákovice
C41: ŠUBRT JAN | D41: 2010 | E41: ZŠ Semice
C42: MICHALČÍK PETR | D42: 2008 | E42: ZŠ Semice
C43: HILGER ŠTĚPÁN | D43: 2009 | E43: ZŠ Semice
C44: Hurych Tomáš | E44: Gymnázium Čelákovice
C45: NOVÁK PATRIK | D45: 2010 | E45: ZŠ Komenského Čelákovice

Sheet PL. DÍVKY 4x PRSA- 8-9
A3: SPORT | B3: PLAVÁNÍ DÍVKY ŠTAFETA - 4x50M PRSA - 8. - 9. TŘÍDA
A4: VÝSLEDKY
A6: POŘADÍ | B6: ŠKOLA | C6: PŘÍJMENÍ A JMÉNO | D6: POČET BODŮ
A7: 1. | B7: =VLOOKUP(C7,C$32:E$52,3,0) -> ZŠ Komenského Čelákovice | C7: Havlová Sabina
B8: =VLOOKUP(C8,C$32:E$52,3,0) -> ZŠ Komenského Čelákovice | C8: Březinová Anežka
B9: =VLOOKUP(C9,C$32:E$52,3,0) -> ZŠ Komenského Čelákovice | C9: Mrázková Pavla
B10: =VLOOKUP(C10,C$32:E$52,3,0) -> ZŠ Komenského Čelákovice | C10: Rybová Eliška
A11: 2. | B11: =VLOOKUP(C11,C$32:E$52,3,0) -> ZŠ Kamenka Čelákovice | C11: Ostenová Tereza 9.B
B12: =VLOOKUP(C12,C$32:E$52,3,0) -> ZŠ Kamenka Čelákovice | C12: Ochotnická Olivie
B13: =VLOOKUP(C13,C$32:E$52,3,0) -> ZŠ Kamenka Čelákovice | C13: Fridrichová Barbora 9.A
B14: =VLOOKUP(C14,C$32:E$52,3,0) -> ZŠ Kamenka Čelákovice | C14: Kallerová Diana
A15: 3. | B15: =VLOOKUP(C15,C$32:E$52,3,0) -> ZŠ Semice | C15: JANDOVÁ KLÁRA
B16: =VLOOKUP(C16,C$32:E$52,3,0) -> ZŠ Semice | C16: ČIHÁKOVÁ ANETA
B17: =VLOOKUP(C17,C$32:E$52,3,0) -> ZŠ Semice | C17: Červenková Barbora
B18: =VLOOKUP(C18,C$32:E$52,3,0) -> ZŠ Semice | C18: Hubáčková Julie
B19: =VLOOKUP(C19,C$32:E$52,3,0) -> #N/A
B20: =VLOOKUP(C20,C$32:E$52,3,0) -> #N/A
B21: =VLOOKUP(C21,C$32:E$52,3,0) -> #N/A
B22: =VLOOKUP(C22,C$32:E$52,3,0) -> #N/A
B23: =VLOOKUP(C23,C$32:E$52,3,0) -> #N/A
B24: =VLOOKUP(C24,C$32:E$52,3,0) -> #N/A
B25: =VLOOKUP(C25,C$32:E$52,3,0) -> #N/A
B26: =VLOOKUP(C26,C$32:E$52,3,0) -> #N/A
B27: =VLOOKUP(C27,C$32:E$52,3,0) -> #N/A
A31: SEZNAM PŘIHLÁŠENÝCH | C31: Přijmení a jméno | D31: ROK NAROZENÍ | E31: ŠKOLA
C32: Ostenová Tereza 9.B | D32: 2008 | E32: ZŠ Kamenka Čelákovice
C33: Ochotnická Olivie | D33: 2009 | E33: ZŠ Kamenka Čelákovice
C34: Fridrichová Barbora 9.A | D34: 2008 | E34: ZŠ Kamenka Čelákovice
C35: Kallerová Diana | D35: 2010 | E35: ZŠ Kamenka Čelákovice
C36: Havlová Sabina | D36: 2010 | E36: ZŠ Komenského Čelákovice
C37: Březinová Anežka | D37: 2009 | E37: ZŠ Komenského Čelákovice
C38: Mrázková Pavla | D38: 2009 | E38: ZŠ Komenského Čelákovice
C39: Rybová Eliška | D39: 2011 | E39: ZŠ Komenského Čelákovice
C40: JANDOVÁ KLÁRA | D40: 2008 | E40: ZŠ Semice
C41: ČIHÁKOVÁ ANETA | D41: 2010 | E41: ZŠ Semice
C42: Červenková Barbora | D42: 2009 | E42: ZŠ Semice
C43: Hubáčková Julie | D43: 2009 | E43: ZŠ Semice

Sheet PL. DÍVKY 4xKRAUL - 8-9
A3: SPORT | B3: PLAVÁNÍ DÍVKY ŠTAFETA - 4x50M KRAUL - 8. - 9. TŘÍDA
A4: VÝSLEDKY
A6: POŘADÍ | B6: ŠKOLA | C6: PŘÍJMENÍ A JMÉNO | D6: POČET BODŮ
A7: 1. | B7: =VLOOKUP(C7,C$32:E$52,3,0) -> ZŠ Komenského Čelákovice | C7: Havlová Sabina
B8: =VLOOKUP(C8,C$32:E$52,3,0) -> ZŠ Komenského Čelákovice | C8: Březinová Anežka
B9: =VLOOKUP(C9,C$32:E$52,3,0) -> ZŠ Komenského Čelákovice | C9: Mrázková Pavla
B10: =VLOOKUP(C10,C$32:E$52,3,0) -> ZŠ Komenského Čelákovice | C10: Rybová Eliška
A11: 2. | B11: =VLOOKUP(C11,C$32:E$52,3,0) -> ZŠ Kamenka Čelákovice | C11: Ostenová Tereza 9.B
B12: =VLOOKUP(C12,C$32:E$52,3,0) -> ZŠ Kamenka Čelákovice | C12: Kallerová Diana
B13: =VLOOKUP(C13,C$32:E$52,3,0) -> ZŠ Kamenka Čelákovice | C13: Fridrichová Barbora
B14: =VLOOKUP(C14,C$32:E$52,3,0) -> ZŠ Kamenka Čelákovice | C14: Kalinová Ella 8.B
A15: 3. | B15: =VLOOKUP(C15,C$32:E$52,3,0) -> ZŠ Zeleneč | C15: Frkousová Beáta
B16: =VLOOKUP(C16,C$32:E$52,3,0) -> ZŠ Zeleneč | C16: Arnoldová Alex
B17: =VLOOKUP(C17,C$32:E$52,3,0) -> ZŠ Zeleneč | C17: Mátlová Agáta
B18: =VLOOKUP(C18,C$32:E$52,3,0) -> ZŠ Zeleneč | C18: Jourová Anna
A19: 4. | B19: =VLOOKUP(C19,C$32:E$52,3,0) -> ZŠ Semice | C19: JANDOVÁ KLÁRA
B20: =VLOOKUP(C20,C$32:E$52,3,0) -> ZŠ Semice | C20: ČIHÁKOVÁ ANETA
B21: =VLOOKUP(C21,C$32:E$52,3,0) -> ZŠ Semice | C21: Červenková Barbora
B22: =VLOOKUP(C22,C$32:E$52,3,0) -> ZŠ Semice | C22: HUBÁČKOVÁ Viktorie
B23: =VLOOKUP(C23,C$32:E$52,3,0) -> #N/A
B24: =VLOOKUP(C24,C$32:E$52,3,0) -> #N/A
B25: =VLOOKUP(C25,C$32:E$52,3,0) -> #N/A
B26: =VLOOKUP(C26,C$32:E$52,3,0) -> #N/A
B27: =VLOOKUP(C27,C$32:E$52,3,0) -> #N/A
A31: SEZNAM PŘIHLÁŠENÝCH | C31: Přijmení a jméno | D31: ROK NAROZENÍ | E31: ŠKOLA
C32: Frkousová Beáta | D32: 2009 | E32: ZŠ Zeleneč
C33: Arnoldová Alex | D33: 2009 | E33: ZŠ Zeleneč
C34: Mátlová Agáta | D34: 2010 | E34: ZŠ Zeleneč
C35: Jourová Anna | D35: 2009 | E35: ZŠ Zeleneč
C36: Ostenová Tereza 9.B | D36: 2008 | E36: ZŠ Kamenka Čelákovice
C37: Kallerová Diana | D37: 2009 | E37: ZŠ Kamenka Čelákovice
C38: Fridrichová Barbora | D38: 2010 | E38: ZŠ Kamenka Čelákovice
C39: Kalinová Ella 8.B | D39: 2009 | E39: ZŠ Kamenka Čelákovice
C40: Havlová Sabina | D40: 2010 | E40: ZŠ Komenského Čelákovice
C41: Březinová Anežka | D41: 2009 | E41: ZŠ Komenského Čelákovice
C42: Mrázková Pavla | D42: 2009 | E42: ZŠ Komenského Čelákovice
C43: Rybová Eliška | D43: 2011 | E43: ZŠ Komenského Čelákovice
... C47: HUBÁČKOVÁ Viktorie | D47: 2008 | E47: ZŠ Semice

Sheet PL. CHLAPCI 4x PRSA- 8-9
A3: SPORT | B3: PLAVÁNÍ CHLAPCI ŠTAFETA - 4x50M PRSA - 8. - 9. TŘÍDA
A4: VÝSLEDKY
A6: POŘADÍ | B6: ŠKOLA | C6: PŘÍJMENÍ A JMÉNO | D6: POČET BODŮ
A7: 1. | B7: =VLOOKUP(C7,C$32:E$52,3,0) -> ZŠ Komenského Čelákovice | C7: Pýcha Matěj
B8: =VLOOKUP(C8,C$32:E$52,3,0) -> ZŠ Komenského Čelákovice | C8: KORČÁK JAN
B9: =VLOOKUP(C9,C$32:E$52,3,0) -> ZŠ Komenského Čelákovice | C9: NOVÁK PATRIK
B10: =VLOOKUP(C10,C$32:E$52,3,0) -> ZŠ Komenského Čelákovice | C10: BILJAJEV DENIS
A11: 2. | B11: =VLOOKUP(C11,C$32:E$52,3,0) -> ZŠ Semice | C11: ŠUBRT JAN
B12: =VLOOKUP(C12,C$32:E$52,3,0) -> ZŠ Semice | C12: MICHALČÍK PETR
B13: =VLOOKUP(C13,C$32:E$52,3,0) -> ZŠ Semice | C13: HILGER ŠTĚPÁN
B14: =VLOOKUP(C14,C$32:E$52,3,0) -> ZŠ Semice | C14: DAVID PÁV
A15: 3. | B15: =VLOOKUP(C15,C$32:E$52,3,0) -> ZŠ Kamenka Čelákovice | C15: Parák Daniel 8.C
B16: =VLOOKUP(C16,C$32:E$52,3,0) -> ZŠ Kamenka Čelákovice | C16: Kuncl Matyáš 8.D
B17: =VLOOKUP(C17,C$32:E$52,3,0) -> ZŠ Kamenka Čelákovice | C17: Auersvald Šimon
B18: =VLOOKUP(C18,C$32:E$52,3,0) -> ZŠ Kamenka Čelákovice | C18: Mychalco Jakub
B19: =VLOOKUP(C19,C$32:E$52,3,0) -> #N/A
B20: =VLOOKUP(C20,C$32:E$52,3,0) -> #N/A
B21: =VLOOKUP(C21,C$32:E$52,3,0) -> #N/A
B22: =VLOOKUP(C22,C$32:E$52,3,0) -> #N/A
B23: =VLOOKUP(C23,C$32:E$52,3,0) -> #N/A
B24: =VLOOKUP(C24,C$32:E$52,3,0) -> #N/A
B25: =VLOOKUP(C25,C$32:E$52,3,0) -> #N/A
B26: =VLOOKUP(C26,C$32:E$52,3,0) -> #N/A
B27: =VLOOKUP(C27,C$32:E$52,3,0) -> #N/A
A31: SEZNAM PŘIHLÁŠENÝCH | C31: Přijmení a jméno | D31: ROK NAROZENÍ | E31: ŠKOLA
C32: Parák Daniel 8.C | D32: 2010 | E32: ZŠ Kamenka Čelákovice
C33: Auersvald Šimon | D33: 2009 | E33: ZŠ Kamenka Čelákovice
C34: Kuncl Matyáš 8.D | D34: 2010 | E34: ZŠ Kamenka Čelákovice
C35: Mychalco Jakub | D35: 2010 | E35: ZŠ Kamenka Čelákovice
C36: Pýcha Matěj | D36: 2009 | E36: ZŠ Komenského Čelákovice
C37: KORČÁK JAN | D37: 2009 | E37: ZŠ Komenského Čelákovice
C38: NOVÁK PATRIK | D38: 2010 | E38: ZŠ Komenského Čelákovice
C39: BILJAJEV DENIS | D39: 2012 | E39: ZŠ Komenského Čelákovice
C40: ŠUBRT JAN | D40: 2010 | E40: ZŠ Semice
C41: MICHALČÍK PETR | D41: 2008 | E41: ZŠ Semice
C42: HILGER ŠTĚPÁN | D42: 2009 | E42: ZŠ Semice
C43: DAVID PÁV | D43: 2008 | E43: ZŠ Semice

Sheet PL. CHLAPCI 4xKRAUL - 8-9
A3: SPORT | B3: PLAVÁNÍ CHLAPCI ŠTAFETA - 4x50M KRAUL - 8. - 9. TŘÍDA
A4: VÝSLEDKY
A6: POŘADÍ | B6: ŠKOLA | C6: PŘÍJMENÍ A JMÉNO | D6: POČET BODŮ
A7: 1. | B7: =VLOOKUP(C7,C$32:E$52,3,0) -> ZŠ Komenského Čelákovice | C7: Marek Václav
B8: =VLOOKUP(C8,C$32:E$52,3,0) -> ZŠ Komenského Čelákovice | C8: KORČÁK JAN
B9: =VLOOKUP(C9,C$32:E$52,3,0) -> ZŠ Komenského Čelákovice | C9: NOVÁK PATRIK
B10: =VLOOKUP(C10,C$32:E$52,3,0) -> ZŠ Komenského Čelákovice | C10: BILJAJEV DENIS
A11: 2. | B11: =VLOOKUP(C11,C$32:E$52,3,0) -> ZŠ Semice | C11: ŠUBRT JAN
B12: =VLOOKUP(C12,C$32:E$52,3,0) -> ZŠ Semice | C12: MICHALČÍK PETR
B13: =VLOOKUP(C13,C$32:E$52,3,0) -> ZŠ Semice | C13: HILGER ŠTĚPÁN
B14: =VLOOKUP(C14,C$32:E$52,3,0) -> ZŠ Semice | C14: DAVID PÁV
A15: 3. | B15: =VLOOKUP(C15,C$32:E$52,3,0) -> Gymnázium Čelákovice | C15: Purman Matěj
B16: =VLOOKUP(C16,C$32:E$52,3,0) -> Gymnázium Čelákovice | C16: Hlaváček Felix Eliáš
B17: =VLOOKUP(C17,C$32:E$52,3,0) -> Gymnázium Čelákovice | C17: Hejnic Martin
B18: =VLOOKUP(C18,C$32:E$52,3,0) -> Gymnázium Čelákovice | C18: Hurych Tomáš
A19: 4. | B19: =VLOOKUP(C19,C$32:E$52,3,0) -> ZŠ Zeleneč | C19: Jarolím Matyáš
B20: =VLOOKUP(C20,C$32:E$52,3,0) -> ZŠ Zeleneč | C20: Dadák Metoděj
B21: =VLOOKUP(C21,C$32:E$52,3,0) -> ZŠ Zeleneč | C21: Dadák Matouš
B22: =VLOOKUP(C22,C$32:E$52,3,0) -> ZŠ Zeleneč | C22: Peteraj Michael
A23: 5. | B23: =VLOOKUP(C23,C$32:E$52,3,0) -> ZŠ Kamenka Čelákovice | C23: Parák Daniel 8.C
B24: =VLOOKUP(C24,C$32:E$52,3,0) -> ZŠ Kamenka Čelákovice | C24: Kuncl Matyáš 8.D
B25: =VLOOKUP(C25,C$32:E$52,3,0) -> ZŠ Kamenka Čelákovice | C25: Libánský Šimon
B26: =VLOOKUP(C26,C$32:E$52,3,0) -> ZŠ Kamenka Čelákovice | C26: Kočvara Denis
B27: =VLOOKUP(C27,C$32:E$52,3,0) -> #N/A
A31: SEZNAM PŘIHLÁŠENÝCH | C31: Přijmení a jméno | D31: ROK NAROZENÍ | E31: ŠKOLA
C32: Jarolím Matyáš | D32: 2009 | E32: ZŠ Zeleneč
C33: Peteraj Michael | D33: 2009 | E33: ZŠ Zeleneč
C34: Dadák Metoděj | D34: 2009 | E34: ZŠ Zeleneč
C35: Dadák Matouš | D35: 2009 | E35: ZŠ Zeleneč
C36: Parák Daniel 8.C | D36: 2010 | E36: ZŠ Kamenka Čelákovice
C37: Kočvara Denis | D37: 2009 | E37: ZŠ Kamenka Čelákovice
C38: Kuncl Matyáš 8.D | D38: 2010 | E38: ZŠ Kamenka Čelákovice
C39: Libánský Šimon | D39: 2010 | E39: ZŠ Kamenka Čelákovice
C40: Marek Václav | D40: 2009 | E40: ZŠ Komenského Čelákovice
C41: KORČÁK JAN | D41: 2009 | E41: ZŠ Komenského Čelákovice
C42: NOVÁK PATRIK | D42: 2010 | E42: ZŠ Komenského Čelákovice
C43: BILJAJEV DENIS | D43: 2012 | E43: ZŠ Komenského Čelákovice
... C47: DAVID PÁV | D47: 2008 | E47: ZŠ Semice
C48: Purman Matěj | E48: Gymnázium Čelákovice
C49: Hlaváček Felix Eliáš | E49: Gymnázium Čelákovice
C50: Hejnic Martin | E50: Gymnázium Čelákovice
C51: Hurych Tomáš | E51: Gymnázium Čelákovice

Sheet DUATLON DÍVKY - 6-7
A3: SPORT | B3: DUATLON DÍVKY - 6. - 7. TŘÍDA
A4: VÝSLEDKY
A6: POŘADÍ | B6: ŠKOLA | C6: PŘÍJMENÍ A JMÉNO | D6: CELKOVÝ ČAS
A7: 1. | B7: =VLOOKUP(C7,C$32:E$52,3,0) -> Gymnázium Brandýs nad Labem | C7: Přenosilová Eliška
A8: 2. | B8: =VLOOKUP(C8,C$32:E$52,3,0) -> ZŠ Komenského Čelákovice | C8: Rybová Eliška
A9: 3. | B9: =VLOOKUP(C9,C$32:E$52,3,0) -> Gymnázium Čelákovice | C9: Heyrovská Mia
A10: 4. | B10: =VLOOKUP(C10,C$32:E$52,3,0) -> #N/A
A11: 5. | B11: =VLOOKUP(C11,C$32:E$52,3,0) -> #N/A
A12: 6. | B12: =VLOOKUP(C12,C$32:E$52,3,0) -> #N/A
A13: 7. | B13: =VLOOKUP(C13,C$32:E$52,3,0) -> #N/A
A14: 8. | B14: =VLOOKUP(C14,C$32:E$52,3,0) -> #N/A
A15: 9. | B15: =VLOOKUP(C15,C$32:E$52,3,0) -> #N/A
A16: 10. | B16: =VLOOKUP(C16,C$32:E$52,3,0) -> #N/A
A17: 11. | B17: =VLOOKUP(C17,C$32:E$52,3,0) -> #N/A
A18: 12. | B18: =VLOOKUP(C18,C$32:E$52,3,0) -> #N/A
A19: 13. | B19: =VLOOKUP(C19,C$32:E$52,3,0) -> #N/A
A20: 14. | B20: =VLOOKUP(C20,C$32:E$52,3,0) -> #N/A
A21: 15. | B21: =VLOOKUP(C21,C$32:E$52,3,0) -> #N/A
... A27: 21. | B27: =VLOOKUP(C27,C$32:E$52,3,0) -> #N/A
A31: SEZNAM PŘIHLÁŠENÝCH | C31: Přijmení a jméno | D31: ROK NAROZENÍ | E31: ŠKOLA
C32: Rašínová Magdaléna | E32: Gymnázium Čelákovice
C33: Heyrovská Mia | E33: Gymnázium Čelákovice
C34: Opolská Magdaléna | E34: ZŠ Semice
C35: Krausová Anna | E35: ZŠ Semice
C36: Šimonová Amálie | E36: ZŠ Semice
C37: Procházková Karolína | E37: ZŠ Semice
C38: Rybová Eliška | E38: ZŠ Komenského Čelákovice
C39: Szabová Marika | E39: ZŠ Komenského Čelákovice
C40: Přenosilová Eliška | E40: Gymnázium Brandýs nad Labem

Sheet DUATLON CHLAPCI - 6-7
A3: SPORT | B3: DUATLON CHLAPCI - 6. - 7. TŘÍDA
A4: VÝSLEDKY
A6: POŘADÍ | B6: ŠKOLA | C6: PŘÍJMENÍ A JMÉNO | D6: CELKOVÝ ČAS
A7: 1. | B7: =VLOOKUP(C7,C$32:E$52,3,0) -> Gymnázium Čelákovice | C7: Burkert Vít
A8: 2. | B8: =VLOOKUP(C8,C$32:E$52,3,0) -> ZŠ Zeleneč | C8: Veleta Matyáš
A9: 3. | B9: =VLOOKUP(C9,C$32:E$52,3,0) -> ZŠ Semice | C9: Benetka Matěj
A10: 4. | B10: =VLOOKUP(C10,C$32:E$52,3,0) -> #N/A
A11: 5. | B11: =VLOOKUP(C11,C$32:E$52,3,0) -> #N/A
A12: 6. | B12: =VLOOKUP(C12,C$32:E$52,3,0) -> #N/A
A13: 7. | B13: =VLOOKUP(C13,C$32:E$52,3,0) -> #N/A
A14: 8. | B14: =VLOOKUP(C14,C$32:E$52,3,0) -> #N/A
A15: 9. | B15: =VLOOKUP(C15,C$32:E$52,3,0) -> #N/A
A16: 10. | B16: =VLOOKUP(C16,C$32:E$52,3,0) -> #N/A
A17: 11. | B17: =VLOOKUP(C17,C$32:E$52,3,0) -> #N/A
A18: 12. | B18: =VLOOKUP(C18,C$32:E$52,3,0) -> #N/A
A19: 13. | B19: =VLOOKUP(C19,C$32:E$52,3,0) -> #N/A
A20: 14. | B20: =VLOOKUP(C20,C$32:E$52,3,0) -> #N/A
A21: 15. | B21: =VLOOKUP(C21,C$32:E$52,3,0) -> #N/A
... A27: 21. | B27: =VLOOKUP(C27,C$32:E$52,3,0) -> #N/A
A31: SEZNAM PŘIHLÁŠENÝCH | C31: Přijmení a jméno | D31: ROK NAROZENÍ | E31: ŠKOLA
C32: Burkert Vít | E32: Gymnázium Čelákovice
C33: Vyleťal Lukáš | E33: ZŠ Semice
C34: Brůček Jakub | E34: ZŠ Semice
C35: Serbus Matouš | E35: ZŠ Semice
C36: Mrkvička Radek | E36: ZŠ Semice
C37: Veleta Matyáš | E37: ZŠ Zeleneč
C38: Marek Václav | E38: ZŠ Komenského Čelákovice
C39: Biljajev Denis | E39: ZŠ Komenského Čelákovice
C40: Richter Matyáš | E40: ZŠ Komenského Čelákovice
C41: Andrei Andrei | E41: ZŠ Komenského Čelákovice
C42: Krátký Lukáš | E42: ZŠ Komenského Čelákovice
C43: Klusoň Vojtěch | E43: ZŠ Komenského Čelákovice
C44: Benetka Matěj | E44: ZŠ Semice

Sheet DUATLON DÍVKY - 8-9
A3: SPORT | B3: DUATLON DÍVKY - 8. - 9. TŘÍDA
A4: VÝSLEDKY
A6: POŘADÍ | B6: ŠKOLA | C6: PŘÍJMENÍ A JMÉNO | D6: CELKOVÝ ČAS
A7: 1. | B7: =VLOOKUP(C7,C$32:E$52,3,0) -> ZŠ Zeleneč | C7: Mátlová Agáta
A8: 2. | B8: =VLOOKUP(C8,C$32:E$52,3,0) -> ZŠ Semice | C8: Čiháková Aneta
A9: 3. | B9: =VLOOKUP(C9,C$32:E$52,3,0) -> Gymnázium Čelákovice | C9: Hejnicová Hana
A10: 4. | B10: =VLOOKUP(C10,C$32:E$52,3,0) -> #N/A
A11: 5. | B11: =VLOOKUP(C11,C$32:E$52,3,0) -> #N/A
A12: 6. | B12: =VLOOKUP(C12,C$32:E$52,3,0) -> #N/A
A13: 7. | B13: =VLOOKUP(C13,C$32:E$52,3,0) -> #N/A
A14: 8. | B14: =VLOOKUP(C14,C$32:E$52,3,0) -> #N/A
A15: 9. | B15: =VLOOKUP(C15,C$32:E$52,3,0) -> #N/A
A16: 10. | B16: =VLOOKUP(C16,C$32:E$52,3,0) -> #N/A
A17: 11. | B17: =VLOOKUP(C17,C$32:E$52,3,0) -> #N/A
A18: 12. | B18: =VLOOKUP(C18,C$32:E$52,3,0) -> #N/A
A19: 13. | B19: =VLOOKUP(C19,C$32:E$52,3,0) -> #N/A
A20: 14. | B20: =VLOOKUP(C20,C$32:E$52,3,0) -> #N/A
A21: 15. | B21: =VLOOKUP(C21,C$32:E$52,3,0) -> #N/A
... A27: 21. | B27: =VLOOKUP(C27,C$32:E$52,3,0) -> #N/A
A31: SEZNAM PŘIHLÁŠENÝCH | C31: Přijmení a jméno | D31: ROK NAROZENÍ | E31: ŠKOLA
C32: Hejnicová Hana | E32: Gymnázium Čelákovice
C33: Lebrušková Magda | E33: Gymnázium Čelákovice
C34: Přenosilová Eliška | E34: Gymnázium Brandýs nad Labem
C35: Čiháková Aneta | E35: ZŠ Semice
C36: Jelínková Adriana | E36: ZŠ Semice
C37: Novotná Aneta | E37: ZŠ Semice
C38: Nela Pažoutová | E38: ZŠ Semice
C39: Mátlová Agáta | E39: ZŠ Zeleneč
C40: Bidzilia Sofie | E40: ZŠ Komenského Čelákovice
C41: Březinová Anežka | E41: ZŠ Komenského Čelákovice

Sheet DUATLON CHLAPCI - 8-9
A3: SPORT | B3: DUATLON CHLAPCI - 8. - 9. TŘÍDA
A4: VÝSLEDKY
A6: POŘADÍ | B6: ŠKOLA | C6: PŘÍJMENÍ A JMÉNO | D6: CELKOVÝ ČAS | G6: Čas plavání | H6: Pořadí plavání | I6: Nejlepší čas plavání | J6: Handicap | K6: Běh s hadicapem | L6: Čas běhu | M6: Pořadí běhu | N6: Celkový čas
A7: 1. | B7: =VLOOKUP(C7,C$32:E$52,3,0) -> ZŠ Komenského Čelákovice | C7: Krbec Martin | D7: =N7
A8: 2. | B8: =VLOOKUP(C8,C$32:E$52,3,0) -> ZŠ Zeleneč | C8: Dadák Metoděj
A9: 3. | B9: =VLOOKUP(C9,C$32:E$52,3,0) -> Gymnázium Čelákovice | C9: Hurych Tomáš
A10: 4. | B10: =VLOOKUP(C10,C$32:E$52,3,0) -> #N/A
A11: 5. | B11: =VLOOKUP(C11,C$32:E$52,3,0) -> #N/A
A12: 6. | B12: =VLOOKUP(C12,C$32:E$52,3,0) -> #N/A
A13: 7. | B13: =VLOOKUP(C13,C$32:E$52,3,0) -> #N/A
A14: 8. | B14: =VLOOKUP(C14,C$32:E$52,3,0) -> #N/A
A15: 9. | B15: =VLOOKUP(C15,C$32:E$52,3,0) -> #N/A
A16: 10. | B16: =VLOOKUP(C16,C$32:E$52,3,0) -> #N/A
A17: 11. | B17: =VLOOKUP(C17,C$32:E$52,3,0) -> #N/A
A18: 12. | B18: =VLOOKUP(C18,C$32:E$52,3,0) -> #N/A
A19: 13. | B19: =VLOOKUP(C19,C$32:E$52,3,0) -> #N/A
A20: 14. | B20: =VLOOKUP(C20,C$32:E$52,3,0) -> #N/A
A21: 15. | B21: =VLOOKUP(C21,C$32:E$52,3,0) -> #N/A
... A27: 21. | B27: =VLOOKUP(C27,C$32:E$52,3,0) -> #N/A
A31: SEZNAM PŘIHLÁŠENÝCH | C31: Přijmení a jméno | D31: ROK NAROZENÍ | E31: ŠKOLA
C32: Kaplický Daniel | E32: Gymnázium Čelákovice
C33: Hurych Tomáš | E33: Gymnázium Čelákovice
C34: Tichý Antonín | E34: MILLS Čelákovice
C35: Hilger Štěpán | E35: ZŠ Semice
C36: Michalčík Petr | E36: ZŠ Semice
C37: Šubrt Jan | E37: ZŠ Semice
C38: Mrkvička Radek | E38: ZŠ Semice
C39: Dadák Metoděj | E39: ZŠ Zeleneč
C40: Dadák Matouš | E40: ZŠ Zeleneč
C41: Kobera Petr | E41: ZŠ Komenského Čelákovice
C42: Pýcha Matěj | E42: ZŠ Komenského Čelákovice
C43: Krbec Martin | E43: ZŠ Komenského Čelákovice
C44: Hruška Matyáš | E44: ZŠ Komenského Čelákovice

Sheet BADMINTON DÍVKY - 6-7
A3: SPORT | B3: BADMINTON DÍVKY - 6. - 7. TŘÍDA
A4: VÝSLEDKY
A6: POŘADÍ | B6: ŠKOLA | C6: PŘÍJMENÍ A JMÉNO | D6: POČET BODŮ
A7: 1. | B7: =VLOOKUP(C7,C$32:E$52,3,0) -> ZŠ Kamenka Čelákovice | C7: Kernerová Anna
A8: 2. | B8: =VLOOKUP(C8,C$32:E$52,3,0) -> ZŠ Komenského Čelákovice | C8: Skuhravá Barbora
A9: 3. | B9: =VLOOKUP(C9,C$32:E$52,3,0) -> ZŠ Kamenka Čelákovice | C9: Vojtíšková Anna
A10: 4. | B10: =VLOOKUP(C10,C$32:E$52,3,0) -> #N/A
A11: 5. | B11: =VLOOKUP(C11,C$32:E$52,3,0) -> #N/A
A12: 6. | B12: =VLOOKUP(C12,C$32:E$52,3,0) -> #N/A
A13: 7. | B13: =VLOOKUP(C13,C$32:E$52,3,0) -> #N/A
A14: 8. | B14: =VLOOKUP(C14,C$32:E$52,3,0) -> #N/A
A15: 9. | B15: =VLOOKUP(C15,C$32:E$52,3,0) -> #N/A
A16: 10. | B16: =VLOOKUP(C16,C$32:E$52,3,0) -> #N/A
A17: 11. | B17: =VLOOKUP(C17,C$32:E$52,3,0) -> #N/A
A18: 12. | B18: =VLOOKUP(C18,C$32:E$52,3,0) -> #N/A
A19: 13. | B19: =VLOOKUP(C19,C$32:E$52,3,0) -> #N/A
A20: 14. | B20: =VLOOKUP(C20,C$32:E$52,3,0) -> #N/A
A21: 15. | B21: =VLOOKUP(C21,C$32:E$52,3,0) -> #N/A
... A27: 21. | B27: =VLOOKUP(C27,C$32:E$52,3,0) -> #N/A
A31: SEZNAM PŘIHLÁŠENÝCH | C31: Přijmení a jméno | D31: ROK NAROZENÍ | E31: ŠKOLA
C32: Švancarová Zuzana | D32: 2011 | E32: ZŠ Zeleneč
C33: Konvalinková Šárka | D33: 2011 | E33: ZŠ Zeleneč
C34: Hálová Barbora | E34: MILLS Čelákovice
C35: Počárovská Marie | E35: ZŠ Kamenka Čelákovice
C36: Kernerová Anna | E36: ZŠ Kamenka Čelákovice
C37: Vojtíšková Anna | E37: ZŠ Kamenka Čelákovice
C38: Mikošková Ester | E38: ZŠ Kamenka Čelákovice
C39: Dědečková Eliška | D39: 2012 | E39: Gymnázium Čelákovice
C40: Szabová Marika | D40: 2011 | E40: ZŠ Komenského Čelákovice
C41: Skuhravá Barbora | D41: 2011 | E41: ZŠ Komenského Čelákovice
C42: Hrochová Eva | D42: 2011 | E42: ZŠ Komenského Čelákovice
C43: ZVĚŘINOVÁ ANITA | D43: 2012 | E43: ZŠ Semice
C44: OPOLSKÁ MAGDALENA | D44: 2012 | E44: ZŠ Semice
C45: MARTINA SEMECKÁ | D45: 2012 | E45: ZŠ Semice
C46: HÁDKOVÁ JULIE | D46: 2011 | E46: ZŠ Semice

Sheet BADMINTON DÍVKY - 8-9
A3: SPORT | B3: BADMINTON DÍVKY - 8. - 9. TŘÍDA
A4: VÝSLEDKY
A6: POŘADÍ | B6: ŠKOLA | C6: PŘÍJMENÍ A JMÉNO | D6: POČET BODŮ
A7: 1. | B7: =VLOOKUP(C7,C$32:E$52,3,0) -> ZŠ Kamenka Čelákovice | C7: Valášková Šárka
A8: 2. | B8: =VLOOKUP(C8,C$32:E$52,3,0) -> ZŠ Kamenka Čelákovice | C8: Čeřovská Klára
A9: 3. | B9: =VLOOKUP(C9,C$32:E$52,3,0) -> ZŠ Komenského Čelákovice | C9: Bidzilia Sofie
A10: 4. | B10: =VLOOKUP(C10,C$32:E$52,3,0) -> #N/A
A11: 5. | B11: =VLOOKUP(C11,C$32:E$52,3,0) -> #N/A
A12: 6. | B12: =VLOOKUP(C12,C$32:E$52,3,0) -> #N/A
A13: 7. | B13: =VLOOKUP(C13,C$32:E$52,3,0) -> #N/A
A14: 8. | B14: =VLOOKUP(C14,C$32:E$52,3,0) -> #N/A
A15: 9. | B15: =VLOOKUP(C15,C$32:E$52,3,0) -> #N/A
A16: 10. | B16: =VLOOKUP(C16,C$32:E$52,3,0) -> #N/A
A17: 11. | B17: =VLOOKUP(C17,C$32:E$52,3,0) -> #N/A
A18: 12. | B18: =VLOOKUP(C18,C$32:E$52,3,0) -> #N/A
A19: 13. | B19: =VLOOKUP(C19,C$32:E$52,3,0) -> #N/A
A20: 14. | B20: =VLOOKUP(C20,C$32:E$52,3,0) -> #N/A
A21: 15. | B21: =VLOOKUP(C21,C$32:E$52,3,0) -> #N/A
... A27: 21. | B27: =VLOOKUP(C27,C$32:E$52,3,0) -> #N/A
A31: SEZNAM PŘIHLÁŠENÝCH | C31: Přijmení a jméno | D31: ROK NAROZENÍ | E31: ŠKOLA
C32: Čapková Natálie | D32: 2008 | E32: ZŠ Zeleneč
C33: Procházková Stela | D33: 2010 | E33: ZŠ Zeleneč
C34: Šáfrová Gabriela | E34: MILLS Čelákovice
C35: Durdynetsová Diana | E35: MILLS Čelákovice
C36: Šulcová Karolína | E36: ZŠ Kamenka Čelákovice
C37: Čeřovská Klára | E37: ZŠ Kamenka Čelákovice
C38: Valášková Šárka | E38: ZŠ Kamenka Čelákovice
C39: Satýnková Marianna | E39: ZŠ Kamenka Čelákovice
C40: Dospíšilová Kamila | D40: 2009 | E40: Gymnázium Čelákovice
C41: Miškovská Marie Anna | D41: 2008 | E41: Gymnázium Čelákovice
C42: Okparaigwe Victorie Chidindu | D42: 2009 | E42: Gymnázium Čelákovice
C43: Slifková Tereza | D43: 2009 | E43: Gymnázium Čelákovice
C44: Bidzilia Sofie | D44: 2009 | E44: ZŠ Komenského Čelákovice
C45: Bohuslavová Aneta | D45: 2009 | E45: ZŠ Komenského Čelákovice
C46: Hanžlíková Viktorie | D46: 2009 | E46: ZŠ Komenského Čelákovice
C47: BERNARDOVÁ SÁRA | D47: 2009 | E47: ZŠ Semice
C48: KOVAŘÍKOVÁ DENISA | D48: 2008 | E48: ZŠ Semice
C49: BOŠINOVÁ VANESA | D49: 2009 | E49: ZŠ Semice
C50: ŠIMONOVÁ SOFIE | D50: 2009 | E50: ZŠ Semice

Sheet BADMINTON CHLAPCI - 6-7
A3: SPORT | B3: BADMINTON CHLAPCI - 6. - 7. TŘÍDA
A4: VÝSLEDKY
A6: POŘADÍ | B6: ŠKOLA | C6: PŘÍJMENÍ A JMÉNO | D6: POČET BODŮ
A7: 1. | B7: =VLOOKUP(C7,C$32:E$52,3,0) -> ZŠ Komenského Čelákovice | C7: Petr Tomáš
A8: 2. | B8: =VLOOKUP(C8,C$32:E$52,3,0) -> ZŠ Komenského Čelákovice | C8: Mrozek Tobiáš
A9: 3. | B9: =VLOOKUP(C9,C$32:E$52,3,0) -> ZŠ Zeleneč | C9: Slapnička Tobiáš
A10: 4. | B10: =VLOOKUP(C10,C$32:E$52,3,0) -> #N/A
A11: 5. | B11: =VLOOKUP(C11,C$32:E$52,3,0) -> #N/A
A12: 6. | B12: =VLOOKUP(C12,C$32:E$52,3,0) -> #N/A
A13: 7. | B13: =VLOOKUP(C13,C$32:E$52,3,0) -> #N/A
A14: 8. | B14: =VLOOKUP(C14,C$32:E$52,3,0) -> #N/A
A15: 9. | B15: =VLOOKUP(C15,C$32:E$52,3,0) -> #N/A
A16: 10. | B16: =VLOOKUP(C16,C$32:E$52,3,0) -> #N/A
A17: 11. | B17: =VLOOKUP(C17,C$32:E$52,3,0) -> #N/A
A18: 12. | B18: =VLOOKUP(C18,C$32:E$52,3,0) -> #N/A
A19: 13. | B19: =VLOOKUP(C19,C$32:E$52,3,0) -> #N/A
A20: 14. | B20: =VLOOKUP(C20,C$32:E$52,3,0) -> #N/A
A21: 15. | B21: =VLOOKUP(C21,C$32:E$52,3,0) -> #N/A
... A27: 21. | B27: =VLOOKUP(C27,C$32:E$52,3,0) -> #N/A
A31: SEZNAM PŘIHLÁŠENÝCH | C31: Přijmení a jméno | D31: ROK NAROZENÍ | E31: ŠKOLA
C32: Slapnička Tobiáš | D32: 2011 | E32: ZŠ Zeleneč
C33: Polášek Oliver | D33: 2011 | E33: ZŠ Zeleneč
C34: Nový Marek | E34: MILLS Čelákovice
C35: Coufal Jakub | E35: MILLS Čelákovice
C36: Durdynets Dominik | E36: MILLS Čelákovice
C37: Mičkal Vojtěch | E37: ZŠ Kamenka Čelákovice
C38: Holý Lukáš | E38: ZŠ Kamenka Čelákovice
C39: Volf František | E39: ZŠ Kamenka Čelákovice
C40: Kočvara Denis | E40: ZŠ Kamenka Čelákovice
C41: Marek Václav | D41: 2011 | E41: ZŠ Komenského Čelákovice
C42: Mrozek Tobiáš | D42: 2010 | E42: ZŠ Komenského Čelákovice
C43: Štainc Adam | D43: 2011 | E43: ZŠ Komenského Čelákovice
C44: Petr Tomáš | D44: 2010 | E44: ZŠ Komenského Čelákovice
C45: VYLEŤAL LUKÁŠ | D45: 2010 | E45: ZŠ Semice
C46: BRŮČEK JAKUB | D46: 2010 | E46: ZŠ Semice
C47: MÁLEK JIŘÍ | D47: 2011 | E47: ZŠ Semice
C48: SERBUS MATOUŠ | D48: 2010 | E48: ZŠ Semice

Sheet BADMINTON CHLAPCI - 8-9
A3: SPORT | B3: BADMINTON CHLAPCI - 8. - 9. TŘÍDA
A4: VÝSLEDKY
A6: POŘADÍ | B6: ŠKOLA | C6: PŘÍJMENÍ A JMÉNO | D6: POČET BODŮ
A7: 1. | B7: =VLOOKUP(C7,C$32:E$52,3,0) -> ZŠ Zeleneč | C7: Bříza Petr
A8: 2. | B8: =VLOOKUP(C8,C$32:E$52,3,0) -> ZŠ Kamenka Čelákovice | C8: Větrovec Jakub
A9: 3. | B9: =VLOOKUP(C9,C$32:E$52,3,0) -> Gymnázium Čelákovice | C9: Voldán Jakub
A10: 4. | B10: =VLOOKUP(C10,C$32:E$52,3,0) -> #N/A
A11: 5. | B11: =VLOOKUP(C11,C$32:E$52,3,0) -> #N/A
A12: 6. | B12: =VLOOKUP(C12,C$32:E$52,3,0) -> #N/A
A13: 7. | B13: =VLOOKUP(C13,C$32:E$52,3,0) -> #N/A
A14: 8. | B14: =VLOOKUP(C14,C$32:E$52,3,0) -> #N/A
A15: 9. | B15: =VLOOKUP(C15,C$32:E$52,3,0) -> #N/A
A16: 10. | B16: =VLOOKUP(C16,C$32:E$52,3,0) -> #N/A
A17: 11. | B17: =VLOOKUP(C17,C$32:E$52,3,0) -> #N/A
A18: 12. | B18: =VLOOKUP(C18,C$32:E$52,3,0) -> #N/A
A19: 13. | B19: =VLOOKUP(C19,C$32:E$52,3,0) -> #N/A
A20: 14. | B20: =VLOOKUP(C20,C$32:E$52,3,0) -> #N/A
A21: 15. | B21: =VLOOKUP(C21,C$32:E$52,3,0) -> #N/A
... A27: 21. | B27: =VLOOKUP(C27,C$32:E$52,3,0) -> #N/A
A31: SEZNAM PŘIHLÁŠENÝCH | C31: Přijmení a jméno | D31: ROK NAROZENÍ | E31: ŠKOLA
C32: Stehno Samuel | D32: 2010 | E32: ZŠ Zeleneč
C33: Bříza Petr | D33: 2009 | E33: ZŠ Zeleneč
C34: Hendryx Alex | E34: MILLS Čelákovice
C35: Větrovec Jakub | E35: ZŠ Kamenka Čelákovice
C36: Kodera Matyáš | E36: ZŠ Kamenka Čelákovice
C37: Fridrich Denis | E37: ZŠ Kamenka Čelákovice
C38: někdo? | E38: ZŠ Kamenka Čelákovice
C39: Voldán Jakub | D39: 2009 | E39: Gymnázium Čelákovice
C40: Zatloukal Josef | D40: 2010 | E40: Gymnázium Čelákovice
C41: Bernard Prokop | D41: 2009 | E41: Gymnázium Čelákovice
C42: Kosek Tomáš | D42: 2010 | E42: Gymnázium Čelákovice
C43: Šídlo Martin | D43: 2009 | E43: ZŠ Komenského Čelákovice
C44: Šiko Martin | D44: 2008 | E44: ZŠ Komenského Čelákovice
C45: Sedlák Jonáš | D45: 2009 | E45: ZŠ Komenského Čelákovice
C46: SISKA MICHAL | D46: 2009 | E46: ZŠ Semice
C47: PAVLIŠ MICHAL | D47: 2010 | E47: ZŠ Semice
C48: AUJESKÝ MATYÁŠ | D48: 2009 | E48: ZŠ Semice
C49: HOLAN TOMÁŠ | D49: 2010 | E49: ZŠ Semice

Sheet FLORBAL 4-5
A3: SPORT | B3: FLORBAL 4. - 5. TŘÍDA
A4: VÝSLEDKY
A6: POŘADÍ | B6: ŠKOLA | C6: POČET BODŮ
A7: 1. | B7: ZŠ Zeleneč | F7: 20
A8: 2. | B8: ZŠ a MŠ Nehvizdy | F8: 10
A9: 3. | B9: ZŠ Kamenka Čelákovice | F9: 5
A10: 4.
A11: 5.
A12: 6.
A13: 7.
A14: 8.
A15: 9.
A16: 10.
A17: 11.
A19: SEZNAM PŘIHLÁŠENÝCH
A20: ='SEZNAM ŠKOL'!B3 -> ZŠ Komenského Čelákovice | C20: NE
A21: ='SEZNAM ŠKOL'!B4 -> ZŠ Kamenka Čelákovice | C21: ANO
A22: ='SEZNAM ŠKOL'!B5 -> ZŠ a MŠ Nehvizdy | C22: NE
A23: ='SEZNAM ŠKOL'!B6 -> ZŠ Semice | C23: ANO
A24: ='SEZNAM ŠKOL'!B7 -> ZŠ Zeleneč | C24: ANO
A25: ='SEZNAM ŠKOL'!B8 -> Gymnázium Čelákovice | C25: ANO
A26: ='SEZNAM ŠKOL'!B9 -> ZŠ Lázně Toušeň | C26: ANO
A27: ='SEZNAM ŠKOL'!B10 -> MILLS Čelákovice | C27: ANO
A28: ='SEZNAM ŠKOL'!B11 -> ZŠ Jirny | C28: ANO
A29: ='SEZNAM ŠKOL'!B12 -> Gymnázium Brandýs nad Labem | C29: ANO
A30: ='SEZNAM ŠKOL'!B13 -> ZáŠkola Brandýs nad Labem | C30: ANO

Sheet FLORBAL ŽÁCI 6-9
A3: SPORT | B3: FLORBAL ŽÁCI 6. - 9. TŘÍDA
A4: VÝSLEDKY
A6: POŘADÍ | B6: ŠKOLA | C6: POČET BODŮ
A7: 1. | B7: ZŠ Zeleneč | F7: 20
A8: 2. | B8: ZŠ a MŠ Nehvizdy | F8: 10
A9: 3. | B9: ZŠ Kamenka Čelákovice | F9: 5
A10: 4.
A11: 5.
A12: 6.
A13: 7.
A14: 8.
A15: 9.
A16: 10.
A17: 11.
A19: SEZNAM PŘIHLÁŠENÝCH
A20: ='SEZNAM ŠKOL'!B3 -> ZŠ Komenského Čelákovice | C20: ANO
A21: ='SEZNAM ŠKOL'!B4 -> ZŠ Kamenka Čelákovice | C21: NE
A22: ='SEZNAM ŠKOL'!B5 -> ZŠ a MŠ Nehvizdy | C22: ANO
A23: ='SEZNAM ŠKOL'!B6 -> ZŠ Semice | C23: ANO
A24: ='SEZNAM ŠKOL'!B7 -> ZŠ Zeleneč | C24: ANO
A25: ='SEZNAM ŠKOL'!B8 -> Gymnázium Čelákovice | C25: ANO
A26: ='SEZNAM ŠKOL'!B9 -> ZŠ Lázně Toušeň | C26: NE
A27: ='SEZNAM ŠKOL'!B10 -> MILLS Čelákovice | C27: ANO
A28: ='SEZNAM ŠKOL'!B11 -> ZŠ Jirny | C28: ANO
A29: ='SEZNAM ŠKOL'!B12 -> Gymnázium Brandýs nad Labem | C29: ANO
A30: ='SEZNAM ŠKOL'!B13 -> ZáŠkola Brandýs nad Labem | C30: ANO

Sheet FLORBAL ŽÁKYNĚ 6-9 
A3: SPORT | B3: FLORBAL ŽÁKYNĚ 6. - 9. TŘÍDA
A4: VÝSLEDKY
A6: POŘADÍ | B6: ŠKOLA | C6: POČET BODŮ
A7: 1. | B7: ZŠ a MŠ Nehvizdy | F7: 20
A8: 2. | B8: ZŠ Kamenka Čelákovice | F8: 10
A9: 3. | B9: ZŠ Semice | F9: 5
A10: 4. | B10: MILLS Čelákovice
A11: 5. | B11: ZŠ Komenského Čelákovice
A12: 6.
A13: 7.
A14: 8.
A15: 9.
A16: 10.
A17: 11.
A19: SEZNAM PŘIHLÁŠENÝCH
A20: ='SEZNAM ŠKOL'!B3 -> ZŠ Komenského Čelákovice | C20: NE
A21: ='SEZNAM ŠKOL'!B4 -> ZŠ Kamenka Čelákovice | C21: NE
A22: ='SEZNAM ŠKOL'!B5 -> ZŠ a MŠ Nehvizdy | C22: NE
A23: ='SEZNAM ŠKOL'!B6 -> ZŠ Semice | C23: ANO
A24: ='SEZNAM ŠKOL'!B7 -> ZŠ Zeleneč | C24: ANO
A25: ='SEZNAM ŠKOL'!B8 -> Gymnázium Čelákovice | C25: NE
A26: ='SEZNAM ŠKOL'!B9 -> ZŠ Lázně Toušeň | C26: NE
A27: ='SEZNAM ŠKOL'!B10 -> MILLS Čelákovice | C27: ANO
A28: ='SEZNAM ŠKOL'!B11 -> ZŠ Jirny | C28: ANO
A29: ='SEZNAM ŠKOL'!B12 -> Gymnázium Brandýs nad Labem | C29: NE
A30: ='SEZNAM ŠKOL'!B13 -> ZáŠkola Brandýs nad Labem | C30: ANO

Sheet BASKETBAL ŽÁKYNĚ 8-9
A3: SPORT | B3: BASKETBAL STARŠÍ ŽÁKYNĚ 8. - 9. TŘÍDA
A4: VÝSLEDKY
A6: POŘADÍ | B6: ŠKOLA | C6: POČET BODŮ
A7: 1. | B7: Gymnázium Čelákovice | F7: 20
A8: 2. | B8: ZŠ Komenského Čelákovice | F8: 10
A9: 3. | B9: ZŠ a MŠ Nehvizdy | F9: 5
A10: 4.
A11: 5.
A12: 6.
A13: 7.
A14: 8.
A15: 9.
A16: 10.
A17: 11.
A19: SEZNAM PŘIHLÁŠENÝCH
A20: ='SEZNAM ŠKOL'!B3 -> ZŠ Komenského Čelákovice | C20: NE
A21: ='SEZNAM ŠKOL'!B4 -> ZŠ Kamenka Čelákovice | C21: NE
A22: ='SEZNAM ŠKOL'!B5 -> ZŠ a MŠ Nehvizdy | C22: ANO
A23: ='SEZNAM ŠKOL'!B6 -> ZŠ Semice | C23: NE
A24: ='SEZNAM ŠKOL'!B7 -> ZŠ Zeleneč | C24: NE
A25: ='SEZNAM ŠKOL'!B8 -> Gymnázium Čelákovice | C25: NE
A26: ='SEZNAM ŠKOL'!B9 -> ZŠ Lázně Toušeň | C26: NE
A27: ='SEZNAM ŠKOL'!B10 -> MILLS Čelákovice | C27: ANO
A28: ='SEZNAM ŠKOL'!B11 -> ZŠ Jirny | C28: ANO
A29: ='SEZNAM ŠKOL'!B12 -> Gymnázium Brandýs nad Labem | C29: NE
A30: ='SEZNAM ŠKOL'!B13 -> ZáŠkola Brandýs nad Labem | C30: ANO

Sheet BASKETBAL ŽÁCI 8-9 
A3: SPORT | B3: BASKETBAL STARŠÍ ŽÁKYNĚ 8. - 9. TŘÍDA
A4: VÝSLEDKY
A6: POŘADÍ | B6: ŠKOLA | C6: POČET BODŮ
A7: 1. | B7: ZŠ Kamenka Čelákovice | F7: 20
A8: 2. | B8: ZŠ a MŠ Nehvizdy | F8: 10
A9: 3. | B9: ZŠ Komenského Čelákovice | F9: 5
A10: 4.
A11: 5.
A12: 6.
A13: 7.
A14: 8.
A15: 9.
A16: 10.
A17: 11.
A19: SEZNAM PŘIHLÁŠENÝCH
A20: ='SEZNAM ŠKOL'!B3 -> ZŠ Komenského Čelákovice | C20: NE
A21: ='SEZNAM ŠKOL'!B4 -> ZŠ Kamenka Čelákovice | C21: NE
A22: ='SEZNAM ŠKOL'!B5 -> ZŠ a MŠ Nehvizdy | C22: ANO
A23: ='SEZNAM ŠKOL'!B6 -> ZŠ Semice | C23: ANO
A24: ='SEZNAM ŠKOL'!B7 -> ZŠ Zeleneč | C24: NE
A25: ='SEZNAM ŠKOL'!B8 -> Gymnázium Čelákovice | C25: NE
A26: ='SEZNAM ŠKOL'!B9 -> ZŠ Lázně Toušeň | C26: NE
A27: ='SEZNAM ŠKOL'!B10 -> MILLS Čelákovice | C27: ANO
A28: ='SEZNAM ŠKOL'!B11 -> ZŠ Jirny | C28: ANO
A29: ='SEZNAM ŠKOL'!B12 -> Gymnázium Brandýs nad Labem | C29: ANO
A30: ='SEZNAM ŠKOL'!B13 -> ZáŠkola Brandýs nad Labem | C30: ANO

Sheet A- 50m dívky 1-3
A3: SPORT | B3: BĚH 50m - DÍVKY - 1. - 3. TŘÍDA
A4: VÝSLEDKY
A6: POŘADÍ | B6: ŠKOLA | C6: PŘÍJMENÍ A JMÉNO | D6: POČET BODŮ
A7: 1. | B7: =VLOOKUP(C7,C$32:E$40,3,0) -> MILLS Čelákovice | C7: Špičanová Rozálie
A8: 2. | B8: =VLOOKUP(C8,C$32:E$40,3,0) -> ZŠ Lázně Toušeň | C8: Freudlová Jana
A9: 3. | B9: =VLOOKUP(C9,C$32:E$40,3,0) -> ZáŠkola Brandýs nad Labem | C9: Ptáková Veronika
A10: 4. | B10: =VLOOKUP(C10,C$32:E$40,3,0) -> #N/A
A11: 5. | B11: =VLOOKUP(C11,C$32:E$40,3,0) -> #N/A
A12: 6. | B12: =VLOOKUP(C12,C$32:E$40,3,0) -> #N/A
A13: 7. | B13: =VLOOKUP(C13,C$32:E$40,3,0) -> #N/A
A14: 8. | B14: =VLOOKUP(C14,C$32:E$40,3,0) -> #N/A
A15: 9. | B15: =VLOOKUP(C15,C$32:E$40,3,0) -> #N/A
A16: 10. | B16: =VLOOKUP(C16,C$32:E$40,3,0) -> #N/A
A17: 11. | B17: =VLOOKUP(C17,C$32:E$40,3,0) -> #N/A
A18: 12. | B18: =VLOOKUP(C18,C$32:E$40,3,0) -> #N/A
A19: 13. | B19: =VLOOKUP(C19,C$32:E$40,3,0) -> #N/A
A20: 14. | B20: =VLOOKUP(C20,C$32:E$40,3,0) -> #N/A
A21: 15. | B21: =VLOOKUP(C21,C$32:E$40,3,0) -> #N/A
... A27: 21. | B27: =VLOOKUP(C27,C$32:E$40,3,0) -> #N/A
C30: =B3 -> BĚH 50m - DÍVKY - 1. - 3. TŘÍDA
A31: SEZNAM PŘIHLÁŠENÝCH | C31: Přijmení a jméno | D31: ROK NAROZENÍ | E31: ŠKOLA | F31: dráha | G31: rozběh | H31: čas
B32: Žákyně 1.- 3. tř. 50 m běh | C32: Špičanová Rozálie | D32: 2016 | E32: MILLS Čelákovice | F32: 3 | G32: 3 | H32: 8.68
B33: Žákyně 1.- 3. tř. 50 m běh | C33: Freudlová Jana | D33: 2014 | E33: ZŠ Lázně Toušeň | F33: 2 | G33: 1 | H33: 8.86
B34: Žákyně 1.- 3. tř. 50 m běh | C34: Ptáková Veronika | D34: 2014 | E34: ZáŠkola Brandýs nad Labem | F34: 4 | G34: 1 | H34: 8.9
B35: Žákyně 1.- 3. tř. 50 m běh | C35: Švarcová Barbora | D35: 2015 | E35: MILLS Čelákovice | F35: 1 | G35: 2 | H35: 8.9
B36: Žákyně 1.- 3. tř. 50 m běh | C36: Rybová Kamila | D36: 2014 | E36: ZŠ Komenského Čelákovice | F36: 5 | G36: 1 | H36: 9.04
B37: Žákyně 1.- 3. tř. 50 m běh | C37: Tydlačková Nela | D37: 2014 | E37: ZŠ a MŠ Nehvizdy | F37: 2 | G37: 2 | H37: 9.06
B38: Žákyně 1.- 3. tř. 50 m běh | C38: Hochmanová Ela | D38: 2016 | E38: ZŠ Semice | F38: 4 | G38: 2 | H38: 9.07
B39: Žákyně 1.- 3. tř. 50 m běh | C39: Karla Veselá | D39: 2015 | E39: ZŠ Kamenka Čelákovice | F39: 3 | G39: 1 | H39: 9.08
B40: Žákyně 1.- 3. tř. 50 m běh | C40: Šubrtová Tereza | D40: 2014 | E40: ZŠ Semice | F40: 6 | G40: 3 | H40: 9.09
B41: Žákyně 1.- 3. tř. 50 m běh | C41: Fidranská Viktorie | D41: 2014 | E41: ZŠ Lázně Toušeň | F41: 1 | G41: 4 | H41: 9.1
B42: Žákyně 1.- 3. tř. 50 m běh | C42: Hymonová Viktorie | D42: 2014 | E42: ZŠ Zeleneč | F42: 2 | G42: 3 | H42: 9.14
B43: Žákyně 1.- 3. tř. 50 m běh | C43: Amálie Najmanová | D43: 2014 | E43: ZŠ Kamenka Čelákovice | F43: 6 | G43: 2 | H43: 9.2
B44: Žákyně 1.- 3. tř. 50 m běh | C44: Černíková Tereza | E44: ZŠ Jirny | F44: 2 | G44: 5 | H44: 9.2
B45: Žákyně 1.- 3. tř. 50 m běh | C45: Maszlagová Lea | D45: 2015 | E45: ZŠ Lázně Toušeň | F45: 5 | G45: 2 | H45: 9.26
B46: Žákyně 1.- 3. tř. 50 m běh | C46: Mlsnová Gabriela | D46: 2014 | E46: ZŠ a MŠ Nehvizdy | F46: 4 | G46: 3 | H46: 9.26
B47: Žákyně 1.- 3. tř. 50 m běh | C47: Jeníková Julie | D47: 2014 | E47: ZŠ Kamenka Čelákovice | F47: 2 | G47: 4 | H47: 9.3
B48: Žákyně 1.- 3. tř. 50 m běh | C48: Rousová Karolína | D48: 2015 | E48: ZŠ a MŠ Nehvizdy | F48: 6 | G48: 4 | H48: 9.4
B49: Žákyně 1.- 3. tř. 50 m běh | C49: Hogios Ana Luna | D49: 2015 | E49: MILLS Čelákovice | F49: 5 | G49: 4 | H49: 9.43
B50: Žákyně 1.- 3. tř. 50 m běh | C50: Dudek Ema | E50: ZŠ Jirny | F50: 5 | G50: 3 | H50: 9.44
B51: Žákyně 1.- 3. tř. 50 m běh | C51: Hrůzová Alice | E51: ZŠ Jirny | F51: 3 | G51: 2 | H51: 9.5
B52: Žákyně 1.- 3. tř. 50 m běh | C52: Pešková Ema | D52: 2015 | E52: ZŠ Zeleneč | F52: 6 | G52: 1 | H52: 9.56
B53: Žákyně 1.- 3. tř. 50 m běh | C53: Málková Viktorie | D53: 2015 | E53: ZŠ Semice | F53: 1 | G53: 1 | H53: 9.59
B54: Žákyně 1.- 3. tř. 50 m běh | C54: Kadlečková Anna | D54: 2015 | E54: ZŠ Komenského Čelákovice | F54: 3 | G54: 4 | H54: 9.82
B55: Žákyně 1.- 3. tř. 50 m běh | C55: Tichá Zuzana | D55: 2015 | E55: ZŠ Komenského Čelákovice | F55: 1 | G55: 3 | H55: 10.01

Sheet A- dálka dívky 1-3
A3: SPORT | B3: BĚH 50m - DÍVKY - 1. - 3. TŘÍDA
A4: VÝSLEDKY
A6: POŘADÍ | B6: ŠKOLA | C6: PŘÍJMENÍ A JMÉNO | D6: POČET BODŮ
A7: 1. | B7: =VLOOKUP(C7,#REF!,3,0) -> #REF!
A8: 2. | B8: =VLOOKUP(C8,#REF!,3,0) -> #REF!
A9: 3. | B9: =VLOOKUP(C9,#REF!,3,0) -> #REF!
A10: 4. | B10: =VLOOKUP(C10,#REF!,3,0) -> #REF!
A11: 5. | B11: =VLOOKUP(C11,#REF!,3,0) -> #REF!
A12: 6. | B12: =VLOOKUP(C12,#REF!,3,0) -> #REF!
A13: 7. | B13: =VLOOKUP(C13,#REF!,3,0) -> #REF!
A14: 8. | B14: =VLOOKUP(C14,#REF!,3,0) -> #REF!
A15: 9. | B15: =VLOOKUP(C15,#REF!,3,0) -> #REF!
A16: 10. | B16: =VLOOKUP(C16,#REF!,3,0) -> #REF!
A17: 11. | B17: =VLOOKUP(C17,#REF!,3,0) -> #REF!
A18: 12. | B18: =VLOOKUP(C18,#REF!,3,0) -> #REF!
... A27: 21. | B27: =VLOOKUP(C27,#REF!,3,0) -> #REF!
C30: Dálka dívky 1.-3. třída
A31: SEZNAM PŘIHLÁŠENÝCH | C31: Přijmení a jméno | D31: ROK NAROZENÍ | E31: ŠKOLA | F31: pokus 1 | G31: pokus 2 | H31: pokus 3
B32: Žákyně 1.- 3. tř. dálka | C32: Sofie Sekerová | D32: 2014 | E32: ZŠ Kamenka Čelákovice | I32: 349
B33: Žákyně 1.- 3. tř. dálka | C33: Freudlová Jana | D33: 2014 | E33: ZŠ Lázně Toušeň | I33: 343
B34: Žákyně 1.- 3. tř. dálka | C34: Ptáková Veronika | D34: 2014 | E34: ZáŠkola Brandýs nad Labem | I34: 342
B35: Žákyně 1.- 3. tř. dálka | C35: Turková Aneta | D35: 2015 | E35: ZŠ Komenského Čelákovice | I35: 331
B36: Žákyně 1.- 3. tř. dálka | C36: Burešová Valentýna | D36: 2015 | E36: ZŠ Komenského Čelákovice | I36: 328
B37: Žákyně 1.- 3. tř. dálka | C37: Nikol Žejdlíková | D37: 2014 | E37: ZŠ Kamenka Čelákovice | I37: 326
B38: Žákyně 1.- 3. tř. dálka | C38: Švarcová Barbora | D38: 2015 | E38: MILLS Čelákovice | I38: 326
B39: Žákyně 1.- 3. tř. dálka | C39: Špičanová Rozálie | D39: 2016 | E39: MILLS Čelákovice | I39: 325
B40: Žákyně 1.- 3. tř. dálka | C40: Hochmanová Ela | D40: 2016 | E40: ZŠ Semice | I40: 317
B41: Žákyně 1.- 3. tř. dálka | C41: Fidranská Viktorie | D41: 2014 | E41: ZŠ Lázně Toušeň | I41: 315
B42: Žákyně 1.- 3. tř. dálka | C42: Aneta Kolářová | D42: 2014 | E42: ZŠ Kamenka Čelákovice | I42: 315
B43: Žákyně 1.- 3. tř. dálka | C43: Tydlačková Nela | D43: 2014 | E43: ZŠ a MŠ Nehvizdy | I43: 309
B44: Žákyně 1.- 3. tř. dálka | C44: Mlsnová Gabriela | D44: 2014 | E44: ZŠ a MŠ Nehvizdy | I44: 295
B45: Žákyně 1.- 3. tř. dálka | C45: Čiháková Ema | E45: ZŠ Semice | I45: 293
B46: Žákyně 1.- 3. tř. dálka | C46: Hrůzová Alice | E46: ZŠ Jirny | I46: 292
B47: Žákyně 1.- 3. tř. dálka | C47: Rousová Karolína | D47: 2015 | E47: ZŠ a MŠ Nehvizdy | I47: 290
B48: Žákyně 1.- 3. tř. dálka | C48: Medková Karolína | E48: ZŠ Jirny | I48: 289
B49: Žákyně 1.- 3. tř. dálka | C49: Dorojneac Tatiana | E49: ZŠ Semice | I49: 288
B50: Žákyně 1.- 3. tř. dálka | C50: Popovičová Alice | D50: 2014 | E50: ZŠ Komenského Čelákovice | I50: 282
C51: Hubáčková Josefína | D51: 2017 | E51: ZŠ Semice | I51: 280
C52: Zinych Anastázie | D52: 2014 | E52: ZŠ Lázně Toušeň | I52: 276
C53: Černíková Tereza | E53: ZŠ Jirny | I53: 266
C54: Bajzíková Agáta | D54: 2015 | E54: ZŠ Zeleneč | I54: 261
C55: Glatzová Mariana | D55: 2015 | E55: MILLS Čelákovice | I55: 228

Sheet A- míček dívky 1-3
A3: SPORT | B3: MÍČEK - DÍVKY - 1. - 3. TŘÍDA
A4: VÝSLEDKY
A6: POŘADÍ | B6: ŠKOLA | C6: PŘÍJMENÍ A JMÉNO | D6: POČET BODŮ
A7: 1. | B7: =VLOOKUP(C7,C$32:E$43,3,0) -> #N/A | C7: Turková Aneta
A8: 2. | B8: =VLOOKUP(C8,C$32:E$43,3,0) -> #N/A | C8: Rousová Karolína
A9: 3. | B9: =VLOOKUP(C9,C$32:E$43,3,0) -> #N/A | C9: Malinová Natálie
A10: 4. | B10: =VLOOKUP(C10,C$32:E$43,3,0) -> #N/A
A11: 5. | B11: =VLOOKUP(C11,C$32:E$43,3,0) -> #N/A
A12: 6. | B12: =VLOOKUP(C12,C$32:E$43,3,0) -> #N/A
A13: 7. | B13: =VLOOKUP(C13,C$32:E$43,3,0) -> #N/A
A14: 8. | B14: =VLOOKUP(C14,C$32:E$43,3,0) -> #N/A
A15: 9. | B15: =VLOOKUP(C15,C$32:E$43,3,0) -> #N/A
A16: 10. | B16: =VLOOKUP(C16,C$32:E$43,3,0) -> #N/A
A17: 11. | B17: =VLOOKUP(C17,C$32:E$43,3,0) -> #N/A
A18: 12. | B18: =VLOOKUP(C18,C$32:E$43,3,0) -> #N/A
A19: 13. | B19: =VLOOKUP(C19,C$32:E$43,3,0) -> #N/A
A20: 14. | B20: =VLOOKUP(C20,C$32:E$43,3,0) -> #N/A
A21: 15. | B21: =VLOOKUP(C21,C$32:E$43,3,0) -> #N/A
... A27: 21. | B27: =VLOOKUP(C27,C$32:E$43,3,0) -> #N/A
C30: Míček dívky 1.-3. třída
A31: SEZNAM PŘIHLÁŠENÝCH | C31: Přijmení a jméno | D31: ROK NAROZENÍ | E31: ŠKOLA | F31: pokus 1 | G31: pokus 2 | H31: pokus 3
B32: Žákyně 1.- 3. tř. míček | C32: Švarcová Barbora | D32: 2015 | E32: MILLS Čelákovice | I32: 26.78
B33: Žákyně 1.- 3. tř. míček | C33: Špičanová Rozálie | D33: 2016 | E33: MILLS Čelákovice | I33: 23.86
B34: Žákyně 1.- 3. tř. míček | C34: Kyselová Rozálie | D34: 2014 | E34: ZŠ Kamenka Čelákovice | I34: 23.17
B35: Žákyně 1.- 3. tř. míček | C35: Žejdlíková Nikol | D35: 2014 | E35: ZŠ Kamenka Čelákovice | I35: 21.93
B36: Žákyně 1.- 3. tř. míček | C36: Dorojneaz Tatiana | D36: 2015 | E36: ZŠ Semice | I36: 21.46
B37: Žákyně 1.- 3. tř. míček | C37: Tydlačková Nela | D37: 2014 | E37: ZŠ a MŠ Nehvizdy | I37: 19.55
B38: Žákyně 1.- 3. tř. míček | C38: Mlsnová Gabriela | D38: 2014 | E38: ZŠ a MŠ Nehvizdy | I38: 19.43
B39: Žákyně 1.- 3. tř. míček | C39: Mutínská Stela | E39: ZŠ Jirny | I39: 18.95
B40: Žákyně 1.- 3. tř. míček | C40: Dudová Eliška | D40: 2016 | E40: MILLS Čelákovice | I40: 18.63
B41: Žákyně 1.- 3. tř. míček | C41: Zinych Anastázie | E41: ZŠ Lázně Toušeň | I41: 18.21
B42: Žákyně 1.- 3. tř. míček | C42: Podlipská Tereza | E42: ZŠ Jirny | I42: 16.36
B43: Žákyně 1.- 3. tř. míček | C43: Kvašová Anna | D43: 2014 | E43: ZŠ Komenského Čelákovice | I43: 16.19
C44: Čiháková Ema | D44: 2015 | E44: ZŠ Semice | I44: 15.58
C45: Vrbíková Veronika | D45: 2014 | E45: ZŠ Lázně Toušeň | I45: 15.5
C46: Dulghier Sofia | D46: 2015 | E46: ZŠ Komenského Čelákovice | I46: 15.18
C47: ŠUBRTOVÁ TEREZA | D47: 2015 | E47: Semice | I47: 15.15
C48: Dudová Gabriela | D48: 2014 | E48: ZŠ Lázně Toušeň | I48: 14.62
C49: Veselá Karla | D49: 2015 | E49: ZŠ Kamenka Čelákovice | I49: 13.83
C50: Malinová Natálie | E50: ZŠ Jirny | I50: 12.12
C51: Rousová Karolína | D51: 2015 | E51: ZŠ a MŠ Nehvizdy | I51: 11.78
C52: Turková Aneta | D52: 2015 | E52: ZŠ Komenského Čelákovice | I52: 11.53

Sheet A- 50m chlapci 1-3
A3: SPORT | B3: BĚH 50m - CHLAPCI - 1. - 3. TŘÍDA
A4: VÝSLEDKY
A6: POŘADÍ | B6: ŠKOLA | C6: PŘÍJMENÍ A JMÉNO | D6: POČET BODŮ
A7: 1. | B7: =VLOOKUP(C7,C$32:E$46,3,0) -> ZŠ a MŠ Nehvizdy | C7: Koubek Matěj
A8: 2. | B8: =VLOOKUP(C8,C$32:E$46,3,0) -> ZŠ Semice | C8: Volejník Filip
A9: 3. | B9: =VLOOKUP(C9,C$32:E$46,3,0) -> ZŠ Semice | C9: Brůček Lukáš
A10: 4. | B10: =VLOOKUP(C10,C$32:E$46,3,0) -> #N/A
A11: 5. | B11: =VLOOKUP(C11,C$32:E$46,3,0) -> #N/A
A12: 6. | B12: =VLOOKUP(C12,C$32:E$46,3,0) -> #N/A
A13: 7. | B13: =VLOOKUP(C13,C$32:E$46,3,0) -> #N/A
A14: 8. | B14: =VLOOKUP(C14,C$32:E$46,3,0) -> #N/A
A15: 9. | B15: =VLOOKUP(C15,C$32:E$46,3,0) -> #N/A
A16: 10. | B16: =VLOOKUP(C16,C$32:E$46,3,0) -> #N/A
A17: 11. | B17: =VLOOKUP(C17,C$32:E$46,3,0) -> #N/A
A18: 12. | B18: =VLOOKUP(C18,C$32:E$46,3,0) -> #N/A
A19: 13. | B19: =VLOOKUP(C19,C$32:E$46,3,0) -> #N/A
A20: 14. | B20: =VLOOKUP(C20,C$32:E$46,3,0) -> #N/A
A21: 15. | B21: =VLOOKUP(C21,C$32:E$46,3,0) -> #N/A
... A27: 21. | B27: =VLOOKUP(C27,C$32:E$46,3,0) -> #N/A
C30: =B3 -> BĚH 50m - CHLAPCI - 1. - 3. TŘÍDA
A31: SEZNAM PŘIHLÁŠENÝCH | C31: Přijmení a jméno | D31: ROK NAROZENÍ | E31: ŠKOLA | F31: dráha | G31: rozběh | H31: čas
B32: Žáci 1.- 3. tř. 50 m běh | C32: Koubek Matěj | D32: 2014 | E32: ZŠ a MŠ Nehvizdy | F32: 5 | G32: 2 | H32: 8.62
B33: Žáci 1.- 3. tř. 50 m běh | C33: Volejník Filip | D33: 2015 | E33: ZŠ Semice | F33: 2 | G33: 2 | H33: 8.65
B34: Žáci 1.- 3. tř. 50 m běh | C34: Brůček Lukáš | D34: 2014 | E34: ZŠ Semice | F34: 4 | G34: 3 | H34: 8.65
B35: Žáci 1.- 3. tř. 50 m běh | C35: Mano Tobiáš | D35: 2015 | E35: ZŠ Lázně Toušeň | F35: 5 | G35: 4 | H35: 8.77
B36: Žáci 1.- 3. tř. 50 m běh | C36: Vichera David | D36: 2014 | E36: ZŠ Komenského Čelákovice | F36: 2 | G36: 3 | H36: 8.81
B37: Žáci 1.- 3. tř. 50 m běh | C37: Šimon Šlejmar | D37: 2014 | E37: ZŠ Kamenka Čelákovice | F37: 3 | G37: 4 | H37: 8.89
B38: Žáci 1.- 3. tř. 50 m běh | C38: Scháněl Filip | D38: 2014 | E38: ZŠ a MŠ Nehvizdy | F38: 1 | G38: 4 | H38: 8.95
B39: Žáci 1.- 3. tř. 50 m běh | C39: Kušnir Karel | D39: 2016 | E39: ZŠ Komenského Čelákovice | F39: 4 | G39: 4 | H39: 8.98
B40: Žáci 1.- 3. tř. 50 m běh | C40: Kratochvíl Jan | E40: ZŠ Jirny | F40: 2 | G40: 4 | H40: 8.99
B41: Žáci 1.- 3. tř. 50 m běh | C41: Vašut Jan | D41: 2014 | E41: ZŠ a MŠ Nehvizdy | F41: 3 | G41: 1 | H41: 9.03
B42: Žáci 1.- 3. tř. 50 m běh | C42: Zavoral Edvard | D42: 2014 | E42: ZŠ Komenského Čelákovice | F42: 6 | G42: 1 | H42: 9.09
B43: Žáci 1.- 3. tř. 50 m běh | C43: Papež Kryštof | D43: 2015 | E43: ZáŠkola Brandýs nad Labem | F43: 2 | G43: 1 | H43: 9.15
B44: Žáci 1.- 3. tř. 50 m běh | C44: Bureš Richard | D44: 2015 | E44: MILLS Čelákovice | F44: 6 | G44: 3 | H44: 9.22
B45: Žáci 1.- 3. tř. 50 m běh | C45: Hrábek Jiří | D45: 2014 | E45: ZŠ Lázně Toušeň | F45: 1 | G45: 2 | H45: 9.28
B46: Žáci 1.- 3. tř. 50 m běh | C46: Chlubna Pavel | E46: ZŠ Jirny | F46: 4 | G46: 1 | H46: 9.43
B47: Žáci 1.- 3. tř. 50 m běh | C47: Holý Jakub | D47: 2014 | E47: ZŠ Zeleneč | F47: 3 | G47: 2 | H47: 9.43
B48: Žáci 1.- 3. tř. 50 m běh | C48: Kryštof Dvořák | D48: 2015 | E48: ZŠ Kamenka Čelákovice | F48: 5 | G48: 1 | H48: 9.46
B49: Žáci 1.- 3. tř. 50 m běh | C49: Bouma Radek | D49: 2016 | E49: ZŠ Semice | F49: 6 | G49: 4 | H49: 9.61
B50: Žáci 1.- 3. tř. 50 m běh | C50: Nosek Viktor | D50: 2016 | E50: MILLS Čelákovice | F50: 4 | G50: 2 | H50: 9.68
B51: Žáci 1.- 3. tř. 50 m běh | C51: Peter Martin | D51: 2015 | E51: ZŠ Zeleneč | F51: 5 | G51: 3 | H51: 9.74
B52: Žáci 1.- 3. tř. 50 m běh | C52: Švehla Vojtěch | D52: 2015 | E52: ZŠ Kamenka Čelákovice | F52: 1 | G52: 3 | H52: 9.8
B53: Žáci 1.- 3. tř. 50 m běh | C53: Borecký Lukáš | D53: 2015 | E53: ZŠ Lázně Toušeň | F53: 3 | G53: 3 | H53: 9.84
B54: Žáci 1.- 3. tř. 50 m běh | C54: Falc Adam | D54: 2014 | E54: MILLS Čelákovice | F54: 1 | G54: 1 | H54: 10.58
B55: Žáci 1.- 3. tř. 50 m běh | C55: Šmídl Adam | E55: ZŠ Jirny | F55: 6 | G55: 2

Sheet A- dálka chlapci 1-3
A3: SPORT | B3: DÁLKA - CHLAPCI - 1. - 3. TŘÍDA
A4: VÝSLEDKY
A6: POŘADÍ | B6: ŠKOLA | C6: PŘÍJMENÍ A JMÉNO | D6: POČET BODŮ
A7: 1. | B7: =VLOOKUP(C7,C$32:E$37,3,0) -> #N/A
A8: 2. | B8: =VLOOKUP(C8,C$32:E$37,3,0) -> #N/A
A9: 3. | B9: =VLOOKUP(C9,C$32:E$37,3,0) -> #N/A
A10: 4. | B10: =VLOOKUP(C10,C$32:E$37,3,0) -> #N/A
A11: 5. | B11: =VLOOKUP(C11,C$32:E$37,3,0) -> #N/A
A12: 6. | B12: =VLOOKUP(C12,C$32:E$37,3,0) -> #N/A
A13: 7. | B13: =VLOOKUP(C13,C$32:E$37,3,0) -> #N/A
A14: 8. | B14: =VLOOKUP(C14,C$32:E$37,3,0) -> #N/A
A15: 9. | B15: =VLOOKUP(C15,C$32:E$37,3,0) -> #N/A
A16: 10. | B16: =VLOOKUP(C16,C$32:E$37,3,0) -> #N/A
A17: 11. | B17: =VLOOKUP(C17,C$32:E$37,3,0) -> #N/A
A18: 12. | B18: =VLOOKUP(C18,C$32:E$37,3,0) -> #N/A
... A27: 21. | B27: =VLOOKUP(C27,C$32:E$37,3,0) -> #N/A
C30: =B3 -> DÁLKA - CHLAPCI - 1. - 3. TŘÍDA
A31: SEZNAM PŘIHLÁŠENÝCH | C31: Přijmení a jméno | D31: ROK NAROZENÍ | E31: ŠKOLA | F31: pokus 1 | G31: pokus 2 | H31: pokus 3
B32: Žáci 1.- 3. tř. dálka | C32: Vácha Max | E32: ZŠ Jirny | I32: 359
B33: Žáci 1.- 3. tř. dálka | C33: Koubek Matěj | D33: 2014 | E33: ZŠ a MŠ Nehvizdy | I33: 357
B34: Žáci 1.- 3. tř. dálka | C34: Scháněl Filip | D34: 2014 | E34: ZŠ a MŠ Nehvizdy | I34: 349
B35: Žáci 1.- 3. tř. dálka | C35: Vichera David | D35: 2014 | E35: ZŠ Komenského Čelákovice | I35: 341
B36: Žáci 1.- 3. tř. dálka | C36: Šváb Lukáš | D36: 2014 | E36: ZŠ Lázně Toušeň | I36: 339
B37: Žáci 1.- 3. tř. dálka | C37: Smolík Jakub | D37: 2015 | E37: ZŠ Zeleneč | I37: 338
B38: Žáci 1.- 3. tř. dálka | C38: Brůček Lukáš | D38: 2014 | E38: ZŠ Semice | I38: 332
B39: Žáci 1.- 3. tř. dálka | C39: Jirků Daniel | D39: 2014 | E39: MILLS Čelákovice | I39: 327
B40: Žáci 1.- 3. tř. dálka | C40: Kratochvíl Jakub | E40: ZŠ Jirny | I40: 326
B41: Žáci 1.- 3. tř. dálka | C41: Mano Tobiáš | D41: 2015 | E41: ZŠ Lázně Toušeň | I41: 321
B42: Žáci 1.- 3. tř. dálka | C42: Kušnir Karel | D42: 2016 | E42: ZŠ Komenského Čelákovice | I42: 321
B43: Žáci 1.- 3. tř. dálka | C43: Chlubna Pavel | E43: ZŠ Jirny | I43: 319
B44: Žáci 1.- 3. tř. dálka | C44: Hrábek Jiří | D44: 2014 | E44: ZŠ Lázně Toušeň | I44: 317
B45: Žáci 1.- 3. tř. dálka | C45: Holý Jakub | D45: 2015 | E45: ZŠ Zeleneč | I45: 313
B46: Zavoral Edvard | C46: Lánský Filip | D46: 2014 | E46: ZŠ Komenského Čelákovice | I46: 308
B47: Žáci 1.- 3. tř. dálka | C47: Bureš Richard | D47: 2015 | E47: MILLS Čelákovice | I47: 308
B48: Žáci 1.- 3. tř. dálka | C48: Kellner Tomáš | D48: 2015 | E48: ZŠ Semice | I48: 305
B49: Žáci 1.- 3. tř. dálka | C49: Kryštof Dvořák | D49: 2015 | E49: ZŠ Kamenka Čelákovice | I49: 302
B50: Žáci 1.- 3. tř. dálka | C50: Vašut Jan | D50: 2014 | E50: ZŠ a MŠ Nehvizdy | I50: 301
B51: Žáci 1.- 3. tř. dálka | C51: Šlějmar Šimon | D51: 2014 | E51: ZŠ Kamenka Čelákovice | I51: 278
B52: Žáci 1.- 3. tř. dálka | C52: Vojtěch Švehla | D52: 2015 | E52: ZŠ Kamenka Čelákovice | I52: 270
B53: Žáci 1.- 3. tř. dálka | C53: Urbánek Petr | D53: 2016 | E53: ZŠ Semice | I53: 262
B54: Žáci 1.- 3. tř. dálka | C54: Maták Oliver | D54: 2016 | E54: MILLS Čelákovice

Sheet A- míček chlapci 1-3
A3: SPORT | B3: MÍČEK- CHLAPCI - 1. - 3. TŘÍDA
A4: VÝSLEDKY
A6: POŘADÍ | B6: ŠKOLA | C6: PŘÍJMENÍ A JMÉNO | D6: POČET BODŮ
A7: 1. | B7: =VLOOKUP(C7,#REF!,3,0) -> #REF!
A8: 2. | B8: =VLOOKUP(C8,#REF!,3,0) -> #REF!
A9: 3. | B9: =VLOOKUP(C9,#REF!,3,0) -> #REF!
A10: 4. | B10: =VLOOKUP(C10,#REF!,3,0) -> #REF!
A11: 5. | B11: =VLOOKUP(C11,#REF!,3,0) -> #REF!
A12: 6. | B12: =VLOOKUP(C12,#REF!,3,0) -> #REF!
A13: 7. | B13: =VLOOKUP(C13,#REF!,3,0) -> #REF!
A14: 8. | B14: =VLOOKUP(C14,#REF!,3,0) -> #REF!
A15: 9. | B15: =VLOOKUP(C15,#REF!,3,0) -> #REF!
A16: 10. | B16: =VLOOKUP(C16,#REF!,3,0) -> #REF!
A17: 11. | B17: =VLOOKUP(C17,#REF!,3,0) -> #REF!
A18: 12. | B18: =VLOOKUP(C18,#REF!,3,0) -> #REF!
... A27: 21. | B27: =VLOOKUP(C27,#REF!,3,0) -> #REF!
C30: =B3 -> MÍČEK- CHLAPCI - 1. - 3. TŘÍDA
A31: SEZNAM PŘIHLÁŠENÝCH | C31: Přijmení a jméno | D31: ROK NAROZENÍ | E31: ŠKOLA | F31: pokus 1 | G31: pokus 2 | H31: pokus 3
B32: Žáci 1.- 3. tř. míček | C32: Vichera David | D32: 2014 | E32: ZŠ Komenského Čelákovice | I32: 33.54
B33: Žáci 1.- 3. tř. míček | C33: Jirků Daniel | D33: 2014 | E33: MILLS Čelákovice | I33: 31.35
B34: Žáci 1.- 3. tř. míček | C34: Chlubna Pavel | E34: ZŠ Jirny | I34: 30.7
B35: Žáci 1.- 3. tř. míček | C35: Kratochvíl Jakub | E35: ZŠ Jirny | I35: 29.12
B36: Žáci 1.- 3. tř. míček | C36: Kušnir Karel | D36: 2016 | E36: ZŠ Komenského Čelákovice | I36: 28.57
B37: Žáci 1.- 3. tř. míček | C37: Koubek Matěj | D37: 2014 | E37: ZŠ a MŠ Nehvizdy | I37: 27.08
B38: Žáci 1.- 3. tř. míček | C38: Mano Tobiáš | D38: 2015 | E38: ZŠ Lázně Toušeň | I38: 26.62
B39: Žáci 1.- 3. tř. míček | C39: Šváb Lukáš | D39: 2014 | E39: ZŠ Lázně Toušeň | I39: 26.19
B40: Žáci 1.- 3. tř. míček | C40: Štauber Michal | D40: 2014 | E40: ZŠ Komenského Čelákovice | I40: 25.93
B41: Žáci 1.- 3. tř. míček | C41: Kalina Oskar | D41: 2015 | E41: ZŠ Kamenka Čelákovice | I41: 24.58
B42: Žáci 1.- 3. tř. míček | C42: Vácha Maxim | E42: ZŠ Jirny | I42: 24.24
B43: Žáci 1.- 3. tř. míček | C43: Volejník Filip | D43: 2015 | E43: ZŠ Semice | I43: 23.53
B44: Žáci 1.- 3. tř. míček | C44: Šimon Šlejmar | D44: 2014 | E44: ZŠ Kamenka Čelákovice | I44: 23.46
B45: Žáci 1.- 3. tř. míček | C45: Nožíř Adam | D45: 2015 | E45: ZŠ Lázně Toušeň | I45: 23.01
B46: Žáci 1.- 3. tř. míček | C46: Tabinskyi Danylo | D46: 2015 | E46: ZŠ Semice | I46: 22.92
B47: Žáci 1.- 3. tř. míček | C47: Vávra Jakub | D47: 2014 | E47: ZŠ Zeleneč | I47: 22.58
B48: Žáci 1.- 3. tř. míček | C48: Falc Adam | D48: 2014 | E48: MILLS Čelákovice | I48: 21.68
B49: Žáci 1.- 3. tř. míček | C49: Vašut Jan | D49: 2014 | E49: ZŠ a MŠ Nehvizdy | I49: 21.4
B50: Žáci 1.- 3. tř. míček | C50: Smolík Jakub | D50: 2014 | E50: ZŠ Zeleneč | I50: 20.97
B51: Žáci 1.- 3. tř. míček | C51: Scháněl Filip | D51: 2014 | E51: ZŠ a MŠ Nehvizdy | I51: 20.26
B52: Žáci 1.- 3. tř. míček | C52: Kryštof Dvořák | D52: 2015 | E52: ZŠ Kamenka Čelákovice | I52: 19.92
B53: Žáci 1.- 3. tř. míček | C53: Babaian Petr | D53: 2017 | E53: ZŠ Semice | I53: 17.05

Sheet A- 300m dívky 4-5
A3: SPORT | B3: BĚH 300m - DÍVKY - 4. - 5. TŘÍDA
A4: VÝSLEDKY
A6: POŘADÍ | B6: ŠKOLA | C6: PŘÍJMENÍ A JMÉNO | D6: POČET BODŮ
A7: 1. | B7: =VLOOKUP(C7,C$32:E$52,3,0) -> #N/A
A8: 2. | B8: =VLOOKUP(C8,C$32:E$52,3,0) -> #N/A
A9: 3. | B9: =VLOOKUP(C9,C$32:E$52,3,0) -> #N/A
A10: 4. | B10: =VLOOKUP(C10,C$32:E$52,3,0) -> #N/A
A11: 5. | B11: =VLOOKUP(C11,C$32:E$52,3,0) -> #N/A
A12: 6. | B12: =VLOOKUP(C12,C$32:E$52,3,0) -> #N/A
A13: 7. | B13: =VLOOKUP(C13,C$32:E$52,3,0) -> #N/A
A14: 8. | B14: =VLOOKUP(C14,C$32:E$52,3,0) -> #N/A
A15: 9. | B15: =VLOOKUP(C15,C$32:E$52,3,0) -> #N/A
A16: 10. | B16: =VLOOKUP(C16,C$32:E$52,3,0) -> #N/A
A17: 11. | B17: =VLOOKUP(C17,C$32:E$52,3,0) -> #N/A
A18: 12. | B18: =VLOOKUP(C18,C$32:E$52,3,0) -> #N/A
... A27: 21. | B27: =VLOOKUP(C27,C$32:E$52,3,0) -> #N/A
C30: =B3 -> BĚH 300m - DÍVKY - 4. - 5. TŘÍDA
A31: SEZNAM PŘIHLÁŠENÝCH | C31: Přijmení a jméno | D31: ROK NAROZENÍ | E31: ŠKOLA | F31: dráha | G31: rozběh | H31: čas
B32: Žákyně 4.-5. tř. 300m běh | C32: Nikola Kuncová | D32: 2012 | E32: ZŠ Kamenka Čelákovice | F32: 3 | G32: 4 | H32: 51.32
B33: Žákyně 4.-5. tř. 300m běh | C33: Haramulová Lenka | D33: 2014 | E33: ZŠ Kamenka Čelákovice | F33: 6 | G33: 2 | H33: 52.19
B34: Žákyně 4.-5. tř. 300m běh | C34: NOVÁKOVÁ TEREZA | D34: 2013 | E34: ZŠ Semice | F34: 1 | G34: 1 | H34: 52.89
B35: Žákyně 4.-5. tř. 300m běh | C35: Veselá Kristýna | D35: 2013 | E35: ZŠ a MŠ Nehvizdy | F35: 5 | G35: 3 | H35: 53.9
B36: Žákyně 4.-5. tř. 300m běh | C36: Lysická Emma | D36: 2013 | E36: ZŠ Lázně Toušeň | F36: 2 | G36: 1 | H36: 53.98
B37: Žákyně 4.-5. tř. 300m běh | C37: BOHUSLAVOVÁ CHRISTINA | D37: 2014 | E37: ZŠ Semice | F37: 4 | G37: 2 | H37: 54.48
B38: Žákyně 4.-5. tř. 300m běh | C38: Strachová Eliška | D38: 2013 | E38: MILLS Čelákovice | F38: 1 | G38: 2 | H38: 54.83
B39: Žákyně 4.-5. tř. 300m běh | C39: Sysová Ráchel | D39: 2013 | E39: ZáŠkola Brandýs nad Labem | F39: 1 | G39: 3 | H39: 54.9
B40: Žákyně 4.-5. tř. 300m běh | C40: Syrovátková Annika | D40: 2012 | E40: ZŠ Zeleneč | F40: 3 | G40: 3 | H40: 55.03
B41: Žákyně 4.-5. tř. 300m běh | C41: Habadová Adéla | D41: 2013 | E41: ZŠ a MŠ Nehvizdy | F41: 2 | G41: 2 | H41: 55.48
B42: Žákyně 4.-5. tř. 300m běh | C42: Geistová Adéla | D42: 2014 | E42: ZŠ Lázně Toušeň | F42: 5 | G42: 2 | H42: 55.83
B43: Žákyně 4.-5. tř. 300m běh | C43: Štěpánová Natálie | E43: ZŠ Jirny | F43: 3 | G43: 2 | H43: 56.01
B44: Žákyně 4.-5. tř. 300m běh | C44: Tuhovčáková Adéla | D44: 2013 | E44: ZŠ Zeleneč | F44: 6 | G44: 1 | H44: 58.68
B45: Žákyně 4.-5. tř. 300m běh | C45: Nováková Viktorie | D45: 2013 | E45: ZŠ Lázně Toušeň | F45: 2 | G45: 4 | H45: 58.89
B46: Žákyně 4.-5. tř. 300m běh | C46: Megerlová Anna | D46: 2013 | E46: ZáŠkola Brandýs nad Labem | F46: 4 | G46: 1 | H46: 59.34
B47: Žákyně 4.-5. tř. 300m běh | C47: Režová Anna | D47: 2013 | E47: ZŠ Komenského Čelákovice | F47: 4 | G47: 4 | H47: 60.57
B48: Žákyně 4.-5. tř. 300m běh | C48: Prokopovičová Karolína | D48: 2013 | E48: ZŠ Komenského Čelákovice | F48: 2 | G48: 3 | H48: 60.65
B49: Žákyně 4.-5. tř. 300m běh | C49: Supová Veronika | E49: ZŠ Jirny | F49: 6 | G49: 3 | H49: 60.75
B50: Žákyně 4.-5. tř. 300m běh | C50: Suchá Viktorie | D50: 2013 | E50: ZŠ Semice | F50: 1 | G50: 4 | H50: 60.76
B51: Žákyně 4.-5. tř. 300m běh | C51: Kristýna Jánová | D51: 2014 | E51: ZŠ Kamenka Čelákovice | F51: 3 | G51: 1 | H51: 61.57
B52: Žákyně 4.-5. tř. 300m běh | C52: Musilová Ella | D52: 2013 | E52: ZŠ Komenského Čelákovice | F52: 5 | G52: 1 | H52: 62.21
B53: Žákyně 4.-5. tř. 300m běh | C53: Holubíková Adéla | D53: 2013 | E53: MILLS Čelákovice | F53: 4 | G53: 3 | H53: 62.39
B54: Žákyně 4.-5. tř. 300m běh

Sheet A- 50m dívky 4-5
A3: SPORT | B3: BĚH 50m - DÍVKY - 4. - 5. TŘÍDA
A4: VÝSLEDKY
A6: POŘADÍ | B6: ŠKOLA | C6: PŘÍJMENÍ A JMÉNO | D6: POČET BODŮ
A7: 1. | B7: =VLOOKUP(C7,#REF!,3,0) -> #REF!
A8: 2. | B8: =VLOOKUP(C8,#REF!,3,0) -> #REF!
A9: 3. | B9: =VLOOKUP(C9,#REF!,3,0) -> #REF!
A10: 4. | B10: =VLOOKUP(C10,#REF!,3,0) -> #REF!
A11: 5. | B11: =VLOOKUP(C11,#REF!,3,0) -> #REF!
A12: 6. | B12: =VLOOKUP(C12,#REF!,3,0) -> #REF!
A13: 7. | B13: =VLOOKUP(C13,#REF!,3,0) -> #REF!
A14: 8. | B14: =VLOOKUP(C14,#REF!,3,0) -> #REF!
A15: 9. | B15: =VLOOKUP(C15,#REF!,3,0) -> #REF!
A16: 10. | B16: =VLOOKUP(C16,#REF!,3,0) -> #REF!
A17: 11. | B17: =VLOOKUP(C17,#REF!,3,0) -> #REF!
A18: 12. | B18: =VLOOKUP(C18,#REF!,3,0) -> #REF!
... A27: 21. | B27: =VLOOKUP(C27,#REF!,3,0) -> #REF!
C30: =B3 -> BĚH 50m - DÍVKY - 4. - 5. TŘÍDA
A31: SEZNAM PŘIHLÁŠENÝCH | C31: Přijmení a jméno | D31: ROK NAROZENÍ | E31: ŠKOLA | F31: dráha | G31: rozběh | H31: čas
B32: Žákyně 4.-5. tř. 50m běh | C32: NOVÁKOVÁ TEREZA | D32: 2013 | E32: ZŠ Semice | F32: 1 | G32: 1 | H32: 7.8
B33: Žákyně 4.-5. tř. 50m běh | C33: Veselá Kristýna | D33: 2013 | E33: ZŠ a MŠ Nehvizdy | F33: 5 | G33: 3 | H33: 7.97
B34: Žákyně 4.-5. tř. 50m běh | C34: Haramulová Lenka | D34: 2014 | E34: ZŠ Kamenka Čelákovice | F34: 3 | G34: 1 | H34: 8.06
B35: Žákyně 4.-5. tř. 50m běh | C35: Štěpánová Natálie | E35: ZŠ Jirny | F35: 3 | G35: 2 | H35: 8.11
B36: Žákyně 4.-5. tř. 50m běh | C36: BOHUSLAVOVÁ CHRISTINA | D36: 2014 | E36: ZŠ Semice | F36: 4 | G36: 2 | H36: 8.11
B37: Žákyně 4.-5. tř. 50m běh | C37: Rebrii Violeta | D37: 2013 | E37: ZŠ a MŠ Nehvizdy | F37: 2 | G37: 2 | H37: 8.14
B38: Žákyně 4.-5. tř. 50m běh | C38: SUCHÁ VIKTORIE (BRANDEJSOVÁ, JÍLKOVÁ M., ODEHNALOVÁ) | D38: 2012 | E38: ZŠ Semice | F38: 1 | G38: 4 | H38: 8.21
B39: Žákyně 4.-5. tř. 50m běh | C39: Lysická Emma | D39: 2013 | E39: ZŠ Lázně Toušeň | F39: 2 | G39: 1 | H39: 8.29
B40: Žákyně 4.-5. tř. 50m běh | C40: Klaudová Vanda | D40: 2013 | E40: ZŠ Komenského Čelákovice | F40: 2 | G40: 3 | H40: 8.31
B41: Žákyně 4.-5. tř. 50m běh | C41: Sysová Ráchel | D41: 2013 | E41: ZáŠkola Brandýs nad Labem | F41: 5 | G41: 4 | H41: 8.37
B42: Žákyně 4.-5. tř. 50m běh | C42: Geistová Adéla | D42: 2014 | E42: ZŠ Lázně Toušeň | F42: 5 | G42: 2 | H42: 8.47
B43: Žákyně 4.-5. tř. 50m běh | C43: Megerlová Anna | D43: 2014 | E43: ZáŠkola Brandýs nad Labem | F43: 1 | G43: 3 | H43: 8.59
B44: Žákyně 4.-5. tř. 50m běh | C44: Habadová Adéla | D44: 2013 | E44: ZŠ a MŠ Nehvizdy | F44: 4 | G44: 1 | H44: 8.6
B45: Žákyně 4.-5. tř. 50m běh | C45: Strachová Eliška | D45: 2013 | E45: MILLS Čelákovice | F45: 1 | G45: 2 | H45: 8.76
B46: Žákyně 4.-5. tř. 50m běh | C46: Housková Johana | D46: 2012 | E46: ZŠ Zeleneč | F46: 3 | G46: 3 | H46: 8.8
B47: Žákyně 4.-5. tř. 50m běh | C47: Nováková Viktorie | D47: 2013 | E47: ZŠ Lázně Toušeň | F47: 2 | G47: 4 | H47: 8.87
... B50: Žákyně 4.-5. tř. 50m běh | C50: Ducháčková Ema | D50: 2013 | E50: ZŠ Komenského Čelákovice | F50: 5 | G50: 1 | H50: 9.05
B51: Žákyně 4.-5. tř. 50m běh | C51: Hnízdilová Klára | E51: ZŠ Jirny | F51: 4 | G51: 3 | H51: 9.05
B52: Žákyně 4.-5. tř. 50m běh | C52: Anna Richtrmocová | D52: 2012 | E52: ZŠ Kamenka Čelákovice | F52: 6 | G52: 2 | H52: 9.1
B53: Žákyně 4.-5. tř. 50m běh | C53: Tomková Sofie | D53: 2013 | E53: ZŠ Zeleneč | F53: 6 | G53: 1 | H53: 9.18
B54: Žákyně 4.-5. tř. 50m běh | C54: Supová Veronika | E54: ZŠ Jirny | F54: 6 | G54: 3 | H54: 9.2
B55: Žákyně 4.-5. tř. 50m běh | C55: Řeháková Elena | D55: 2012 | E55: ZŠ Komenského Čelákovice | F55: 6 | G55: 4 | H55: 13.47

Sheet A- dálka dívky 4-5
A3: SPORT | B3: DÁLKA - DÍVKY - 4. - 5. TŘÍDA
A4: VÝSLEDKY
A6: POŘADÍ | B6: ŠKOLA | C6: PŘÍJMENÍ A JMÉNO | D6: POČET BODŮ
A7: 1. | B7: =VLOOKUP(C7,#REF!,3,0) -> #REF!
A8: 2. | B8: =VLOOKUP(C8,#REF!,3,0) -> #REF!
A9: 3. | B9: =VLOOKUP(C9,#REF!,3,0) -> #REF!
A10: 4. | B10: =VLOOKUP(C10,#REF!,3,0) -> #REF!
A11: 5. | B11: =VLOOKUP(C11,#REF!,3,0) -> #REF!
A12: 6. | B12: =VLOOKUP(C12,#REF!,3,0) -> #REF!
A13: 7. | B13: =VLOOKUP(C13,#REF!,3,0) -> #REF!
A14: 8. | B14: =VLOOKUP(C14,#REF!,3,0) -> #REF!
A15: 9. | B15: =VLOOKUP(C15,#REF!,3,0) -> #REF!
A16: 10. | B16: =VLOOKUP(C16,#REF!,3,0) -> #REF!
A17: 11. | B17: =VLOOKUP(C17,#REF!,3,0) -> #REF!
A18: 12. | B18: =VLOOKUP(C18,#REF!,3,0) -> #REF!
... A27: 21. | B27: =VLOOKUP(C27,#REF!,3,0) -> #REF!
C30: =B3 -> DÁLKA - DÍVKY - 4. - 5. TŘÍDA
A31: SEZNAM PŘIHLÁŠENÝCH | C31: Přijmení a jméno | D31: ROK NAROZENÍ | E31: ŠKOLA | F31: pokus 1 | G31: pokus 2 | H31: pokus 3
B32: Žákyně 4.-5. tř. dálka | C32: NOVÁKOVÁ TEREZA | D32: 2013 | E32: ZŠ Semice | I32: 434
B33: Žákyně 4.-5. tř. dálka | C33: Krátká Kateřina | D33: 2012 | E33: ZŠ Komenského Čelákovice | I33: 409
B34: Žákyně 4.-5. tř. dálka | C34: Nela Skalíková | D34: 2013 | E34: ZŠ Kamenka Čelákovice | I34: 408
B35: Žákyně 4.-5. tř. dálka | C35: Veselá Kristýna | D35: 2013 | E35: ZŠ a MŠ Nehvizdy | I35: 393
B36: Žákyně 4.-5. tř. dálka | C36: Brandejsová Amálie | E36: ZŠ Semice | I36: 386
B37: Žákyně 4.-5. tř. dálka | C37: Lysická Emma | D37: 2013 | E37: ZŠ Lázně Toušeň | I37: 374
B38: Žákyně 4.-5. tř. dálka | C38: Klaudová Vanda | D38: 2013 | E38: ZŠ Komenského Čelákovice | I38: 372
B39: Žákyně 4.-5. tř. dálka | C39: Tuhovčáková Adéla | D39: 2013 | E39: ZŠ Zeleneč | I39: 368
B40: Žákyně 4.-5. tř. dálka | C40: Sophia Purdy | D40: 2013 | E40: ZŠ Kamenka Čelákovice | I40: 364
B41: Žákyně 4.-5. tř. dálka | C41: Megerlová Anna | E41: ZáŠkola Brandýs nad Labem | I41: 364
B42: Žákyně 4.-5. tř. dálka | C42: Nováková Viktorie | D42: 2013 | E42: ZŠ Lázně Toušeň | I42: 360
B43: Žákyně 4.-5. tř. dálka | C43: ??? | D43: 2013 | E43: ZŠ a MŠ Nehvizdy | I43: 360
B44: Žákyně 4.-5. tř. dálka | C44: Uhlířová Aneta | D44: 2014 | E44: ZŠ Komenského Čelákovice | I44: 359
B45: Žákyně 4.-5. tř. dálka | C45: Geistová Adéla | D45: 2014 | E45: ZŠ Lázně Toušeň | I45: 358
B46: Žákyně 4.-5. tř. dálka | C46: Sysová Rachel | E46: ZáŠkola Brandýs nad Labem | I46: 358
B47: Žákyně 4.-5. tř. dálka | C47: Vanclová Viktorie | D47: 2012 | E47: ZŠ Zeleneč | I47: 354
B48: Žákyně 4.-5. tř. dálka | C48: BOHUSLAVOVÁ CHRISTINA | D48: 2014 | E48: ZŠ Semice | I48: 348
B49: Žákyně 4.-5. tř. dálka | C49: Nikoleta Ferková | D49: 2012 | E49: ZŠ Kamenka Čelákovice | I49: 345
B50: Žákyně 4.-5. tř. dálka | C50: Rebrii Violeta | D50: 2013 | E50: ZŠ a MŠ Nehvizdy | I50: 344
B51: Žákyně 4.-5. tř. dálka | C51: Strachová Eliška | D51: 2013 | E51: MILLS Čelákovice | I51: 342
B52: Žákyně 4.-5. tř. dálka | C52: Supová Veronika | E52: ZŠ Jirny | I52: 333
B53: Žákyně 4.-5. tř. dálka | C53: Štěpánová Natálie | E53: ZŠ Jirny | I53: 328
B54: Žákyně 4.-5. tř. dálka | C54: Hnízdilová Klára | E54: ZŠ Jirny | I54: 326
C55: Ježková Kateřina | D55: 2013 | E55: MILLS Čelákovice | I55: 305
C56: ODEHNALOVÁ SOFIE | D56: 2013 | E56: ZŠ Semice
C57: Holubíková Adéla | D57: 2013 | E57: MILLS Čelákovice

Sheet A- míček dívky 4-5
A3: SPORT | B3: MÍČEK - DÍVKY - 4. - 5. TŘÍDA
A4: VÝSLEDKY
A6: POŘADÍ | B6: ŠKOLA | C6: PŘÍJMENÍ A JMÉNO | D6: POČET BODŮ
A7: 1. | B7: =VLOOKUP(C7,#REF!,3,0) -> #REF!
A8: 2. | B8: =VLOOKUP(C8,#REF!,3,0) -> #REF!
A9: 3. | B9: =VLOOKUP(C9,#REF!,3,0) -> #REF!
A10: 4. | B10: =VLOOKUP(C10,#REF!,3,0) -> #REF!
A11: 5. | B11: =VLOOKUP(C11,#REF!,3,0) -> #REF!
A12: 6. | B12: =VLOOKUP(C12,#REF!,3,0) -> #REF!
A13: 7. | B13: =VLOOKUP(C13,#REF!,3,0) -> #REF!
A14: 8. | B14: =VLOOKUP(C14,#REF!,3,0) -> #REF!
A15: 9. | B15: =VLOOKUP(C15,#REF!,3,0) -> #REF!
A16: 10. | B16: =VLOOKUP(C16,#REF!,3,0) -> #REF!
A17: 11. | B17: =VLOOKUP(C17,#REF!,3,0) -> #REF!
A18: 12. | B18: =VLOOKUP(C18,#REF!,3,0) -> #REF!
... A27: 21. | B27: =VLOOKUP(C27,#REF!,3,0) -> #REF!
C30: =B3 -> MÍČEK - DÍVKY - 4. - 5. TŘÍDA
A31: SEZNAM PŘIHLÁŠENÝCH | C31: Přijmení a jméno | D31: ROK NAROZENÍ | E31: ŠKOLA | F31: pokus 1 | G31: pokus 2 | H31: pokus 3
B32: Žákyně 4.-5. tř. míček | C32: Klaudová Vanda | D32: 2013 | E32: ZŠ Komenského Čelákovice | I32: 35.93
B33: Žákyně 4.-5. tř. míček | C33: NOVÁKOVÁ TEREZA | D33: 2013 | E33: ZŠ Semice | I33: 31.16
B34: Žákyně 4.-5. tř. míček | C34: Prokopovičová Karolína | D34: 2013 | E34: ZŠ Komenského Čelákovice | I34: 29.6
B35: Žákyně 4.-5. tř. míček | C35: Falcová Zuzana | D35: 2012 | E35: MILLS Čelákovice | I35: 25.6
B36: Žákyně 4.-5. tř. míček | C36: BOHUSLAVOVÁ CHRISTINA | D36: 2014 | E36: ZŠ Semice | I36: 25.32
B37: Žákyně 4.-5. tř. míček | C37: Hnízdilová Klára | E37: ZŠ Jirny | I37: 24.36
B38: Žákyně 4.-5. tř. míček | C38: JÍLKOVÁ ALŽBĚTA | D38: 2012 | E38: ZŠ Semice | I38: 24.18
B39: Žákyně 4.-5. tř. míček | C39: Michaela Kernerová | D39: 2013 | E39: ZŠ Kamenka Čelákovice | I39: 23.72
B40: Žákyně 4.-5. tř. míček | C40: Strachová Eliška | D40: 2013 | E40: MILLS Čelákovice | I40: 23.49
B41: Žákyně 4.-5. tř. míček | C41: Tomková Sofie | D41: 2013 | E41: ZŠ Zeleneč | I41: 22.07
B42: Žákyně 4.-5. tř. míček | C42: Novotná Anežka | D42: 2013 | E42: ZŠ Kamenka Čelákovice | I42: 21.82
B43: Žákyně 4.-5. tř. míček | C43: Nováková Viktorie | D43: 2013 | E43: ZŠ Lázně Toušeň | I43: 20.99
B44: Žákyně 4.-5. tř. míček | C44: Anna Šebestová | D44: 2013 | E44: ZŠ Kamenka Čelákovice | I44: 20.7
B45: Žákyně 4.-5. tř. míček | C45: Lysická Emma | D45: 2013 | E45: ZŠ Lázně Toušeň | I45: 20.39
B46: Žákyně 4.-5. tř. míček | C46: Musilová Ella | D46: 2013 | E46: ZŠ Komenského Čelákovice | I46: 20.07
B47: Žákyně 4.-5. tř. míček | C47: Geistová Adéla | D47: 2013 | E47: ZŠ Lázně Toušeň | I47: 19.74
B48: Žákyně 4.-5. tř. míček | C48: Ježková Kateřina | D48: 2013 | E48: MILLS Čelákovice | I48: 19.36
B49: Žákyně 4.-5. tř. míček | C49: Jaroňová Anna | D49: 2013 | E49: ZŠ a MŠ Nehvizdy | I49: 18.79
B50: Žákyně 4.-5. tř. míček | C50: Tuhovčáková Adéla | D50: 2013 | E50: ZŠ Zeleneč | I50: 17.4
B51: Žákyně 4.-5. tř. míček | C51: Hanyková Anna | E51: ZŠ Jirny | I51: 17.1
B52: Žákyně 4.-5. tř. míček | C52: ??? | D52: 2013 | E52: ZŠ a MŠ Nehvizdy
B53: Žákyně 4.-5. tř. míček

Sheet A- 50m chlapci 4-5
A3: SPORT | B3: BĚH 50m - CHLAPCI - 4. - 5. TŘÍDA
A4: VÝSLEDKY
A6: POŘADÍ | B6: ŠKOLA | C6: PŘÍJMENÍ A JMÉNO | D6: POČET BODŮ
A7: 1. | B7: =VLOOKUP(C7,C$32:E$33,3,0) -> #N/A
A8: 2. | B8: =VLOOKUP(C8,C$32:E$33,3,0) -> #N/A
A9: 3. | B9: =VLOOKUP(C9,C$32:E$33,3,0) -> #N/A
A10: 4. | B10: =VLOOKUP(C10,C$32:E$33,3,0) -> #N/A
A11: 5. | B11: =VLOOKUP(C11,C$32:E$33,3,0) -> #N/A
A12: 6. | B12: =VLOOKUP(C12,C$32:E$33,3,0) -> #N/A
A13: 7. | B13: =VLOOKUP(C13,C$32:E$33,3,0) -> #N/A
A14: 8. | B14: =VLOOKUP(C14,C$32:E$33,3,0) -> #N/A
A15: 9. | B15: =VLOOKUP(C15,C$32:E$33,3,0) -> #N/A
A16: 10. | B16: =VLOOKUP(C16,C$32:E$33,3,0) -> #N/A
A17: 11. | B17: =VLOOKUP(C17,C$32:E$33,3,0) -> #N/A
A18: 12. | B18: =VLOOKUP(C18,C$32:E$33,3,0) -> #N/A
... A27: 21. | B27: =VLOOKUP(C27,C$32:E$33,3,0) -> #N/A
C30: =B3 -> BĚH 50m - CHLAPCI - 4. - 5. TŘÍDA
A31: SEZNAM PŘIHLÁŠENÝCH | C31: Přijmení a jméno | D31: ROK NAROZENÍ | E31: ŠKOLA | F31: dráha | G31: rozběh | H31: čas
B32: Žáci 4.- 5. tř. 50m běh | C32: Kubarev Vlad | D32: 2012 | E32: ZŠ a MŠ Nehvizdy | F32: 4 | G32: 3 | H32: 7.89
B33: Žáci 4.- 5. tř. 50m běh | C33: KATERENCHUK STANISLAV | D33: 2013 | E33: ZŠ Semice | F33: 1 | G33: 1 | H33: 7.9
B34: Žáci 4.- 5. tř. 50m běh | C34: Špičan Richard | D34: 2014 | E34: MILLS Čelákovice | F34: 6 | G34: 1 | H34: 7.95
B35: Žáci 4.- 5. tř. 50m běh | C35: Martin Fanta | D35: 2013 | E35: ZŠ Kamenka Čelákovice | F35: 6 | G35: 3 | H35: 8.12
B36: Žáci 4.- 5. tř. 50m běh | C36: Škarda Marek | D36: 2013 | E36: ZŠ Komenského Čelákovice | F36: 4 | G36: 1 | H36: 8.21
B37: Žáci 4.- 5. tř. 50m běh | C37: BENETKA JAKUB | D37: 2012 | E37: ZŠ Semice | F37: 4 | G37: 2 | H37: 8.26
B38: Žáci 4.- 5. tř. 50m běh | C38: Šmídl Adam | E38: ZŠ Jirny | H38: 8.27
B39: Žáci 4.- 5. tř. 50m běh | C39: Beneš Adam | D39: 2014 | E39: ZŠ a MŠ Nehvizdy | F39: 1 | G39: 2 | H39: 8.3
B40: Žáci 4.- 5. tř. 50m běh | C40: Babovák Lukáš | E40: ZŠ Jirny | F40: 2 | G40: 2 | H40: 8.34
B41: Žáci 4.- 5. tř. 50m běh | C41: Matouš Čech | D41: 2013 | E41: ZŠ Kamenka Čelákovice | F41: 3 | G41: 2 | H41: 8.37
B42: Žáci 4.- 5. tř. 50m běh | C42: Zorin Maks | D42: 2012 | E42: ZŠ Kamenka Čelákovice | F42: 6 | G42: 4 | H42: 8.41
B43: Žáci 4.- 5. tř. 50m běh | C43: Grof Adam | D43: 2013 | E43: ZŠ Zeleneč | F43: 2 | G43: 3 | H43: 8.46
B44: Žáci 4.- 5. tř. 50m běh | C44: Calta Mikuláš | D44: 2013 | E44: ZáŠkola Brandýs nad Labem | F44: 6 | G44: 2 | H44: 8.49
B45: Žáci 4.- 5. tř. 50m běh | C45: Muzikář Matěj | D45: 2014 | E45: ZŠ Komenského Čelákovice | F45: 4 | G45: 4 | H45: 8.59
B46: Žáci 4.- 5. tř. 50m běh | C46: Alexander Antonín | E46: ZŠ Jirny | F46: 5 | G46: 3 | H46: 8.62
B47: Žáci 4.- 5. tř. 50m běh | C47: Dušák Adam | D47: 2013 | E47: ZŠ Lázně Toušeň | F47: 2 | G47: 1 | H47: 8.7
B48: Žáci 4.- 5. tř. 50m běh | C48: Fiala Tadeáš | D48: 2012 | E48: ZŠ Zeleneč | F48: 5 | G48: 1 | H48: 8.75
B49: Žáci 4.- 5. tř. 50m běh | C49: KOŠTÍŘ MATĚJ | D49: 2012 | E49: ZŠ Semice | F49: 1 | G49: 4 | H49: 8.84
B50: Žáci 4.- 5. tř. 50m běh | C50: Agres Filip | D50: 2013 | E50: ZŠ Lázně Toušeň | F50: 5 | G50: 2 | H50: 8.87
B51: Žáci 4.- 5. tř. 50m běh | C51: Raptoš David | D51: 2013 | E51: ZŠ Komenského Čelákovice | F51: 1 | G51: 3 | H51: 8.88
B52: Žáci 4.- 5. tř. 50m běh | C52: Chytrý Matěj | D52: 2013 | E52: MILLS Čelákovice | F52: 3 | G52: 3 | H52: 8.92
B53: Žáci 4.- 5. tř. 50m běh | C53: Al- Asbahee Tony | E53: ZŠ Jirny | F53: 5 | G53: 4 | H53: 9.01
B54: Žáci 4.- 5. tř. 50m běh | C54: Machota Filip | D54: 2013 | E54: ZŠ Lázně Toušeň | F54: 2 | G54: 4 | H54: 9.16
B55: Žáci 4.- 5. tř. 50m běh | C55: Papšík Marek | E55: ZŠ a MŠ Nehvizdy | H55: 9.27
C56: Novák Mikuláš | D56: 2014 | E56: ZáŠkola Brandýs nad Labem | F56: 3 | G56: 4 | H56: 9.7
F57: 3 | G57: 1

Sheet A- 400m chlapci 4-5
A1: 5
A3: SPORT | B3: BĚH 400m - CHLAPCI - 4. - 5. TŘÍDA
A4: VÝSLEDKY
A6: POŘADÍ | B6: ŠKOLA | C6: PŘÍJMENÍ A JMÉNO | D6: POČET BODŮ
A7: 1. | B7: =VLOOKUP(C7,C$32:E$53,3,0) -> ZŠ a MŠ Nehvizdy | C7: Papšík Marek
A8: 2. | B8: =VLOOKUP(C8,C$32:E$53,3,0) -> ZŠ a MŠ Nehvizdy | C8: Kubarev Vlad
A9: 3. | B9: =VLOOKUP(C9,C$32:E$53,3,0) -> ZŠ Kamenka Čelákovice | C9: Martin Fanta
A10: 4. | B10: =VLOOKUP(C10,C$32:E$53,3,0) -> #N/A
A11: 5. | B11: =VLOOKUP(C11,C$32:E$53,3,0) -> #N/A
A12: 6. | B12: =VLOOKUP(C12,C$32:E$53,3,0) -> #N/A
A13: 7. | B13: =VLOOKUP(C13,C$32:E$53,3,0) -> #N/A
A14: 8. | B14: =VLOOKUP(C14,C$32:E$53,3,0) -> #N/A
A15: 9. | B15: =VLOOKUP(C15,C$32:E$53,3,0) -> #N/A
A16: 10. | B16: =VLOOKUP(C16,C$32:E$53,3,0) -> #N/A
A17: 11. | B17: =VLOOKUP(C17,C$32:E$53,3,0) -> #N/A
A18: 12. | B18: =VLOOKUP(C18,C$32:E$53,3,0) -> #N/A
A19: 13. | B19: =VLOOKUP(C19,C$32:E$53,3,0) -> #N/A
A20: 14. | B20: =VLOOKUP(C20,C$32:E$53,3,0) -> #N/A
A21: 15. | B21: =VLOOKUP(C21,C$32:E$53,3,0) -> #N/A
... A27: 21. | B27: =VLOOKUP(C27,C$32:E$53,3,0) -> #N/A
C30: =B3 -> BĚH 400m - CHLAPCI - 4. - 5. TŘÍDA
A31: SEZNAM PŘIHLÁŠENÝCH | C31: Přijmení a jméno | D31: ROK NAROZENÍ | E31: ŠKOLA | F31: dráha | G31: rozběh | H31: čas
B32: Žáci 4.- 5. tř. 400m běh | C32: Papšík Marek | D32: 2013 | E32: ZŠ a MŠ Nehvizdy | F32: 1 | G32: 2 | H32: 1:10,17
B33: Žáci 4.- 5. tř. 400m běh | C33: Kubarev Vlad | D33: 2013 | E33: ZŠ a MŠ Nehvizdy | F33: 5 | G33: 4 | H33: 1:11,45
B34: Žáci 4.- 5. tř. 400m běh | C34: Martin Fanta | D34: 2013 | E34: ZŠ Kamenka Čelákovice | F34: 4 | G34: 4 | H34: 1:12,56
B35: Žáci 4.- 5. tř. 400m běh | C35: Vondráček Matěj | D35: 2014 | E35: ZŠ Komenského Čelákovice | F35: 6 | G35: 2 | H35: 1:12,61
B36: Žáci 4.- 5. tř. 400m běh | C36: Čurda Marek | D36: 2014 | E36: ZŠ Kamenka Čelákovice | F36: 4 | G36: 3 | H36: 1:13,47
B37: Žáci 4.- 5. tř. 400m běh | C37: Lupu Traian | D37: 2012 | E37: ZŠ Komenského Čelákovice | F37: 1 | G37: 4 | H37: 1:13,67
B38: Žáci 4.- 5. tř. 400m běh | C38: Calta Mikuláš | D38: 2013 | E38: ZáŠkola Brandýs nad Labem | F38: 3 | G38: 1 | H38: 1:14,81
B39: Žáci 4.- 5. tř. 400m běh | C39: Kazda Jakub | D39: 2014 | E39: ZŠ Komenského Čelákovice | F39: 4 | G39: 1 | H39: 1:16,55
B40: Žáci 4.- 5. tř. 400m běh | C40: Babovák Lukáš | E40: ZŠ Jirny | F40: 2 | G40: 2 | H40: 1:16,80
B41: Žáci 4.- 5. tř. 400m běh | C41: Zlámalík Matěj | E41: ZŠ Jirny | F41: 3 | G41: 3 | H41: 1:18,94
B42: Žáci 4.- 5. tř. 400m běh | C42: Fiala Tadeáš | D42: 2012 | E42: ZŠ Zeleneč | F42: 1 | G42: 3 | H42: 1:19,36
B43: Žáci 4.- 5. tř. 400m běh | C43: Pozner Adam | D43: 2012 | E43: ZŠ Zeleneč | F43: 5 | G43: 1 | H43: 1:19,76
B44: Žáci 4.- 5. tř. 400m běh | C44: Špičan Richard | D44: 2014 | E44: MILLS Čelákovice | F44: 6 | G44: 1 | H44: 1:20,33
B45: Žáci 4.- 5. tř. 400m běh | C45: Dušák Adam | D45: 2013 | E45: ZŠ Lázně Toušeň | F45: 2 | G45: 1 | H45: 1:20,35
B46: Žáci 4.- 5. tř. 400m běh | C46: Beneš Adam | E46: ZŠ a MŠ Nehvizdy | H46: 1:20,56
B47: Žáci 4.- 5. tř. 400m běh | C47: Nožíř David | D47: 2012 | E47: ZŠ Lázně Toušeň | F47: 6 | G47: 3 | H47: 1:20,97
B48: Žáci 4.- 5. tř. 400m běh | C48: Alexander Antonín | E48: ZŠ Jirny | F48: 3 | G48: 4 | H48: 1:21,95
B49: Žáci 4.- 5. tř. 400m běh | C49: Kain Maxmilián | D49: 2013 | E49: ZŠ Lázně Toušeň | F49: 5 | G49: 2 | H49: 1:22,10
B50: Žáci 4.- 5. tř. 400m běh | C50: Katerenchuk Stanislav | D50: 2012 | E50: ZŠ Semice | F50: 1 | G50: 1 | H50: 1:22,46
B51: Žáci 4.- 5. tř. 400m běh | C51: Vojtěch Bůva | D51: 2013 | E51: ZŠ Kamenka Čelákovice | F51: 3 | G51: 2 | H51: 1:23,66
B52: Žáci 4.- 5. tř. 400m běh | C52: SUCHÝ RADEK | D52: 2014 | E52: ZŠ Semice | F52: 4 | G52: 2 | H52: 1:27,67
B53: Žáci 4.- 5. tř. 400m běh | C53: KOŠTÍŘ MATĚJ | D53: 2014 | E53: ZŠ Semice | F53: 5 | G53: 3 | H53: 1:28,40
B54: Žáci 4.- 5. tř. 400m běh | C54: Chytrý Matěj | D54: 2013 | E54: MILLS Čelákovice | F54: 2 | G54: 3 | H54: 1:35,08
C55: Bureš Jáchym | D55: 2013 | E55: MILLS Čelákovice | F55: 2 | G55: 4 | H55: 1:35,13
C56: Pařík Kryštof | E56: ZáŠkola Brandýs nad Labem | H56: 1:38,35

Sheet A- dálka chlapci 4-5
A3: SPORT | B3: DÁLKA - CHLAPCI - 4. - 5. TŘÍDA
A4: VÝSLEDKY
A6: POŘADÍ | B6: ŠKOLA | C6: PŘÍJMENÍ A JMÉNO | D6: POČET BODŮ
A7: 1. | B7: =VLOOKUP(C7,#REF!,3,0) -> #REF!
A8: 2. | B8: =VLOOKUP(C8,#REF!,3,0) -> #REF!
A9: 3. | B9: =VLOOKUP(C9,#REF!,3,0) -> #REF!
A10: 4. | B10: =VLOOKUP(C10,#REF!,3,0) -> #REF!
A11: 5. | B11: =VLOOKUP(C11,#REF!,3,0) -> #REF!
A12: 6. | B12: =VLOOKUP(C12,#REF!,3,0) -> #REF!
A13: 7. | B13: =VLOOKUP(C13,#REF!,3,0) -> #REF!
A14: 8. | B14: =VLOOKUP(C14,#REF!,3,0) -> #REF!
A15: 9. | B15: =VLOOKUP(C15,#REF!,3,0) -> #REF!
A16: 10. | B16: =VLOOKUP(C16,#REF!,3,0) -> #REF!
A17: 11. | B17: =VLOOKUP(C17,#REF!,3,0) -> #REF!
A18: 12. | B18: =VLOOKUP(C18,#REF!,3,0) -> #REF!
... A27: 21. | B27: =VLOOKUP(C27,#REF!,3,0) -> #REF!
C30: =B3 -> DÁLKA - CHLAPCI - 4. - 5. TŘÍDA
A31: SEZNAM PŘIHLÁŠENÝCH | C31: Přijmení a jméno | D31: ROK NAROZENÍ | E31: ŠKOLA | F31: pokus 1 | G31: pokus 2 | H31: pokus 3
B32: Žáci 4.- 5. tř. dálka | C32: Špičan Richard | D32: 2014 | E32: MILLS Čelákovice | I32: 406
B33: Žáci 4.- 5. tř. dálka | C33: Vojtěch Holcman | D33: 2013 | E33: ZŠ Kamenka Čelákovice | I33: 404
B34: Žáci 4.- 5. tř. dálka | C34: Nožíř David | D34: 2012 | E34: ZŠ Lázně Toušeň | I34: 381
B35: Žáci 4.- 5. tř. dálka | C35: Kubarev Vladislav | E35: ZŠ a MŠ Nehvizdy | I35: 379
B36: Žáci 4.- 5. tř. dálka | C36: Maks Zorin | D36: 2012 | E36: ZŠ Kamenka Čelákovice | I36: 378
B37: Žáci 4.- 5. tř. dálka | C37: Muzikář Matěj | D37: 2014 | E37: ZŠ Komenského Čelákovice | I37: 375
B38: Žáci 4.- 5. tř. dálka | C38: BENETKA JAKUB | D38: 2012 | E38: ZŠ Semice | I38: 374
B39: Žáci 4.- 5. tř. dálka | C39: KATERENCHUK STANISLAV | D39: 2013 | E39: ZŠ Semice | I39: 370
B40: Žáci 4.- 5. tř. dálka | C40: Papšík Marek | D40: 2013 | E40: ZŠ a MŠ Nehvizdy | I40: 369
B41: Žáci 4.- 5. tř. dálka | C41: VACULA KAREL (KOŠTÍŘ, SUCHÝ) | D41: 2012 | E41: ZŠ Semice | I41: 365
B42: Žáci 4.- 5. tř. dálka | C42: Vondráček Matěj | D42: 2014 | E42: ZŠ Komenského Čelákovice | I42: 363
B43: Žáci 4.- 5. tř. dálka | C43: Pozner Adam | D43: 2012 | E43: ZŠ Zeleneč | I43: 360
B44: Žáci 4.- 5. tř. dálka | C44: Alexander Antonín | E44: ZŠ Jirny | I44: 353
B45: Žáci 4.- 5. tř. dálka | C45: Babovák Lukáš | E45: ZŠ Jirny | I45: 352
B46: Žáci 4.- 5. tř. dálka | C46: David Vondrášek | D46: 2012 | E46: ZŠ Kamenka Čelákovice | I46: 351
B47: Žáci 4.- 5. tř. dálka | C47: Agres Filip | D47: 2013 | E47: ZŠ Lázně Toušeň | I47: 349
B48: Žáci 4.- 5. tř. dálka | C48: Švancar Pavel | D48: 2012 | E48: ZŠ Zeleneč | I48: 336
B49: Žáci 4.- 5. tř. dálka | C49: Beneš Adam | D49: 2014 | E49: ZŠ a MŠ Nehvizdy | I49: 328
B50: Žáci 4.- 5. tř. dálka | C50: Chytrý Matěj | D50: 2013 | E50: MILLS Čelákovice | I50: 320
B51: Žáci 4.- 5. tř. dálka | C51: Kazda Jakub | D51: 2014 | E51: ZŠ Komenského Čelákovice | I51: 319
B52: Žáci 4.- 5. tř. dálka | C52: Dušák Adam | D52: 2013 | E52: ZŠ Lázně Toušeň | I52: 311
B53: Žáci 4.- 5. tř. dálka | C53: Al-asbahee Tony | E53: ZŠ Jirny | I53: 298
C54: Polívka Max | D54: 2013 | E54: MILLS Čelákovice

Sheet A- míček chlapci 4-5
A3: SPORT | B3: MÍČEK - CHLAPCI - 4. - 5. TŘÍDA
A4: VÝSLEDKY
A6: POŘADÍ | B6: ŠKOLA | C6: PŘÍJMENÍ A JMÉNO | D6: POČET BODŮ
A7: 1. | B7: =VLOOKUP(C7,#REF!,3,0) -> #REF!
A8: 2. | B8: =VLOOKUP(C8,#REF!,3,0) -> #REF!
A9: 3. | B9: =VLOOKUP(C9,#REF!,3,0) -> #REF!
A10: 4. | B10: =VLOOKUP(C10,#REF!,3,0) -> #REF!
A11: 5. | B11: =VLOOKUP(C11,#REF!,3,0) -> #REF!
A12: 6. | B12: =VLOOKUP(C12,#REF!,3,0) -> #REF!
A13: 7. | B13: =VLOOKUP(C13,#REF!,3,0) -> #REF!
A14: 8. | B14: =VLOOKUP(C14,#REF!,3,0) -> #REF!
A15: 9. | B15: =VLOOKUP(C15,#REF!,3,0) -> #REF!
A16: 10. | B16: =VLOOKUP(C16,#REF!,3,0) -> #REF!
A17: 11. | B17: =VLOOKUP(C17,#REF!,3,0) -> #REF!
A18: 12. | B18: =VLOOKUP(C18,#REF!,3,0) -> #REF!
... A27: 21. | B27: =VLOOKUP(C27,#REF!,3,0) -> #REF!
C30: =B3 -> MÍČEK - CHLAPCI - 4. - 5. TŘÍDA
A31: SEZNAM PŘIHLÁŠENÝCH | C31: Přijmení a jméno | D31: ROK NAROZENÍ | E31: ŠKOLA | F31: pokus 1 | G31: pokus 2 | H31: pokus 3
B32: Žáci 4.- 5. tř. míček | C32: Mutinský Šimon | E32: ZŠ Jirny | I32: 46.95
B33: Žáci 4.- 5. tř. míček | C33: Kain Maxmilián | D33: 2013 | E33: ZŠ Lázně Toušeň | I33: 42.59
B34: Žáci 4.- 5. tř. míček | C34: Blümel Pavel | D34: 2013 | E34: ZŠ Zeleneč | I34: 38.8
B35: Žáci 4.- 5. tř. míček | C35: David Vondrášek | D35: 2012 | E35: ZŠ Kamenka Čelákovice | I35: 38.7
B36: Žáci 4.- 5. tř. míček | C36: Tadeáš Pruner | D36: 2013 | E36: ZŠ Kamenka Čelákovice | I36: 37.19
B37: Žáci 4.- 5. tř. míček | C37: Papšík Marek | D37: 2013 | E37: ZŠ a MŠ Nehvizdy | I37: 37.01
B38: Žáci 4.- 5. tř. míček | C38: Dušák Adam | D38: 2013 | E38: ZŠ Lázně Toušeň | I38: 36.6
B39: Žáci 4.- 5. tř. míček | C39: Janík Josef | D39: 2013 | E39: ZáŠkola Brandýs nad Labem | I39: 36.18
B40: Žáci 4.- 5. tř. míček | C40: Lukáš Linhart | D40: 2013 | E40: ZŠ Kamenka Čelákovice | I40: 35.7
B41: Žáci 4.- 5. tř. míček | C41: Mašek Patrik | D41: 2012 | E41: ZŠ Zeleneč | I41: 34.34
B42: Žáci 4.- 5. tř. míček | C42: Policar Matouš | D42: 2012 | E42: ZŠ Semice | I42: 33.14
B43: Žáci 4.- 5. tř. míček | C43: Pařík Kryštof | D43: 2014 | E43: ZáŠkola Brandýs nad Labem | I43: 32.78
B44: Žáci 4.- 5. tř. míček | C44: Špičan Richard | D44: 2014 | E44: MILLS Čelákovice | I44: 32.56
... B50: Žáci 4.- 5. tř. míček | C50: Šlajer Oliver | D50: 2013 | E50: MILLS Čelákovice | I50: 26.82
C51: Kubarev Vlad | E51: ZŠ a MŠ Nehvizdy | I51: 26.22
B52: Žáci 4.- 5. tř. míček | C52: Beneš Adam | D52: 2014 | E52: ZŠ a MŠ Nehvizdy | I52: 25.89
B53: Žáci 4.- 5. tř. míček | C53: Muzikář Matěj | D53: 2014 | E53: ZŠ Komenského Čelákovice | I53: 24.98
B54: Žáci 4.- 5. tř. míček | C54: Babovák Lukáš | E54: ZŠ Jirny | I54: 23.8
B55: Žáci 4.- 5. tř. míček | C55: Zlámalík Matěj | E55: ZŠ Jirny | I55: 22.58
B56: Žáci 4.- 5. tř. míček | C56: Popelka Jakub | D56: 2013 | E56: MILLS Čelákovice | I56: 21.29
B57: Žáci 4.- 5. tř. míček | C57: Mandys Kryštof | D57: 2013 | E57: ZáŠkola Brandýs nad Labem

Sheet A- 60m dívky 6-7
A3: SPORT | B3: BĚH 60m - DÍVKY - 6. - 7. TŘÍDA
A4: VÝSLEDKY
A6: POŘADÍ | B6: ŠKOLA | C6: PŘÍJMENÍ A JMÉNO | D6: POČET BODŮ
A7: 1. | B7: =VLOOKUP(C7,C$32:E$32,3,0) -> #N/A
A8: 2. | B8: =VLOOKUP(C8,C$32:E$32,3,0) -> #N/A
A9: 3. | B9: =VLOOKUP(C9,C$32:E$32,3,0) -> #N/A
A10: 4. | B10: =VLOOKUP(C10,C$32:E$32,3,0) -> #N/A
A11: 5. | B11: =VLOOKUP(C11,C$32:E$32,3,0) -> #N/A
A12: 6. | B12: =VLOOKUP(C12,C$32:E$32,3,0) -> #N/A
A13: 7. | B13: =VLOOKUP(C13,C$32:E$32,3,0) -> #N/A
A14: 8. | B14: =VLOOKUP(C14,C$32:E$32,3,0) -> #N/A
A15: 9. | B15: =VLOOKUP(C15,C$32:E$32,3,0) -> #N/A
A16: 10. | B16: =VLOOKUP(C16,C$32:E$32,3,0) -> #N/A
A17: 11. | B17: =VLOOKUP(C17,C$32:E$32,3,0) -> #N/A
A18: 12. | B18: =VLOOKUP(C18,C$32:E$32,3,0) -> #N/A
... A27: 21. | B27: =VLOOKUP(C27,C$32:E$32,3,0) -> #N/A
C30: =B3 -> BĚH 60m - DÍVKY - 6. - 7. TŘÍDA
A31: SEZNAM PŘIHLÁŠENÝCH | C31: Přijmení a jméno | D31: ROK NAROZENÍ | E31: ŠKOLA | F31: dráha | G31: rozběh | H31: čas
B32: Mladší žákyně 60m běh | C32: Hoke Berenika | D32: 2010 | E32: Gymnázium Čelákovice | F32: 2 | G32: 1 | H32: 8.13
B33: Mladší žákyně 60m běh | C33: Modráková Kateřina 7.B | D33: 2011 | E33: ZŠ Kamenka Čelákovice | F33: 4 | G33: 1 | H33: 8.28
B34: Mladší žákyně 60m běh | C34: Vysloužilová Barbora | D34: 2012 | E34: ZŠ Komenského Čelákovice | F34: 6 | G34: 1 | H34: 8.53
B35: Mladší žákyně 60m běh | C35: SEMECKÁ MARTINA | D35: 2012 | E35: ZŠ Semice | F35: 1 | G35: 1 | H35: 8.55
B36: Mladší žákyně 60m běh | C36: Drietomská Adéla | D36: 2010 | E36: ZŠ a MŠ Nehvizdy | F36: 6 | G36: 3 | H36: 8.9
B37: Mladší žákyně 60m běh | C37: Čechová A | D37: 2014 | E37: ZŠ Kamenka Čelákovice | F37: 5 | G37: 4 | H37: 8.92
B38: Mladší žákyně 60m běh | C38: Sasyn Sofia 6.C | D38: 2012 | E38: ZŠ Kamenka Čelákovice | F38: 2 | G38: 3 | H38: 9.04
B39: Mladší žákyně 60m běh | C39: Frydrychová Ema | D39: 2010 | E39: ZŠ a MŠ Nehvizdy | F39: 2 | G39: 5 | H39: 9.2
B40: Mladší žákyně 60m běh | C40: Maďarová Agáta | E40: ZŠ Jirny | F40: 3 | G40: 5 | H40: 9.21
B41: Mladší žákyně 60m běh | C41: Podhorská Liana | D41: 2011 | E41: ZŠ Komenského Čelákovice | F41: 6 | G41: 4 | H41: 9.25
B42: Mladší žákyně 60m běh | C42: Chmelíková Adéla | D42: 2011 | E42: Gymnázium Brandýs nad Labem | F42: 3 | G42: 1 | H42: 9.36
B43: Mladší žákyně 60m běh | C43: Skuhravá Barbora | D43: 2011 | E43: ZŠ Komenského Čelákovice | F43: 4 | G43: 3 | H43: 9.42
B44: Mladší žákyně 60m běh | C44: Vondráčková Adéla | E44: ZŠ Komenského Čelákovice | F44: 4 | G44: 5 | H44: 9.42
B45: Mladší žákyně 60m běh | C45: Fischerová Gábina | D45: 2012 | E45: Gymnázium Brandýs nad Labem | F45: 4 | G45: 4 | H45: 9.59
B46: Mladší žákyně 60m běh | C46: PROCHÁZKOVÁ KAROLÍNA | D46: 2012 | E46: ZŠ Semice | F46: 2 | G46: 4 | H46: 9.64
B47: Mladší žákyně 60m běh | C47: Žemlová Julie | D47: 2012 | E47: ZáŠkola Brandýs nad Labem | F47: 5 | G47: 1 | H47: 9.74
B48: Mladší žákyně 60m běh | C48: Patoková Katěřina | D48: 2012 | E48: ZáŠkola Brandýs nad Labem | F48: 3 | G48: 3 | H48: 9.83
B49: Mladší žákyně 60m běh | C49: Řezníčková Natálie | E49: ZŠ Jirny | F49: 1 | G49: 4 | H49: 9.83
B50: Mladší žákyně 60m běh | C50: Hálová Barbora | D50: 2011 | E50: MILLS Čelákovice | F50: 2 | G50: 2 | H50: 9.86
B51: Mladší žákyně 60m běh | C51: Davidová Sára | D51: 2011 | E51: Gymnázium Čelákovice | F51: 6 | G51: 2 | H51: 9.89
B52: Mladší žákyně 60m běh | C52: Paulíková Lucie | D52: 2012 | E52: ZŠ Zeleneč | F52: 1 | G52: 2 | H52: 10
B53: Mladší žákyně 60m běh | C53: Vrtišková Magdaléna | D53: 2011 | E53: Gymnázium Brandýs nad Labem | F53: 1 | G53: 3 | H53: 10.04
B54: Mladší žákyně 60m běh | C54: Houštecká Veronika | D54: 2012 | E54: ZŠ Zeleneč | F54: 1 | G54: 5 | H54: 10.27
B55: Mladší žákyně 60m běh | C55: KRAUSOVÁ ANNA | D55: 2012 | E55: ZŠ Semice | F55: 5 | G55: 2 | H55: 10.36
B56: Mladší žákyně 60m běh | C56: Venderová Barbora | D56: 2011 | E56: ZŠ Zeleneč | F56: 5 | G56: 3 | H56: 10.5
B57: Mladší žákyně 60m běh | C57: Dolejšová Nicol | E57: ZŠ Jirny | F57: 4 | G57: 2 | H57: 10.54
B58: Mladší žákyně 60m běh | C58: Kořínková Juele | E58: ZáŠkola Brandýs nad Labem | F58: 4 | G58: 5 | H58: 10.73
D59: 2010 | E59: ZŠ a MŠ Nehvizdy | F59: 3 | G59: 2
C60: Heyrovská Mia | D60: 2012 | E60: Gymnázium Čelákovice | F60: 3 | G60: 4

Sheet A- 600m dívky 6-7
A3: SPORT | B3: BĚH 600m - DÍVKY - 6. - 7. TŘÍDA
A4: VÝSLEDKY
A6: POŘADÍ | B6: ŠKOLA | C6: PŘÍJMENÍ A JMÉNO | D6: POČET BODŮ
A7: 1. | B7: =VLOOKUP(C7,C$32:E$48,3,0) -> #N/A
A8: 2. | B8: =VLOOKUP(C8,C$32:E$48,3,0) -> #N/A
A9: 3. | B9: =VLOOKUP(C9,C$32:E$48,3,0) -> #N/A
A10: 4. | B10: =VLOOKUP(C10,C$32:E$48,3,0) -> #N/A
A11: 5. | B11: =VLOOKUP(C11,C$32:E$48,3,0) -> #N/A
A12: 6. | B12: =VLOOKUP(C12,C$32:E$48,3,0) -> #N/A
A13: 7. | B13: =VLOOKUP(C13,C$32:E$48,3,0) -> #N/A
A14: 8. | B14: =VLOOKUP(C14,C$32:E$48,3,0) -> #N/A
A15: 9. | B15: =VLOOKUP(C15,C$32:E$48,3,0) -> #N/A
A16: 10. | B16: =VLOOKUP(C16,C$32:E$48,3,0) -> #N/A
A17: 11. | B17: =VLOOKUP(C17,C$32:E$48,3,0) -> #N/A
A18: 12. | B18: =VLOOKUP(C18,C$32:E$48,3,0) -> #N/A
... A27: 21. | B27: =VLOOKUP(C27,C$32:E$48,3,0) -> #N/A
C30: =B3 -> BĚH 600m - DÍVKY - 6. - 7. TŘÍDA
A31: SEZNAM PŘIHLÁŠENÝCH | C31: Přijmení a jméno | D31: ROK NAROZENÍ | E31: ŠKOLA | F31: čas
B32: Mladší žákyně 600m běh | C32: Vysloužilová Barbora | D32: 2012 | E32: ZŠ Komenského Čelákovice | F32: 1:51,43
B33: Mladší žákyně 600m běh | C33: Vondráčková Adéla | D33: 2011 | E33: ZŠ Komenského Čelákovice | F33: 1:52,19
B34: Mladší žákyně 600m běh | C34: Pražáková Adéla | D34: 2011 | E34: Gymnázium Čelákovice | F34: 1:53,66
B35: Mladší žákyně 600m běh | C35: Černá Markéta | D35: 2010 | E35: Gymnázium Brandýs nad Labem | F35: 1:55,93
B36: Mladší žákyně 600m běh | C36: Fridrichová Jasmína | D36: 2011 | E36: ZŠ Kamenka Čelákovice | F36: 1:56,30
B37: Mladší žákyně 600m běh | C37: ŠIMONOVÁ AMÁLIE | D37: 2011 | E37: ZŠ Semice | F37: 1:56,86
B38: Mladší žákyně 600m běh | C38: Hálová Barbora | D38: 2011 | E38: MILLS Čelákovice | F38: 2:02,91
B39: Mladší žákyně 600m běh | C39: Cudlínová Kateřina | E39: ZŠ Jirny | F39: 2:02,94
B40: Mladší žákyně 600m běh | C40: OPOLSKÁ MAGDALENA | D40: 2012 | E40: ZŠ Semice | F40: 2:06,68
B41: Mladší žákyně 600m běh | C41: Řezníčková Natálie | E41: ZŠ Jirny | F41: 2:08,65
B42: Mladší žákyně 600m běh | C42: Kylingerová Berenika 6.B | D42: 2011 | E42: ZŠ Kamenka Čelákovice | F42: 2:09,22
B43: Mladší žákyně 600m běh | C43: Frydrychová Ema | D43: 2010 | E43: ZŠ a MŠ Nehvizdy | F43: 2:11,76
B44: Mladší žákyně 600m běh | C44: Bystroňová Stela | D44: 2010 | E44: ZŠ a MŠ Nehvizdy | F44: 2:12,85
B45: Mladší žákyně 600m běh | C45: Žemlová Julie | E45: ZŠ Záškola | F45: 2:14,57
B46: Mladší žákyně 600m běh | C46: Jarošová Terezie | D46: 2011 | E46: ZŠ a MŠ Nehvizdy | F46: 2:15,50
B47: Mladší žákyně 600m běh | C47: Davidová | E47: Gymnázium Čelákovice | F47: 2:16,43
B48: Mladší žákyně 600m běh | C48: Procházková Karolína | E48: ZŠ Semice | F48: 2:21,98
B49: Mladší žákyně 600m běh | C49: Sasyn Sofie | E49: ZŠ Kamenka Čelákovice | F49: 2:25,67
C50: Králíková Eliška | D50: 2012 | E50: ZŠ Zeleneč | F50: 2:28,62
C51: Maďarová Agáta | E51: ZŠ Jirny | F51: 2:38,57

Sheet A- dálka dívky 6-7
A3: SPORT | B3: DÁLKA - DÍVKY - 6. - 7. TŘÍDA
A4: VÝSLEDKY
A6: POŘADÍ | B6: ŠKOLA | C6: PŘÍJMENÍ A JMÉNO | D6: POČET BODŮ
A7: 1. | B7: =VLOOKUP(C7,#REF!,3,0) -> #REF!
A8: 2. | B8: =VLOOKUP(C8,#REF!,3,0) -> #REF!
A9: 3. | B9: =VLOOKUP(C9,#REF!,3,0) -> #REF!
A10: 4. | B10: =VLOOKUP(C10,#REF!,3,0) -> #REF!
A11: 5. | B11: =VLOOKUP(C11,#REF!,3,0) -> #REF!
A12: 6. | B12: =VLOOKUP(C12,#REF!,3,0) -> #REF!
A13: 7. | B13: =VLOOKUP(C13,#REF!,3,0) -> #REF!
A14: 8. | B14: =VLOOKUP(C14,#REF!,3,0) -> #REF!
A15: 9. | B15: =VLOOKUP(C15,#REF!,3,0) -> #REF!
A16: 10. | B16: =VLOOKUP(C16,#REF!,3,0) -> #REF!
A17: 11. | B17: =VLOOKUP(C17,#REF!,3,0) -> #REF!
A18: 12. | B18: =VLOOKUP(C18,#REF!,3,0) -> #REF!
... A27: 21. | B27: =VLOOKUP(C27,#REF!,3,0) -> #REF!
C30: Dálka 6.-7.třída Dívky
A31: SEZNAM PŘIHLÁŠENÝCH | C31: Přijmení a jméno | D31: ROK NAROZENÍ | E31: ŠKOLA | F31: pokus 1 | G31: pokus 2 | H31: pokus 3
B32: Mladší žákyně dálka | C32: Modráková Kateřina 7.B | D32: 2011 | E32: ZŠ Kamenka Čelákovice | I32: 499
B33: Mladší žákyně dálka | C33: SEMECKÁ MARTINA | D33: 2012 | E33: ZŠ Semice | I33: 469
B34: Mladší žákyně dálka | C34: Hoke Berenika | D34: 2010 | E34: Gymnázium Čelákovice | I34: 431
B35: Mladší žákyně dálka | C35: Vysloužilová Barbora | D35: 2012 | E35: ZŠ Komenského Čelákovice | I35: 423
B36: Mladší žákyně dálka | C36: Drietomská Adéla | D36: 2010 | E36: ZŠ a MŠ Nehvizdy | I36: 423
B37: Mladší žákyně dálka | C37: Podshorká Riana | D37: 2011 | E37: ZŠ Komenského Čelákovice | I37: 420
B38: Mladší žákyně dálka | C38: Turková Eliška | E38: ZŠ Komenského Čelákovice | I38: 410
B39: Mladší žákyně dálka | C39: Málková Nela | D39: 2012/2011 | E39: ZŠ Kamenka Čelákovice | I39: 402
B40: Mladší žákyně dálka | C40: Vondráčková Adéla | D40: 2011 | E40: ZŠ Komenského Čelákovice | I40: 395
B41: Mladší žákyně dálka | C41: Zavoralová Edita | D41: 2010 | E41: Gymnázium Brandýs nad Labem | I41: 391
B42: Mladší žákyně dálka | C42: Bystroňová Stela | D42: 2010 | E42: ZŠ a MŠ Nehvizdy | I42: 383
B43: Mladší žákyně dálka | C43: Vaněčková Lara 7.C | D43: 2010 | E43: ZŠ Kamenka Čelákovice | I43: 382
B44: Mladší žákyně dálka | C44: Venderová Barbora | D44: 2012 | E44: ZŠ Zeleneč | I44: 373
B45: Mladší žákyně dálka | C45: ŠIMONOVÁ AMÁLIE | D45: 2011 | E45: ZŠ Semice | I45: 371
B46: Mladší žákyně dálka | C46: Racková Isabela | D46: 2011 | E46: Gymnázium Čelákovice | I46: 359
B47: Mladší žákyně dálka | C47: Řezníčková Natálie | E47: ZŠ Jirny | I47: 359
B48: Mladší žákyně dálka | C48: Dolejšová Nicol | E48: ZŠ Jirny | I48: 349
B49: Mladší žákyně dálka | C49: Pelantová Lada | D49: 2010 | E49: Gymnázium Čelákovice | I49: 343
B50: Mladší žákyně dálka | C50: PROCHÁZKOVÁ KAROLÍNA | D50: 2012 | E50: ZŠ Semice | I50: 339
B51: Mladší žákyně dálka | C51: Maďarová Agáta | E51: ZŠ Jirny | I51: 327
C52: Pauliková Lucie | D52: 2011 | E52: ZŠ Zeleneč | I52: 290

Sheet A- míček dívky 6-7
A3: SPORT | B3: MÍČEK - DÍVKY - 6. - 7. TŘÍDA
A4: VÝSLEDKY
A6: POŘADÍ | B6: ŠKOLA | C6: PŘÍJMENÍ A JMÉNO | D6: POČET BODŮ
A7: 1. | B7: =VLOOKUP(C7,#REF!,3,0) -> #REF!
A8: 2. | B8: =VLOOKUP(C8,#REF!,3,0) -> #REF!
A9: 3. | B9: =VLOOKUP(C9,#REF!,3,0) -> #REF!
A10: 4. | B10: =VLOOKUP(C10,#REF!,3,0) -> #REF!
A11: 5. | B11: =VLOOKUP(C11,#REF!,3,0) -> #REF!
A12: 6. | B12: =VLOOKUP(C12,#REF!,3,0) -> #REF!
A13: 7. | B13: =VLOOKUP(C13,#REF!,3,0) -> #REF!
A14: 8. | B14: =VLOOKUP(C14,#REF!,3,0) -> #REF!
A15: 9. | B15: =VLOOKUP(C15,#REF!,3,0) -> #REF!
A16: 10. | B16: =VLOOKUP(C16,#REF!,3,0) -> #REF!
A17: 11. | B17: =VLOOKUP(C17,#REF!,3,0) -> #REF!
A18: 12. | B18: =VLOOKUP(C18,#REF!,3,0) -> #REF!
... A27: 21. | B27: =VLOOKUP(C27,#REF!,3,0) -> #REF!
C30: =B3 -> MÍČEK - DÍVKY - 6. - 7. TŘÍDA
A31: SEZNAM PŘIHLÁŠENÝCH | C31: Přijmení a jméno | D31: ROK NAROZENÍ | E31: ŠKOLA | F31: pokus 1 | G31: pokus 2 | H31: pokus 3 | I31: celk.
B32: Mladší žákyně míček | C32: Fridrichová Jasmína 7.B | D32: 2011 | E32: ZŠ Kamenka Čelákovice | I32: 38.85
B33: Mladší žákyně míček | C33: SEMECKÁ MARTINA | D33: 2012 | E33: ZŠ Semice | I33: 37.91
B34: Mladší žákyně míček | C34: Drietomská Adéla | D34: 2010 | E34: ZŠ a MŠ Nehvizdy | I34: 37.32
B35: Mladší žákyně míček | C35: Kilingerová Berenika 6.B | D35: 2011 | E35: ZŠ Kamenka Čelákovice | I35: 36.63
B36: Mladší žákyně míček | C36: Vítů Amálie | D36: 2012 | E36: ZŠ Komenského Čelákovice | I36: 35.98
B37: Mladší žákyně míček | C37: Podhorská Riana | D37: 2012 | E37: ZŠ Komenského Čelákovice | I37: 34.8
B38: Mladší žákyně míček | C38: Vysloužilová Barbora | D38: 2012 | E38: ZŠ Komenského Čelákovice | I38: 34.68
B39: Mladší žákyně míček | C39: Kernerová Anna 7.C | D39: 2011 | E39: ZŠ Kamenka Čelákovice | I39: 34.44
B40: Mladší žákyně míček | C40: Bystroňová Stela | D40: 2010 | E40: ZŠ a MŠ Nehvizdy | I40: 33.8
B41: Mladší žákyně míček | C41: Šimková Adéla | D41: 2010 | E41: ZŠ Komenského Čelákovice | I41: 33.77
B42: Mladší žákyně míček | C42: Chmelíková Adéla | D42: 2011 | E42: Gymnázium Brandýs nad Labem | I42: 33.15
B43: Mladší žákyně míček | C43: Venderová Barbora | D43: 2011 | E43: ZŠ Zeleneč | I43: 31.22
... B50: Mladší žákyně míček | C50: Racková Isabela | D50: 2011 | E50: Gymnázium Čelákovice | I50: 23.1
B51: Mladší žákyně míček | C51: Bursíková Ema | D51: 2012 | E51: Gymnázium Čelákovice
B52: Mladší žákyně míček | C52: Rašínová Magdaléna | D52: 2011 | E52: Gymnázium Čelákovice

Sheet A- štafeta dívky 6-7
A3: SPORT | B3: ŠTAFETA 4x60m- DÍVKY - 6. - 7. TŘÍDA
A4: VÝSLEDKY
A6: POŘADÍ | B6: ŠKOLA | C6: ROZBĚH/DRÁHA | D6: ČAS
A7: 1. | B7: ZŠ a MŠ Nehvizdy | D7: 34.28
A8: 2. | B8: ZŠ Komenského Čelákovice | D8: 34.85
A9: 3. | B9: ZŠ Kamenka Čelákovice | D9: 35.29
A10: 4. | B10: Gymnázium Čelákovice | D10: 35.79
A11: 5. | B11: Gymnázium Brandýs nad Labem | D11: 36.34
A12: 6. | B12: ZŠ Semice | D12: 36.89
A13: 7. | B13: ZŠ Zeleneč | D13: 39.37
A14: 8. | B14: ZáŠkola Brandýs nad Labem | D14: 39.46
A15: 9.
A16: 10.
A17: 11.
A18: 12.
A19: 13.
A20: 14.
A21: 15.
A22: 16.
A23: 17.
A24: 18.
A25: 19.
A26: 20.
A27: 21.
C30: Štafeta 4x60m - 6.-7.třída Dívky
A31: SEZNAM PŘIHLÁŠENÝCH | C31: Přijmení a jméno | D31: ROK NAROZENÍ | E31: ŠKOLA
B32: Mladší žákyně štafeta 4x60 | C32: SEMECKÁ MARTINA | D32: 2012 | E32: ZŠ Semice
B33: Mladší žákyně štafeta 4x60 | C33: PROCHÁZKOVÁ KAROLÍNA | D33: 2012 | E33: ZŠ Semice
B34: Mladší žákyně štafeta 4x60 | C34: KRAUSOVÁ ANNA | D34: 2012 | E34: ZŠ Semice
B35: Mladší žákyně štafeta 4x60 | C35: ŠIMONOVÁ AMÁLIE (HOUŠKOVÁ) | D35: 2011 | E35: ZŠ Semice
B36: Mladší žákyně štafeta 4x60
B37: Mladší žákyně štafeta 4x60 | C37: Hoke Berenika, Bursíková Ema, Myrdaczová Lucie, Rašínová Magdaléna | D37: 2010, 2012, 2011, 2011 | E37: Gymnázium Čelákovice
B38: Mladší žákyně štafeta 4x60 | C38: Černá Markéta | D38: 2010 | E38: Gymnázium Brandýs nad Labem
B39: Mladší žákyně štafeta 4x60 | C39: Chmelíková Adéla | D39: 2011 | E39: Gymnázium Brandýs nad Labem
B40: Mladší žákyně štafeta 4x60 | C40: Vrtišková Magdaléna | D40: 2011 | E40: Gymnázium Brandýs nad Labem
B41: Mladší žákyně štafeta 4x60 | C41: Zavoralová Edita | D41: 2010 | E41: Gymnázium Brandýs nad Labem
B42: Mladší žákyně štafeta 4x60 | C42: Modráková Kateřina 7.B | D42: 2011 | E42: ZŠ Kamenka Čelákovice
B43: Mladší žákyně štafeta 4x60 | C43: Sasyn Sofia 6.C | D43: 2012 | E43: ZŠ Kamenka Čelákovice
B44: Mladší žákyně štafeta 4x60 | C44: Čechová Amálie 6.C | D44: 2014 | E44: ZŠ Kamenka Čelákovice
B45: Mladší žákyně štafeta 4x60 | C45: Fridrichová Jasmína 7.B | D45: 2011 | E45: ZŠ Kamenka Čelákovice
B46: Mladší žákyně štafeta 4x60 | C46: Vysloužilová Barbora | D46: 2012 | E46: ZŠ Komenského Čelákovice
B47: Mladší žákyně štafeta 4x60 | C47: Skuhravá Barbora | D47: 2011 | E47: ZŠ Komenského Čelákovice
B48: Mladší žákyně štafeta 4x60 | C48: Vondráčková Adéla | D48: 2011 | E48: ZŠ Komenského Čelákovice
B49: Mladší žákyně štafeta 4x60 | C49: Lysická Sára | D49: 2011 | E49: ZŠ Komenského Čelákovice
... B57: Mladší žákyně štafeta 4x60 | C57: Frydrychová Ema | D57: 2010 | E57: ZŠ a MŠ Nehvizdy

Sheet A- výška dívky 6-7
A3: SPORT | B3: VÝŠKA - DÍVKY - 6. - 7. TŘÍDA
A4: VÝSLEDKY
A6: POŘADÍ | B6: ŠKOLA | C6: PŘÍJMENÍ A JMÉNO | D6: POČET BODŮ
A7: 1. | B7: ZŠ Semice | C7: SEMECKÁ MARTINA | D7: 145
A8: 2. | B8: Gymnázium Čelákovice | C8: Šupová Aneta | D8: 140
A9: 3. | B9: ZŠ Semice | C9: ŠIMONOVÁ AMÁLIE | D9: 135
A10: 4. | B10: ZŠ Kamenka Čelákovice | C10: Svasym Sofie | D10: 130
A11: 5. | B11: ZŠ Komenského Čelákovice | C11: Skuhravá Barbora | D11: 125
A12: 6= | B12: ZŠ a MŠ Nehvizdy | C12: Bystroňová Stela | D12: 120
A13: 6= | B13: ZŠ Kamenka Čelákovice | C13: Málková Nela 6.C | D13: 120
A14: 8. | B14: Gymnázium Čelákovice | C14: Bursíková Ema | D14: 120
A15: 9= | B15: ZŠ Kamenka Čelákovice | C15: Čechová | D15: 115
A16: 9= | B16: ZŠ a MŠ Nehvizdy | C16: Drietomská Adéla | D16: 115
A17: 11. | B17: ZŠ Semice | C17: PROCHÁZKOVÁ KAROLÍNA | D17: 115
A18: 12. | B18: ZŠ Komenského Čelákovice | C18: Bohuslavová Beáta | D18: 110
A19: 13. | B19: =VLOOKUP(C19,#REF!,3,0) -> #REF!
A20: 14. | B20: =VLOOKUP(C20,#REF!,3,0) -> #REF!
A21: 15. | B21: =VLOOKUP(C21,#REF!,3,0) -> #REF!
A22: 16. | B22: =VLOOKUP(C22,#REF!,3,0) -> #REF!
A23: 17. | B23: =VLOOKUP(C23,#REF!,3,0) -> #REF!
A24: 18. | B24: =VLOOKUP(C24,#REF!,3,0) -> #REF!
A25: 19. | B25: =VLOOKUP(C25,#REF!,3,0) -> #REF!
A26: 20. | B26: =VLOOKUP(C26,#REF!,3,0) -> #REF!
A27: 21. | B27: =VLOOKUP(C27,#REF!,3,0) -> #REF!
C30: VÝŠKA 6.-7. TŘÍDA - dívky
A31: SEZNAM PŘIHLÁŠENÝCH | C31: Přijmení a jméno | D31: ROK NAROZENÍ | E31: ŠKOLA
B32: Mladší žákyně výška | C32: SEMECKÁ MARTINA | D32: 2012 | E32: ZŠ Semice
B33: Mladší žákyně výška | C33: ŠIMONOVÁ AMÁLIE | D33: 2011 | E33: ZŠ Semice
B34: Mladší žákyně výška | C34: PROCHÁZKOVÁ KAROLÍNA | D34: 2012 | E34: ZŠ Semice
B35: Mladší žákyně výška | C35: Bursíková Ema | D35: 2012 | E35: Gymnázium Čelákovice
B36: Mladší žákyně výška | C36: Šupová Aneta | D36: 2011 | E36: Gymnázium Čelákovice
B37: Mladší žákyně výška | C37: Málková Nela 6.C | D37: 2012 | E37: ZŠ Kamenka Čelákovice
B38: Mladší žákyně výška | C38: Čechová | D38: 2011 | E38: ZŠ Kamenka Čelákovice
B39: Mladší žákyně výška | C39: Svasym Sofie | D39: 2011 | E39: ZŠ Kamenka Čelákovice
B40: Mladší žákyně výška | C40: Skuhravá Barbora | D40: 2011 | E40: ZŠ Komenského Čelákovice
B41: Mladší žákyně výška | C41: Bohuslavová Beáta | D41: 2011 | E41: ZŠ Komenského Čelákovice
B42: Mladší žákyně výška | C42: Bystroňová Stela | D42: 2010 | E42: ZŠ a MŠ Nehvizdy
B43: Mladší žákyně výška | C43: Drietomská Adéla | D43: 2010 | E43: ZŠ a MŠ Nehvizdy

Sheet A- 60m chlapci 6-7
A3: SPORT | B3: BĚH 60m - CHLAPCI - 6. - 7. TŘÍDA
A4: VÝSLEDKY
A6: POŘADÍ | B6: ŠKOLA | C6: PŘÍJMENÍ A JMÉNO | D6: POČET BODŮ
A7: 1. | B7: =VLOOKUP(C7,#REF!,3,0) -> #REF!
A8: 2. | B8: =VLOOKUP(C8,#REF!,3,0) -> #REF!
A9: 3. | B9: =VLOOKUP(C9,#REF!,3,0) -> #REF!
A10: 4. | B10: =VLOOKUP(C10,#REF!,3,0) -> #REF!
A11: 5. | B11: =VLOOKUP(C11,#REF!,3,0) -> #REF!
A12: 6. | B12: =VLOOKUP(C12,#REF!,3,0) -> #REF!
A13: 7. | B13: =VLOOKUP(C13,#REF!,3,0) -> #REF!
A14: 8. | B14: =VLOOKUP(C14,#REF!,3,0) -> #REF!
A15: 9. | B15: =VLOOKUP(C15,#REF!,3,0) -> #REF!
A16: 10. | B16: =VLOOKUP(C16,#REF!,3,0) -> #REF!
A17: 11. | B17: =VLOOKUP(C17,#REF!,3,0) -> #REF!
A18: 12. | B18: =VLOOKUP(C18,#REF!,3,0) -> #REF!
... A27: 21. | B27: =VLOOKUP(C27,#REF!,3,0) -> #REF!
C30: 60m Chlapci - 6.-7.třída
A31: SEZNAM PŘIHLÁŠENÝCH | C31: Přijmení a jméno | D31: ROK NAROZENÍ | E31: ŠKOLA | F31: dráha | G31: rozběh | H31: čas
B32: Mladší žáci 60m běh | C32: Humanets Vladyslav | D32: 2010 | E32: ZŠ a MŠ Nehvizdy | F32: 2 | G32: 2 | H32: 8.39
B33: Mladší žáci 60m běh | C33: Durdynets Dominik | D33: 2011 | E33: MILLS Čelákovice | F33: 1 | G33: 2 | H33: 8.46
B34: Mladší žáci 60m běh | C34: Petrtýl Daniel 7.C | D34: 2009 | E34: ZŠ Kamenka Čelákovice | F34: 3 | G34: 1 | H34: 8.59
B35: Mladší žáci 60m běh | C35: ANDREI ANDREI | D35: 2010 | E35: ZŠ Komenského Čelákovice | F35: 5 | G35: 4 | H35: 8.74
B36: Mladší žáci 60m běh | C36: MAREK VÁCLAV | D36: 2011 | E36: ZŠ Komenského Čelákovice | F36: 5 | G36: 1 | H36: 8.87
B37: Mladší žáci 60m běh | C37: Morrone Gabriel | D37: 2011 | E37: ZŠ a MŠ Nehvizdy | F37: 2 | G37: 5 | H37: 8.87
B38: Mladší žáci 60m běh | C38: Chamzatchanov | D38: 2010/2012 | E38: ZŠ Kamenka Čelákovice | F38: 1 | G38: 3 | H38: 8.89
B39: Mladší žáci 60m běh | C39: Fijala Matouš | D39: 2011 | E39: MILLS Čelákovice | F39: 5 | G39: 3 | H39: 9.01
B40: Mladší žáci 60m běh | C40: Pikhart Lukáš | D40: 2010 | E40: ZŠ a MŠ Nehvizdy | F40: 6 | G40: 3 | H40: 9.07
B41: Mladší žáci 60m běh | C41: RICHTER MATYÁŠ | D41: 2010 | E41: ZŠ Komenského Čelákovice | F41: 3 | G41: 3 | H41: 9.08
B42: Mladší žáci 60m běh | C42: Červený Lukáš | D42: 2012 | E42: ZŠ Zeleneč | F42: 4 | G42: 3 | H42: 9.08
B43: Mladší žáci 60m běh | C43: BRŮČEK JAKUB | D43: 2010 | E43: ZŠ Semice | F43: 1 | G43: 1 | H43: 9.15
B44: Mladší žáci 60m běh | C44: Kucherenko Maksim | E44: ZŠ Jirny | F44: 1 | G44: 4 | H44: 9.2
B45: Mladší žáci 60m běh | C45: VYLEŤAL LUKÁŠ | D45: 2010 | E45: ZŠ Semice | F45: 5 | G45: 2 | H45: 9.44
B46: Mladší žáci 60m běh | C46: Kazda Tomáš | D46: 2011 | E46: Gymnázium Brandýs nad Labem | F46: 2 | G46: 4 | H46: 9.5
B47: Mladší žáci 60m běh | C47: Cicoň Timotej | D47: 2010/2012 | E47: ZŠ Kamenka Čelákovice | F47: 4 | G47: 4 | H47: 9.54
B48: Mladší žáci 60m běh | C48: Kýr Matěj | E48: ZŠ Jirny | F48: 3 | G48: 5 | H48: 9.56
B49: Mladší žáci 60m běh | C49: Michalec Mikuláš | D49: 2012 | E49: ZáŠkola Brandýs nad Labem | F49: 2 | G49: 3 | H49: 9.6
B50: Mladší žáci 60m běh | C50: Hudeček Václav | D50: 2011 | E50: Gymnázium Čelákovice | F50: 2 | G50: 1 | H50: 9.7
B51: Mladší žáci 60m běh | C51: Brosch Xavier | D51: 2012 | E51: Gymnázium Brandýs nad Labem | F51: 4 | G51: 2 | H51: 9.7
B52: Mladší žáci 60m běh | C52: Veleta Matyáš | D52: 2011 | E52: ZŠ Zeleneč | F52: 6 | G52: 4 | H52: 9.71
B53: Mladší žáci 60m běh | C53: Kunycja Edgar | D53: 2011 | E53: ZŠ Semice | F53: 3 | G53: 4 | H53: 9.86
B54: Mladší žáci 60m běh | C54: Chadima Jakub | D54: 2011 | E54: MILLS Čelákovice | F54: 1 | G54: 5 | H54: 9.93
B55: Mladší žáci 60m běh | C55: Truhlář Lukáš | D55: 2012 | E55: ZŠ Zeleneč | F55: 6 | G55: 1 | H55: 10.03
B56: Mladší žáci 60m běh | C56: Šebelík David | E56: ZŠ Jirny | F56: 3 | G56: 2 | H56: 10.24
B57: Mladší žáci 60m běh | C57: Krása Viktor | D57: 2012 | E57: Gymnázium Brandýs nad Labem | F57: 4 | G57: 5 | H57: 10.43
C58: Burket Vít | D58: 2011 | E58: Gymnázium Čelákovice | F58: 6 | G58: 2 | H58: 10.49
C59: Mandys Matyáš | D59: 2011 | E59: ZáŠkola Brandýs nad Labem | F59: 4 | G59: 1

Sheet A- 1000m chlapci 6-7
A3: SPORT | B3: BĚH 1000m - CHLAPCI - 6. - 7. TŘÍDA
A4: VÝSLEDKY
A6: POŘADÍ | B6: ŠKOLA | C6: PŘÍJMENÍ A JMÉNO | D6: POČET BODŮ
A7: 1. | B7: =VLOOKUP(C7,C$32:E$50,3,0) -> #N/A
A8: 2. | B8: =VLOOKUP(C8,C$32:E$50,3,0) -> #N/A
A9: 3. | B9: =VLOOKUP(C9,C$32:E$50,3,0) -> #N/A
A10: 4. | B10: =VLOOKUP(C10,C$32:E$50,3,0) -> #N/A
A11: 5. | B11: =VLOOKUP(C11,C$32:E$50,3,0) -> #N/A
A12: 6. | B12: =VLOOKUP(C12,C$32:E$50,3,0) -> #N/A
A13: 7. | B13: =VLOOKUP(C13,C$32:E$50,3,0) -> #N/A
A14: 8. | B14: =VLOOKUP(C14,C$32:E$50,3,0) -> #N/A
A15: 9. | B15: =VLOOKUP(C15,C$32:E$50,3,0) -> #N/A
A16: 10. | B16: =VLOOKUP(C16,C$32:E$50,3,0) -> #N/A
A17: 11. | B17: =VLOOKUP(C17,C$32:E$50,3,0) -> #N/A
A18: 12. | B18: =VLOOKUP(C18,C$32:E$50,3,0) -> #N/A
... A27: 21. | B27: =VLOOKUP(C27,C$32:E$50,3,0) -> #N/A
C30: =B3 -> BĚH 1000m - CHLAPCI - 6. - 7. TŘÍDA
A31: SEZNAM PŘIHLÁŠENÝCH | C31: Přijmení a jméno | D31: ROK NAROZENÍ | E31: ŠKOLA | F31: číslo | G31: čas
B32: Mladší žáci 1000m běh | C32: BRŮČEK JAKUB | D32: 2010 | E32: ZŠ Semice | G32: 3:12,88
B33: Mladší žáci 1000m běh | C33: Červený Lukáš | D33: 2012 | E33: ZŠ Zeleneč | G33: 3:14,12
B34: Mladší žáci 1000m běh | C34: RICHTER MATYÁŠ | D34: 2010 | E34: ZŠ Komenského Čelákovice | G34: 3:14,25
B35: Mladší žáci 1000m běh | C35: KRÁTKÝ LUKÁŠ | D35: 2010 | E35: ZŠ Komenského Čelákovice | G35: 3:20,55
B36: Mladší žáci 1000m běh | C36: Hottek Matěj 7.B | D36: 2010 | E36: ZŠ Kamenka Čelákovice | G36: 3:21,92
B37: Mladší žáci 1000m běh | C37: Telychko Nazar | D37: 2010 | E37: ZŠ a MŠ Nehvizdy | G37: 3:22,70
B38: Mladší žáci 1000m běh | C38: Málek Jiří | D38: 2010 | E38: ZŠ Semice | G38: 3:24,93
B39: Mladší žáci 1000m běh | C39: MRÁZ DENIS | D39: 2010 | E39: ZŠ Komenského Čelákovice | G39: 3:25,49
B40: Mladší žáci 1000m běh | C40: Cicoň Timotej 7.A | D40: 2010 | E40: ZŠ Kamenka Čelákovice | G40: 3:25,79
B41: Mladší žáci 1000m běh | C41: Humanets Vladyslav | D41: 2010 | E41: ZŠ a MŠ Nehvizdy | G41: 3:26,47
B42: Mladší žáci 1000m běh | C42: Holý Lukáš 7.A | D42: 2010 | E42: ZŠ Kamenka Čelákovice | G42: 3:32,58
B43: Mladší žáci 1000m běh | C43: Michal Matyáš | D43: 2010 | E43: ZŠ a MŠ Nehvizdy | G43: 3:39,49
B44: Mladší žáci 1000m běh | C44: David Kryštof | E44: ZŠ Jirny | G44: 3:42,13
B45: Mladší žáci 1000m běh | C45: Steklý Patrik | E45: ZŠ Jirny | G45: 3:42,20
B46: Mladší žáci 1000m běh | C46: Kunycja Edgar | D46: 2010 | E46: ZŠ Semice | G46: 3:48,80
B47: Mladší žáci 1000m běh | C47: Durdynets Dominik | D47: 2011 | E47: MILLS Čelákovice | G47: 3:57,20
B48: Mladší žáci 1000m běh | C48: Stodola Vítek | D48: 2011 | E48: ZáŠkola Brandýs nad Labem | G48: 4:12,21
B49: Mladší žáci 1000m běh | C49: Mandys Matyáš | D49: 2011 | E49: ZáŠkola Brandýs nad Labem | G49: 4:12,49
B50: Mladší žáci 1000m běh | C50: Ruprecht Matěj | D50: 2011 | E50: ZŠ Zeleneč | G50: 4:17,25
B51: Mladší žáci 1000m běh | C51: Michalec Mikuláš | D51: 2012 | E51: ZáŠkola Brandýs nad Labem | G51: 4:20,52
B52: Mladší žáci 1000m běh | C52: Jirků Jonáš | D52: 2010 | E52: Gymnázium Brandýs nad Labem

Sheet A- dálka chlapci 6-7
A3: SPORT | B3: DÁLKA - CHLAPCI - 6. - 7. TŘÍDA
A4: VÝSLEDKY
A6: POŘADÍ | B6: ŠKOLA | C6: PŘÍJMENÍ A JMÉNO | D6: POČET BODŮ
A7: 1. | B7: =VLOOKUP(C7,#REF!,3,0) -> #REF!
A8: 2. | B8: =VLOOKUP(C8,#REF!,3,0) -> #REF!
A9: 3. | B9: =VLOOKUP(C9,#REF!,3,0) -> #REF!
A10: 4. | B10: =VLOOKUP(C10,#REF!,3,0) -> #REF!
A11: 5. | B11: =VLOOKUP(C11,#REF!,3,0) -> #REF!
A12: 6. | B12: =VLOOKUP(C12,#REF!,3,0) -> #REF!
A13: 7. | B13: =VLOOKUP(C13,#REF!,3,0) -> #REF!
A14: 8. | B14: =VLOOKUP(C14,#REF!,3,0) -> #REF!
A15: 9. | B15: =VLOOKUP(C15,#REF!,3,0) -> #REF!
A16: 10. | B16: =VLOOKUP(C16,#REF!,3,0) -> #REF!
A17: 11. | B17: =VLOOKUP(C17,#REF!,3,0) -> #REF!
A18: 12. | B18: =VLOOKUP(C18,#REF!,3,0) -> #REF!
... A27: 21. | B27: =VLOOKUP(C27,#REF!,3,0) -> #REF!
C30: Dálka 6.-7. třída Chlapci
A31: SEZNAM PŘIHLÁŠENÝCH | C31: Přijmení a jméno | D31: ROK NAROZENÍ | E31: ŠKOLA | F31: pokus 1 | G31: pokus 2 | H31: pokus 3
B32: Mladší žáci dálka | C32: BRŮČEK JAKUB | D32: 2010 | E32: ZŠ Semice | I32: 464
B33: Mladší žáci dálka | C33: MAREK VÁCLAV | D33: 2011 | E33: ZŠ Komenského Čelákovice | I33: 452
B34: Mladší žáci dálka | C34: VYLEŤAL LUKÁŠ | D34: 2010 | E34: ZŠ Semice | I34: 450
B35: Mladší žáci dálka | C35: ZAJÍC LUKÁŠ | D35: 2010 | E35: ZŠ Komenského Čelákovice | I35: 442
B36: Mladší žáci dálka | C36: Petrtýl Daniel 7.C | D36: 2009 | E36: ZŠ Kamenka Čelákovice | I36: 429
B37: Mladší žáci dálka | C37: Hottek Matěj 7.B | D37: 2010 | E37: ZŠ Kamenka Čelákovice | I37: 428
B38: Mladší žáci dálka | C38: Durdynets Dominik | D38: 2011 | E38: MILLS Čelákovice | I38: 420
B39: Mladší žáci dálka | C39: Misharin Andriy | D39: 2012 | E39: ZŠ Kamenka Čelákovice | I39: 416
B40: Mladší žáci dálka | C40: Morrone Gabriel | D40: 2011 | E40: ZŠ a MŠ Nehvizdy | I40: 416
B41: Mladší žáci dálka | C41: Chadima Jakub | D41: 2011 | E41: MILLS Čelákovice | I41: 396
B42: Mladší žáci dálka | C42: Pecko Adam | D42: 2010 | E42: ZŠ a MŠ Nehvizdy | I42: 395
B43: Mladší žáci dálka | C43: Michalec Mikuláš | D43: 2012 | E43: ZáŠkola Brandýs nad Labem | I43: 393
... B47: Mladší žáci dálka | C47: Šachl Vojtěch | D47: 2012 | E47: ZŠ Zeleneč | I47: 372
C48: Brosch Xavier | D48: 2012 | E48: Gymnázium Brandýs nad Labem | I48: 368
C49: Krása | D49: 2012 | E49: Gymnázium Brandýs nad Labem | I49: 330

Sheet A- míček chlapci 6-7
A3: SPORT | B3: MÍČEK - CHLAPCI - 6. - 7. TŘÍDA
A4: VÝSLEDKY
A6: POŘADÍ | B6: ŠKOLA | C6: PŘÍJMENÍ A JMÉNO | D6: POČET BODŮ
A7: 1. | B7: =VLOOKUP(C7,#REF!,3,0) -> #REF!
A8: 2. | B8: =VLOOKUP(C8,#REF!,3,0) -> #REF!
A9: 3. | B9: =VLOOKUP(C9,#REF!,3,0) -> #REF!
A10: 4. | B10: =VLOOKUP(C10,#REF!,3,0) -> #REF!
A11: 5. | B11: =VLOOKUP(C11,#REF!,3,0) -> #REF!
A12: 6. | B12: =VLOOKUP(C12,#REF!,3,0) -> #REF!
A13: 7. | B13: =VLOOKUP(C13,#REF!,3,0) -> #REF!
A14: 8. | B14: =VLOOKUP(C14,#REF!,3,0) -> #REF!
A15: 9. | B15: =VLOOKUP(C15,#REF!,3,0) -> #REF!
A16: 10. | B16: =VLOOKUP(C16,#REF!,3,0) -> #REF!
A17: 11. | B17: =VLOOKUP(C17,#REF!,3,0) -> #REF!
A18: 12. | B18: =VLOOKUP(C18,#REF!,3,0) -> #REF!
... A27: 21. | B27: =VLOOKUP(C27,#REF!,3,0) -> #REF!
C30: =B3 -> MÍČEK - CHLAPCI - 6. - 7. TŘÍDA
A31: SEZNAM PŘIHLÁŠENÝCH | C31: Přijmení a jméno | D31: ROK NAROZENÍ | E31: ŠKOLA | F31: pokus 1 | G31: pokus 2 | H31: pokus 3
B32: Mladší žáci míček | C32: Steklý Patrik | E32: ZŠ Jirny | I32: 58.11
B33: Mladší žáci míček | C33: Pecko Adam | D33: 2010 | E33: ZŠ a MŠ Nehvizdy | I33: 52.24
B34: Mladší žáci míček | C34: KRÁTKÝ LUKÁŠ | D34: 2010 | E34: ZŠ Komenského Čelákovice | I34: 51.83
B35: Mladší žáci míček | C35: Kohout Adam | D35: 2011/2011 | E35: ZŠ Kamenka Čelákovice | I35: 50.98
B36: Mladší žáci míček | C36: WEISSGRÁB VOJTĚCH | D36: 2010 | E36: ZŠ Komenského Čelákovice | I36: 48.33
B37: Mladší žáci míček | C37: MAREK VÁCLAV | D37: 2011 | E37: ZŠ Komenského Čelákovice | I37: 47.7
B38: Mladší žáci míček | C38: VYLEŤAL LUKÁŠ | D38: 2010 | E38: ZŠ Semice | I38: 46.64
B39: Mladší žáci míček | C39: Klauda Jakub | D39: 2010 | E39: Gymnázium Čelákovice | I39: 43.91
B40: Mladší žáci míček | C40: Linhart Jakub 7.B | D40: 2010 | E40: ZŠ Kamenka Čelákovice | I40: 42.57
B41: Mladší žáci míček | C41: Humanets Vladyslav | D41: 2010 | E41: ZŠ a MŠ Nehvizdy | I41: 42.04
B42: Mladší žáci míček | C42: Kazda Tomáš | D42: 2011 | E42: Gymnázium Brandýs nad Labem | I42: 41.88
B43: Mladší žáci míček | C43: SERBUS MATOUŠ | D43: 2010 | E43: ZŠ Semice | I43: 41.65
B44: Mladší žáci míček | C44: Ruprecht Matěj | D44: 2011 | E44: ZŠ Zeleneč | I44: 40.39
B45: Mladší žáci míček | C45: Spurný Adam | E45: ZŠ Jirny | I45: 40.08
B46: Mladší žáci míček | C46: Bambas František | D46: 2011 | E46: MILLS Čelákovice | I46: 38
B47: Mladší žáci míček | C47: Červenka Adam | E47: ZŠ Jirny | I47: 37.4
B48: Mladší žáci míček | C48: Burkert Vít | D48: 2011 | E48: Gymnázium Čelákovice | I48: 34.2
B49: Mladší žáci míček | C49: Votroubek Karel | D49: 2011 | E49: Gymnázium Čelákovice | I49: 33.73
B50: Mladší žáci míček | C50: Krása Viktor | D50: 2011 | E50: Gymnázium Brandýs nad Labem | I50: 33.32
B51: Mladší žáci míček | C51: Manhart Matěj | D51: 2011 | E51: ZŠ a MŠ Nehvizdy | I51: 32.65
B52: Mladší žáci míček | C52: Truhlář Lukáš | D52: 2012 | E52: ZŠ Zeleneč | I52: 32.3
B53: Mladší žáci míček | C53: Fijala Matouš | D53: 2011 | E53: MILLS Čelákovice | I53: 32.22
B54: Mladší žáci míček | C54: BENETKA MATĚJ | D54: 2011 | E54: ZŠ Semice | I54: 31.17
B55: Mladší žáci míček | C55: Chadima Jakub | D55: 2010 | E55: MILLS Čelákovice | I55: 30.78
B56: Mladší žáci míček | C56: Šachl Vojtěch | D56: 2011 | E56: ZŠ Zeleneč | I56: 24.69
B57: Mladší žáci míček | C57: Hlaváček Felix Eliáš | D57: 2012 | E57: Gymnázium Čelákovice | I57: 24.13
B58: Mladší žáci míček | C58: Andrei Andrei | D58: 2010 | E58: ZŠ Komenského Čelákovice | I58: 21.1
